- Раздел: Тесты фототехники
- Дата съёмки: 21.02.2015 13:57
- Дата загрузки фото: 21.02.2015 17:07
- Оригинальная фотография: 4608 x 3072 (8,0 Мб)
- Технические характеристики:
- Фотоаппарат: Panasonic DMC-GH3
- Выдержка: 1/60
- Гиперфокальное расстояние: inf m
- Диафрагма: 1,7
- Светочувствительность: 640
- Фокусное расстояние: 15,0 mm (35 mm equivalent: 30,0 mm)
- Экспокоррекция: -1
- Полный EXIF
- Adobe
- ColorTransform: YCbCr
- Composite
- Aperture: 1,7
- CircleOfConfusion: 0,015 mm
- FOV: 61,0 deg
- FocalLength35efl: 15,0 mm (35 mm equivalent: 30,0 mm)
- HyperfocalDistance: inf m
- ScaleFactor35efl: 2,1
- ShutterSpeed: 1/60
- ExifIFD
- ApertureValue: 1,7
- ColorSpace: sRGB
- Contrast: Normal
- CreateDate: 2015:02:21 13:57:09
- CustomRendered: Normal
- DateTimeOriginal: 2015:02:21 13:57:09
- DigitalZoomRatio: 0
- ExifImageHeight: 3072
- ExifImageWidth: 4608
- ExposureCompensation: -1
- ExposureMode: Auto
- ExposureProgram: Aperture-priority AE
- ExposureTime: 1/60
- FNumber: 1,7
- Flash: Off, Did not fire
- FocalLength: 15,0 mm
- FocalLengthIn35mmFormat: 31 mm
- GainControl: High gain up
- ISO: 640
- LensModel: LEICA DG SUMMILUX 15/F1.7
- LensSerialNumber: 14LIC118040N
- LightSource: Unknown
- MaxApertureValue: 1,7
- MeteringMode: Multi-segment
- Saturation: Normal
- SceneCaptureType: Standard
- SceneType: Directly photographed
- SensingMethod: One-chip color area
- Sharpness: Normal
- ShutterSpeedValue: 1/60
- WhiteBalance: Auto
- ICC-header
- ICC-meas
- ICC-view
- IFD0
- Make: Panasonic
- Model: DMC-GH3
- ModifyDate: 2015:02:21 17:06:08
- Orientation: Horizontal (normal)
- IFD1
- IPTC
- DateCreated: 2015:02:21
- System
- XMP-aux
- Lens: LEICA DG SUMMILUX 15/F1.7
- XMP-crs
- AlreadyApplied: True
- AutoLateralCA: 0
- AutoWhiteVersion: 134348800
- Blacks2012: -10
- BlueHue: 0
- BlueSaturation: 0
- CameraProfile: Matrix
- Clarity2012: 0
- ColorNoiseReduction: 25
- ColorNoiseReductionDetail: 50
- ColorNoiseReductionSmoothness: 50
- ColorTemperature: 3500
- Contrast2012: 0
- ConvertToGrayscale: False
- DefringeGreenAmount: 0
- DefringeGreenHueHi: 60
- DefringeGreenHueLo: 40
- DefringePurpleAmount: 0
- DefringePurpleHueHi: 70
- DefringePurpleHueLo: 30
- Exposure2012: -0.15
- GradientBasedCorrActive: true
- GradientBasedCorrAmount: 1.000000
- GradientBasedCorrBrightness: 0.000000
- GradientBasedCorrClarity: 0.000000
- GradientBasedCorrContrast: 0.000000
- GradientBasedCorrExposure: 0.000000
- GradientBasedCorrHue: 0.000000
- GradientBasedCorrMaskFullX: 0.012232
- GradientBasedCorrMaskFullY: 1.001147
- GradientBasedCorrMaskValue: 1.000000
- GradientBasedCorrMaskWhat: Mask/Gradient
- GradientBasedCorrMaskZeroX: 0.077982
- GradientBasedCorrMaskZeroY: 0.639908
- GradientBasedCorrSaturation: 0.000000
- GradientBasedCorrSharpness: 0.000000
- GradientBasedCorrWhat: Correction
- GradientBasedCorrectionsLocalClarity2012: 0.000000
- GradientBasedCorrectionsLocalContrast2012: 0.020000
- GradientBasedCorrectionsLocalDefringe: 0.000000
- GradientBasedCorrectionsLocalExposure2012: -0.212500
- GradientBasedCorrectionsLocalHighlights2012: 0.000000
- GradientBasedCorrectionsLocalLuminanceNoise: 0.000000
- GradientBasedCorrectionsLocalMoire: 0.000000
- GradientBasedCorrectionsLocalShadows2012: 0.150000
- GradientBasedCorrectionsLocalTemperature: 0.000000
- GradientBasedCorrectionsLocalTint: 0.000000
- GrainAmount: 0
- GreenHue: 0
- GreenSaturation: 0
- HasCrop: False
- HasSettings: True
- Highlights2012: -19
- HueAdjustmentAqua: 0
- HueAdjustmentBlue: 0
- HueAdjustmentGreen: 0
- HueAdjustmentMagenta: 0
- HueAdjustmentOrange: 0
- HueAdjustmentPurple: 0
- HueAdjustmentRed: 0
- HueAdjustmentYellow: 0
- LensManualDistortionAmount: 0
- LensProfileEnable: 0
- LensProfileSetup: LensDefaults
- LuminanceAdjustmentAqua: 0
- LuminanceAdjustmentBlue: 0
- LuminanceAdjustmentGreen: 0
- LuminanceAdjustmentMagenta: 0
- LuminanceAdjustmentOrange: 0
- LuminanceAdjustmentPurple: 0
- LuminanceAdjustmentRed: 0
- LuminanceAdjustmentYellow: 0
- LuminanceSmoothing: 0
- ParametricDarks: 0
- ParametricHighlightSplit: 75
- ParametricHighlights: 0
- ParametricLights: 0
- ParametricMidtoneSplit: 50
- ParametricShadowSplit: 25
- ParametricShadows: 0
- PerspectiveAspect: 0
- PerspectiveHorizontal: 0
- PerspectiveRotate: 0.0
- PerspectiveScale: 100
- PerspectiveUpright: 0
- PerspectiveVertical: 0
- PostCropVignetteAmount: 0
- ProcessVersion: 6.7
- RawFileName: P1160944.RW2
- RedHue: 0
- RedSaturation: 0
- Saturation: 0
- SaturationAdjustmentAqua: 0
- SaturationAdjustmentBlue: 0
- SaturationAdjustmentGreen: 0
- SaturationAdjustmentMagenta: 0
- SaturationAdjustmentOrange: 0
- SaturationAdjustmentPurple: 0
- SaturationAdjustmentRed: 0
- SaturationAdjustmentYellow: 0
- ShadowTint: 0
- Shadows2012: 0
- SharpenDetail: 25
- SharpenEdgeMasking: 0
- SharpenRadius: +1.0
- Sharpness: 25
- SplitToningBalance: 0
- SplitToningHighlightHue: 0
- SplitToningHighlightSaturation: 0
- SplitToningShadowHue: 0
- SplitToningShadowSaturation: 0
- Tint: +4
- ToneCurveName2012: Linear
- ToneCurvePV2012: 0, 0, 255, 255
- ToneCurvePV2012Blue: 0, 0, 255, 255
- ToneCurvePV2012Green: 0, 0, 255, 255
- ToneCurvePV2012Red: 0, 0, 255, 255
- Version: 8.3
- Vibrance: 0
- VignetteAmount: 0
- WhiteBalance: As Shot
- Whites2012: +38
- XMP-dc
- XMP-xmp
- ModifyDate: 2015:02:21 17:06:08+03:00
- Rating: 0
- XMP-xmpMM
- Просмотров: 476
- Рейтинг: голосов еще нет
- Отзывов: отключены