- Раздел: Отдых, развлечения
- Дата съёмки: 08.06.2011 20:27
- Дата загрузки фото: 06.03.2021 15:37
- Оригинальная фотография: 1200 x 1200 (287 Кб)
- Технические характеристики:
- Фотоаппарат: Canon EOS 30D
- Выдержка: 0,0
- Гиперфокальное расстояние: inf m
- Диафрагма: 2,0
- Светочувствительность: 100
- Фокусное расстояние: 50,0 mm (35 mm equivalent: 50,0 mm)
- Экспокоррекция: -2/3
- Полный EXIF
- Adobe
- ColorTransform: YCbCr
- Composite
- Aperture: 2,0
- CircleOfConfusion: 0,019 mm
- FOV: 39,0 deg
- Flash: Off, Did not fire
- FocalLength35efl: 50,0 mm (35 mm equivalent: 50,0 mm)
- HyperfocalDistance: inf m
- Megapixels: 1,4
- ScaleFactor35efl: 1,6
- ShutterSpeed: 0,0
- ExifIFD
- ApertureValue: 2,0
- ColorSpace: sRGB
- CreateDate: 2011:06:08 20:27:45
- CustomRendered: Normal
- DateTimeOriginal: 2011:06:08 20:27:45
- ExifImageHeight: 1200
- ExifImageWidth: 1200
- ExposureCompensation: 0
- ExposureMode: Auto
- ExposureProgram: Aperture-priority AE
- ExposureTime: 0,0
- FNumber: 2,0
- FocalLength: 50,0 mm
- ISO: 100
- MaxApertureValue: 1,0
- MeteringMode: Multi-segment
- SceneCaptureType: Standard
- ShutterSpeedValue: 1/128
- WhiteBalance: Auto
- ICC-header
- ICC-meas
- ICC-view
- IFD0
- Artist: Yepanchintcev Aleksey
- Make: Canon
- Model: Canon EOS 30D
- ModifyDate: 2011:06:10 16:12:47
- Orientation: Horizontal (normal)
- IFD1
- IPTC
- By-line: Yepanchintcev Aleksey
- System
- XMP-aux
- Firmware: 1.0.5
- FlashCompensation: 0
- ImageNumber: 80
- Lens: EF50mm f/1.4 USM
- LensInfo: 50mm f/?
- OwnerName: Yepanchintcev Aleksey
- SerialNumber: 1630900046
- XMP-crs
- AlreadyApplied: True
- BlueHue: 0
- BlueSaturation: +66
- Brightness: +40
- CameraProfile: ACR 4.4
- ChromaticAberrationB: 0
- ChromaticAberrationR: 0
- Clarity: +26
- ColorNoiseReduction: 34
- ColorNoiseReductionDetail: 50
- ColorTemperature: 6253
- Contrast: +6
- ConvertToGrayscale: False
- CropAngle: 0
- CropBottom: 1
- CropConstrainToWarp: 0
- CropHeight: 2336
- CropLeft: 0.062298
- CropRight: 0.728964
- CropTop: 0
- CropUnit: pixels
- CropWidth: 2336
- Defringe: 0
- Exposure: +0.14
- FillLight: 54
- GrainAmount: 0
- GreenHue: 0
- GreenSaturation: -22
- HasCrop: True
- HasSettings: True
- HighlightRecovery: 34
- HueAdjustmentAqua: +4
- HueAdjustmentBlue: +13
- HueAdjustmentGreen: -14
- HueAdjustmentMagenta: +100
- HueAdjustmentOrange: +27
- HueAdjustmentPurple: +100
- HueAdjustmentRed: -27
- HueAdjustmentYellow: -18
- LensManualDistortionAmount: 0
- LensProfileEnable: 0
- LensProfileSetup: LensDefaults
- LuminanceAdjustmentAqua: -9
- LuminanceAdjustmentBlue: -21
- LuminanceAdjustmentGreen: +7
- LuminanceAdjustmentMagenta: 0
- LuminanceAdjustmentOrange: +98
- LuminanceAdjustmentPurple: -4
- LuminanceAdjustmentRed: 0
- LuminanceAdjustmentYellow: +52
- LuminanceNoiseReductionContrast: 0
- LuminanceNoiseReductionDetail: 50
- LuminanceSmoothing: 11
- ParametricDarks: -41
- ParametricHighlightSplit: 75
- ParametricHighlights: 0
- ParametricLights: +47
- ParametricMidtoneSplit: 50
- ParametricShadowSplit: 13
- ParametricShadows: -68
- PerspectiveHorizontal: 0
- PerspectiveRotate: 0.0
- PerspectiveScale: 100
- PerspectiveVertical: 0
- PostCropVignetteAmount: 0
- ProcessVersion: 5.7
- RedHue: 0
- RedSaturation: 0
- Saturation: 0
- SaturationAdjustmentAqua: 0
- SaturationAdjustmentBlue: 0
- SaturationAdjustmentGreen: 0
- SaturationAdjustmentMagenta: -25
- SaturationAdjustmentOrange: -16
- SaturationAdjustmentPurple: -16
- SaturationAdjustmentRed: +68
- SaturationAdjustmentYellow: -30
- ShadowTint: 0
- Shadows: 28
- SharpenDetail: 38
- SharpenEdgeMasking: 45
- SharpenRadius: +1.0
- Sharpness: 25
- SplitToningBalance: +100
- SplitToningHighlightHue: 0
- SplitToningHighlightSaturation: 0
- SplitToningShadowHue: 257
- SplitToningShadowSaturation: 26
- Tint: -43
- ToneCurve: 0, 0, 255, 255
- ToneCurveName: Linear
- Version: 6.1
- Vibrance: +20
- VignetteAmount: 0
- WhiteBalance: Custom
- XMP-dc
- Creator: Yepanchintcev Aleksey
- Format: image/jpeg
- XMP-exif
- DateTimeDigitized: 2011:06:08 20:27:45+07:00
- DateTimeOriginal: 2011:06:08 20:27:45+07:00
- ExposureCompensation: -2/3
- ExposureTime: 1/200
- FlashFired: False
- FlashFunction: False
- FlashMode: Off
- FlashRedEyeMode: False
- FlashReturn: No return detection
- MaxApertureValue: 1,4
- ShutterSpeedValue: 1/200
- XMP-tiff
- ImageHeight: 2336
- ImageWidth: 2336
- XMP-xmp
- CreateDate: 2011:06:08 20:27:45+07:00
- ModifyDate: 2011:06:10 16:12:47+07:00
- XMP-xmpMM
- Просмотров: 966
- Рейтинг: голосов еще нет
- Отзывов: 0