- Раздел: Автомобили
- Дата съёмки: неизвестно
- Дата загрузки фото: 30.04.2021 22:31
- Оригинальная фотография: 2560 x 1707 (3,2 Мб)
- Технические характеристики:
- Фотоаппарат: Canon EOS 5DS
- Выдержка: 0,0
- Гиперфокальное расстояние: inf m
- Диафрагма: 5,6
- Светочувствительность: 3200
- Фокусное расстояние: 125,0 mm (35 mm equivalent: 375,0 mm)
- Полный EXIF
- Adobe
- ColorTransform: YCbCr
- Composite
- Aperture: 5,6
- CircleOfConfusion: 0,009 mm
- FOV: 5,0 deg
- FocalLength35efl: 125,0 mm (35 mm equivalent: 375,0 mm)
- HyperfocalDistance: inf m
- LensID: Canon EF 70-200mm f/2.8 L
- Megapixels: 4,4
- ScaleFactor35efl: 3,4
- ShutterSpeed: 0,0
- ExifIFD
- ApertureValue: 4,0
- ColorSpace: sRGB
- CreateDate: 2021:04:29 19:31:34
- CustomRendered: Normal
- DateTimeOriginal: 2021:04:29 19:31:34
- ExposureCompensation: 0
- ExposureMode: Manual
- ExposureProgram: Manual
- ExposureTime: 0,0
- FNumber: 5,6
- Flash: Off, Did not fire
- FocalLength: 125,0 mm
- ISO: 3200
- LensInfo: 70-200mm f/?
- LensModel: EF70-200mm f/2.8L USM
- LensSerialNumber: 0000000000
- MaxApertureValue: 2,8
- MeteringMode: Multi-segment
- OwnerName: Pantyhose_man
- RecommendedExposureIndex: 3200
- SceneCaptureType: Standard
- SensitivityType: Recommended Exposure Index
- SerialNumber: 053021001375
- ShutterSpeedValue: 1/512
- WhiteBalance: Auto
- ICC-header
- ICC-meas
- ICC-view
- IFD0
- Artist: Pantyhose_man
- Copyright: Copyright2021
- Make: Canon
- Model: Canon EOS 5DS
- ModifyDate: 2021:04:30 21:50:05
- IFD1
- IPTC
- By-line: Pantyhose_man
- CopyrightNotice: Copyright2021
- DateCreated: 2021:04:29
- System
- XMP-aux
- ApproximateFocusDistance: 4294967295
- Firmware: 1.1.3
- FlashCompensation: 0
- ImageNumber: 0
- Lens: EF70-200mm f/2.8L USM
- LensID: 165
- XMP-crs
- AlreadyApplied: True
- AutoLateralCA: 0
- Blacks2012: -7
- BlueHue: 0
- BlueSaturation: 0
- CameraProfile: Camera Standard
- Clarity2012: 0
- ColorGradeBlending: 50
- ColorGradeGlobalHue: 0
- ColorGradeGlobalLum: 0
- ColorGradeGlobalSat: 0
- ColorGradeHighlightLum: 0
- ColorGradeMidtoneHue: 0
- ColorGradeMidtoneLum: 0
- ColorGradeMidtoneSat: 0
- ColorGradeShadowLum: 0
- ColorNoiseReduction: 25
- ColorNoiseReductionDetail: 50
- ColorNoiseReductionSmoothness: 50
- ColorTemperature: 5700
- Contrast2012: +6
- ConvertToGrayscale: False
- CropAngle: 0
- CropBottom: 1
- CropConstrainToWarp: 0
- CropLeft: 0
- CropRight: 1
- CropTop: 0
- DefringeGreenAmount: 0
- DefringeGreenHueHi: 60
- DefringeGreenHueLo: 40
- DefringePurpleAmount: 0
- DefringePurpleHueHi: 70
- DefringePurpleHueLo: 30
- Dehaze: +15
- Exposure2012: +0.32
- GrainAmount: 0
- GreenHue: 0
- GreenSaturation: 0
- HasCrop: False
- HasSettings: True
- Highlights2012: -62
- HueAdjustmentAqua: 0
- HueAdjustmentBlue: 0
- HueAdjustmentGreen: 0
- HueAdjustmentMagenta: 0
- HueAdjustmentOrange: 0
- HueAdjustmentPurple: 0
- HueAdjustmentRed: 0
- HueAdjustmentYellow: 0
- LensManualDistortionAmount: 0
- LensProfileEnable: 0
- LuminanceAdjustmentAqua: 0
- LuminanceAdjustmentBlue: 0
- LuminanceAdjustmentGreen: 0
- LuminanceAdjustmentMagenta: 0
- LuminanceAdjustmentOrange: 0
- LuminanceAdjustmentPurple: 0
- LuminanceAdjustmentRed: 0
- LuminanceAdjustmentYellow: 0
- LuminanceNoiseReductionContrast: 18
- LuminanceNoiseReductionDetail: 50
- LuminanceSmoothing: 18
- OverrideLookVignette: False
- ParametricDarks: 0
- ParametricHighlightSplit: 75
- ParametricHighlights: 0
- ParametricLights: 0
- ParametricMidtoneSplit: 50
- ParametricShadowSplit: 25
- ParametricShadows: 0
- PerspectiveAspect: 0
- PerspectiveHorizontal: 0
- PerspectiveRotate: 0.0
- PerspectiveScale: 100
- PerspectiveUpright: 1
- PerspectiveVertical: 0
- PerspectiveX: 0.00
- PerspectiveY: 0.00
- PostCropVignetteAmount: 0
- ProcessVersion: 11.0
- RawFileName: IMGL4467.CR2
- RedHue: 0
- RedSaturation: 0
- Saturation: +5
- SaturationAdjustmentAqua: 0
- SaturationAdjustmentBlue: 0
- SaturationAdjustmentGreen: 0
- SaturationAdjustmentMagenta: 0
- SaturationAdjustmentOrange: 0
- SaturationAdjustmentPurple: 0
- SaturationAdjustmentRed: 0
- SaturationAdjustmentYellow: 0
- ShadowTint: 0
- Shadows2012: +45
- SharpenDetail: 25
- SharpenEdgeMasking: 0
- SharpenRadius: +1.0
- Sharpness: 40
- SplitToningBalance: 0
- SplitToningHighlightHue: 0
- SplitToningHighlightSaturation: 0
- SplitToningShadowHue: 0
- SplitToningShadowSaturation: 0
- Texture: 0
- Tint: +9
- ToneCurveName2012: Linear
- ToneCurvePV2012: 0, 0, 255, 255
- ToneCurvePV2012Blue: 0, 0, 255, 255
- ToneCurvePV2012Green: 0, 0, 255, 255
- ToneCurvePV2012Red: 0, 0, 255, 255
- Version: 13.0
- Vibrance: +20
- VignetteAmount: 0
- WhiteBalance: As Shot
- Whites2012: +25
- XMP-dc
- Creator: Pantyhose_man
- Format: image/jpeg
- Rights: Copyright2021
- XMP-exifEX
- XMP-xmp
- CreateDate: 2021:04:29 19:31:34.00+04:00
- ModifyDate: 2021:04:30 21:50:05+03:00
- XMP-xmpMM
- PreservedFileName: IMGL4467.CR2
- Просмотров: 57
- Рейтинг: голосов еще нет
- Отзывов: 0