- Раздел: Тесты фототехники
- Дата съёмки: 12.05.2008 21:55
- Дата загрузки фото: 12.05.2008 23:39
- Оригинальная фотография: 3000 x 1996 (1,9 Мб)
- Технические характеристики:
- Фотоаппарат: Nikon D3
- Выдержка: 1/125
- Гиперфокальное расстояние: 91,73 m
- Диафрагма: 4,0
- Светочувствительность: 8000
- Фокусное расстояние: 105,0mm (35mm эквивалент: 105,0mm)
- Полный EXIF
- Adobe
- ColorTransform: YCbCr
- Composite
- Aperture: 4,0
- CircleOfConfusion: 0,030 mm
- FocalLength35efl: 105,0mm (35mm equivalent: 105,0mm)
- HyperfocalDistance: 91,73 m
- LightValue: 4,6
- ScaleFactor35efl: 1,0
- ShutterSpeed: 1/125
- ExifIFD
- ApertureValue: 4,0
- CFAPattern: [Red,Green][Green,Blue]
- ColorSpace: sRGB
- Contrast: Normal
- CreateDate: 2008:05:12 19:56:47
- CustomRendered: Normal
- DateTimeOriginal: 2008:05:12 19:56:47
- DigitalZoomRatio: 1
- ExifImageLength: 1996
- ExifImageWidth: 3000
- ExposureCompensation: 0
- ExposureMode: Auto
- ExposureProgram: Aperture-priority AE
- ExposureTime: 1/125
- FNumber: 4,0
- Flash: No Flash
- FocalLength: 105,0mm
- FocalLengthIn35mmFormat: 105mm
- GainControl: High gain up
- ISO: 8000
- LightSource: Unknown (0)
- MaxApertureValue: 3,0
- MeteringMode: Multi-segment
- Saturation: Normal
- SceneCaptureType: Standard
- SceneType: Directly photographed
- SensingMethod: One-chip color area
- Sharpness: Normal
- ShutterSpeedValue: 1/125
- UserComment: LOPTAR
- WhiteBalance: Auto
- ICC-header
- ICC-meas
- ICC-view
- IFD0
- Make: NIKON CORPORATION
- Model: NIKON D3
- ModifyDate: 2008:05:12 21:55:49
- Orientation: Horizontal (normal)
- IFD1
- IPTC
- XMP-aux
- ImageNumber: 2562
- Lens: 105.0 mm f/2.8
- LensInfo: 1050/10 1050/10 28/10 28/10
- XMP-crs
- AlreadyApplied: True
- BlueHue: 0
- BlueSaturation: 0
- Brightness: +18
- CameraProfile: ACR 4.4
- ChromaticAberrationB: 0
- ChromaticAberrationR: 0
- Clarity: 0
- ColorNoiseReduction: 0
- Contrast: +10
- ConvertToGrayscale: False
- Defringe: 0
- Exposure: 0.00
- FillLight: 0
- GreenHue: 0
- GreenSaturation: +9
- HasCrop: False
- HasSettings: True
- HighlightRecovery: 25
- HueAdjustmentAqua: 0
- HueAdjustmentBlue: 0
- HueAdjustmentGreen: 0
- HueAdjustmentMagenta: 0
- HueAdjustmentOrange: 0
- HueAdjustmentPurple: 0
- HueAdjustmentRed: 0
- HueAdjustmentYellow: 0
- LuminanceAdjustmentAqua: 0
- LuminanceAdjustmentBlue: 0
- LuminanceAdjustmentGreen: 0
- LuminanceAdjustmentMagenta: 0
- LuminanceAdjustmentOrange: 0
- LuminanceAdjustmentPurple: 0
- LuminanceAdjustmentRed: 0
- LuminanceAdjustmentYellow: 0
- LuminanceSmoothing: 0
- ParametricDarks: 0
- ParametricHighlightSplit: 75
- ParametricHighlights: 0
- ParametricLights: 0
- ParametricMidtoneSplit: 50
- ParametricShadowSplit: 25
- ParametricShadows: 0
- RawFileName: _DSC2509.NEF
- RedHue: 0
- RedSaturation: +12
- Saturation: 0
- SaturationAdjustmentAqua: 0
- SaturationAdjustmentBlue: 0
- SaturationAdjustmentGreen: 0
- SaturationAdjustmentMagenta: 0
- SaturationAdjustmentOrange: 0
- SaturationAdjustmentPurple: 0
- SaturationAdjustmentRed: 0
- SaturationAdjustmentYellow: 0
- ShadowTint: 0
- Shadows: 5
- SharpenDetail: 25
- SharpenEdgeMasking: 0
- SharpenRadius: +0.7
- Sharpness: 0
- SplitToningBalance: 0
- SplitToningHighlightHue: 0
- SplitToningHighlightSaturation: 0
- SplitToningShadowHue: 0
- SplitToningShadowSaturation: 0
- Temperature: 3500
- Tint: -23
- ToneCurve: 0, 0, 255, 255
- ToneCurveName: Linear
- Version: 4.4.1
- Vibrance: 0
- VignetteAmount: 0
- WhiteBalance: Custom
- XMP-dc
- XMP-exif
- DateTimeDigitized: 2008:05:12 19:56:47.63+03:00
- DateTimeOriginal: 2008:05:12 19:56:47.63+03:00
- FlashFired: False
- FlashFunction: False
- FlashMode: Unknown
- FlashRedEyeMode: False
- FlashReturn: No return detection
- FocalLengthIn35mmFormat: 105
- SubjectDistanceRange: Unknown
- XMP-tiff
- XMP-xmp
- CreateDate: 2008:05:12 21:55:49+03:00
- ModifyDate: 2008:05:12 21:55:49+03:00
- Rating: 0
- XMP-xmpMM
- DerivedFrom:
- Просмотров: 301
- Рейтинг: голосов еще нет
- Отзывов: отключены