- Раздел: Животные
- Дата съёмки: 05.10.2008 21:29
- Дата загрузки фото: 18.01.2009 16:05
- Оригинальная фотография: 1067 x 1600 (219 Кб)
- Технические характеристики:
- Фотоаппарат: Canon EOS 40D
- Выдержка: 1/160
- Гиперфокальное расстояние: 336,84 m
- Диафрагма: 5,6
- Светочувствительность: 640
- Фокусное расстояние: 120,0 mm (35 mm equivalent: 472,3 mm)
- Полный EXIF
- Adobe
- ColorTransform: YCbCr
- Composite
- Aperture: 5,6
- CircleOfConfusion: 0,008 mm
- FOV: 4,0 deg
- FocalLength35efl: 120,0 mm (35 mm equivalent: 472,3 mm)
- HyperfocalDistance: 336,84 m
- ScaleFactor35efl: 3,9
- ShutterSpeed: 1/160
- ExifIFD
- ApertureValue: 5,6
- ColorSpace: Uncalibrated
- CreateDate: 2008:10:05 14:05:44
- CustomRendered: Normal
- DateTimeOriginal: 2008:10:05 14:05:44
- ExifImageHeight: 1600
- ExifImageWidth: 1067
- ExposureCompensation: 0
- ExposureMode: Auto
- ExposureProgram: Aperture-priority AE
- ExposureTime: 1/160
- FNumber: 5,6
- Flash: Off
- FocalLength: 120,0 mm
- ISO: 640
- MaxApertureValue: 4,6
- MeteringMode: Multi-segment
- SceneCaptureType: Standard
- ShutterSpeedValue: 1/160
- WhiteBalance: Auto
- IFD0
- Artist: VT
- Copyright: (C) 2008 Vasiliy Timofeyev
- ImageDescription: Голуби в Парке Победы
- Make: Canon
- Model: Canon EOS 40D
- ModifyDate: 2008:10:05 21:29:45
- Orientation: Horizontal (normal)
- IFD1
- IPTC
- By-line: VT
- Caption-Abstract: Ãîëóáè â Ïà ðêå Ïîáåäû
- City: Ñà ГГЄГІ-Ïåòåðáóðã
- CopyrightNotice: (C) 2008 Vasiliy Timofeyev
- Country-PrimaryLocationName: Ðîññèÿ
- Keywords: ãîëóáü, ГЇГІГЁГ¶Г
- ObjectName: Ãîëóáü
- XMP-aux
- Firmware: 1.0.8
- FlashCompensation: 0
- ImageNumber: 0
- Lens: EF70-300mm f/4-5.6 IS USM
- LensInfo: 70/1 300/1 0/0 0/0
- OwnerName: VT
- SerialNumber: 910505676
- XMP-crs
- AlreadyApplied: True
- BlueHue: 0
- BlueSaturation: 0
- Brightness: +50
- CameraProfile: Camera Standard beta 1
- ChromaticAberrationB: 0
- ChromaticAberrationR: 0
- Clarity: +20
- ColorNoiseReduction: 25
- Contrast: +25
- ConvertToGrayscale: False
- CropAngle: 0
- CropBottom: 1
- CropHeight: 3
- CropLeft: 0.257692
- CropRight: 0.702137
- CropTop: 0
- CropUnit: 3
- CropWidth: 2
- Defringe: 0
- Exposure: +0.25
- FillLight: 0
- GreenHue: 0
- GreenSaturation: 0
- HasCrop: True
- HasSettings: True
- HighlightRecovery: 0
- HueAdjustmentAqua: 0
- HueAdjustmentBlue: 0
- HueAdjustmentGreen: 0
- HueAdjustmentMagenta: 0
- HueAdjustmentOrange: 0
- HueAdjustmentPurple: 0
- HueAdjustmentRed: 0
- HueAdjustmentYellow: 0
- LuminanceAdjustmentAqua: 0
- LuminanceAdjustmentBlue: 0
- LuminanceAdjustmentGreen: 0
- LuminanceAdjustmentMagenta: 0
- LuminanceAdjustmentOrange: 0
- LuminanceAdjustmentPurple: 0
- LuminanceAdjustmentRed: 0
- LuminanceAdjustmentYellow: 0
- LuminanceSmoothing: 60
- ParametricDarks: 0
- ParametricHighlightSplit: 75
- ParametricHighlights: 0
- ParametricLights: 0
- ParametricMidtoneSplit: 50
- ParametricShadowSplit: 25
- ParametricShadows: 0
- PostCropVignetteAmount: 0
- RawFileName: 20081005 - Голуби - Московский Парк Победы - 06.CR2
- RedHue: 0
- RedSaturation: 0
- Saturation: +20
- SaturationAdjustmentAqua: 0
- SaturationAdjustmentBlue: 0
- SaturationAdjustmentGreen: 0
- SaturationAdjustmentMagenta: 0
- SaturationAdjustmentOrange: 0
- SaturationAdjustmentPurple: 0
- SaturationAdjustmentRed: 0
- SaturationAdjustmentYellow: 0
- ShadowTint: 0
- Shadows: 5
- SharpenDetail: 60
- SharpenEdgeMasking: 0
- SharpenRadius: +1.0
- Sharpness: 89
- SplitToningBalance: 0
- SplitToningHighlightHue: 0
- SplitToningHighlightSaturation: 0
- SplitToningShadowHue: 0
- SplitToningShadowSaturation: 0
- Temperature: 4650
- Tint: +11
- ToneCurve: 0, 0, 32, 22, 64, 56, 128, 128, 192, 196, 255, 255
- ToneCurveName: Medium Contrast
- Version: 4.5
- Vibrance: +20
- VignetteAmount: 0
- WhiteBalance: As Shot
- XMP-dc
- Creator: VT
- Description: Голуби в Парке Победы
- Format: image/jpeg
- Rights: (C) 2008 Vasiliy Timofeyev
- Subject: голубь, птица
- Title: Голубь
- XMP-exif
- ColorSpace: Unknown (-1)
- DateTimeDigitized: 2008:10:05 14:05:44.93+04:00
- DateTimeOriginal: 2008:10:05 14:05:44.93+04:00
- FlashFired: False
- FlashFunction: False
- FlashMode: Off
- FlashRedEyeMode: False
- FlashReturn: No return detection
- XMP-iptcCore
- Location: Московский Парк Победы
- XMP-tiff
- XMP-xmp
- CreateDate: 2008:10:05 21:29:45+04:00
- ModifyDate: 2008:10:05 21:29:45+04:00
- Rating: 1
- XMP-xmpMM
- DerivedFrom:
- PreservedFileName: _MG_7908.CR2
- XMP-xmpRights
- Просмотров: 185
- Рейтинг: голосов еще нет
- Отзывов: 0