- Раздел: Другое, разное
- Дата съёмки: 17.04.2009 15:17
- Дата загрузки фото: 18.04.2009 01:12
- Оригинальная фотография: 450 x 675 (199 Кб)
- Технические характеристики:
- Фотоаппарат: Canon EOS 450D
- Выдержка: 1/100
- Гиперфокальное расстояние: 613,01 m
- Диафрагма: 4,5
- Светочувствительность: 100
- Фокусное расстояние: 90,0 mm (35 mm equivalent: 920,9 mm)
- Экспокоррекция: -1
- Полный EXIF
- Adobe
- ColorTransform: YCbCr
- Composite
- Aperture: 4,5
- CircleOfConfusion: 0,003 mm
- FOV: 2,0 deg
- FocalLength35efl: 90,0 mm (35 mm equivalent: 920,9 mm)
- HyperfocalDistance: 613,01 m
- ScaleFactor35efl: 10,2
- ShutterSpeed: 1/100
- ExifIFD
- ApertureValue: 4,5
- ColorSpace: sRGB
- CreateDate: 2009:04:17 15:17:00
- CustomRendered: Normal
- DateTimeOriginal: 2009:04:17 15:17:00
- ExifImageHeight: 675
- ExifImageWidth: 450
- ExposureCompensation: -1
- ExposureMode: Auto
- ExposureProgram: Aperture-priority AE
- ExposureTime: 1/100
- FNumber: 4,5
- Flash: Off
- FocalLength: 90,0 mm
- ISO: 100
- MaxApertureValue: 4,6
- MeteringMode: Multi-segment
- SceneCaptureType: Standard
- ShutterSpeedValue: 1/100
- WhiteBalance: Auto
- ICC-header
- ICC-meas
- ICC-view
- IFD0
- Make: Canon
- Model: Canon EOS 450D
- ModifyDate: 2009:04:18 00:11:04
- Orientation: Horizontal (normal)
- IFD1
- IPTC
- XMP-aux
- Firmware: 1.0.9
- FlashCompensation: 0
- ImageNumber: 0
- Lens: EF-S55-250mm f/4-5.6 IS
- LensInfo: 55/1 250/1 0/0 0/0
- SerialNumber: 980397874
- XMP-crs
- AlreadyApplied: True
- BlueHue: 0
- BlueSaturation: 0
- Brightness: +3
- ChromaticAberrationB: 0
- ChromaticAberrationR: 0
- Clarity: 0
- ColorNoiseReduction: 100
- Contrast: +15
- ConvertToGrayscale: False
- Defringe: 0
- Exposure: +1.15
- FillLight: 10
- GreenHue: 0
- GreenSaturation: 0
- HasCrop: False
- HasSettings: True
- HighlightRecovery: 0
- HueAdjustmentAqua: 0
- HueAdjustmentBlue: 0
- HueAdjustmentGreen: 0
- HueAdjustmentMagenta: 0
- HueAdjustmentOrange: 0
- HueAdjustmentPurple: 0
- HueAdjustmentRed: 0
- HueAdjustmentYellow: 0
- LuminanceAdjustmentAqua: 0
- LuminanceAdjustmentBlue: 0
- LuminanceAdjustmentGreen: 0
- LuminanceAdjustmentMagenta: 0
- LuminanceAdjustmentOrange: 0
- LuminanceAdjustmentPurple: 0
- LuminanceAdjustmentRed: 0
- LuminanceAdjustmentYellow: 0
- LuminanceSmoothing: 100
- ParametricDarks: -11
- ParametricHighlightSplit: 75
- ParametricHighlights: +58
- ParametricLights: -6
- ParametricMidtoneSplit: 50
- ParametricShadowSplit: 25
- ParametricShadows: -58
- PostCropVignetteAmount: 0
- RedHue: 0
- RedSaturation: 0
- Saturation: 0
- SaturationAdjustmentAqua: +50
- SaturationAdjustmentBlue: +58
- SaturationAdjustmentGreen: +10
- SaturationAdjustmentMagenta: 0
- SaturationAdjustmentOrange: +13
- SaturationAdjustmentPurple: +23
- SaturationAdjustmentRed: 0
- SaturationAdjustmentYellow: +23
- ShadowTint: 0
- Shadows: 5
- SharpenDetail: 25
- SharpenEdgeMasking: 35
- SharpenRadius: +1.0
- Sharpness: 73
- SplitToningBalance: 0
- SplitToningHighlightHue: 0
- SplitToningHighlightSaturation: 0
- SplitToningShadowHue: 0
- SplitToningShadowSaturation: 0
- Temperature: 5500
- Tint: +10
- ToneCurve: 0, 0, 255, 255
- ToneCurveName: Linear
- Version: 5.3
- Vibrance: 0
- VignetteAmount: -100
- VignetteMidpoint: 28
- WhiteBalance: Daylight
- XMP-dc
- XMP-exif
- DateTimeDigitized: 2009:04:17 15:17:00.33+03:00
- DateTimeOriginal: 2009:04:17 15:17:00.33+03:00
- FlashFired: False
- FlashFunction: False
- FlashMode: Off
- FlashRedEyeMode: False
- FlashReturn: No return detection
- XMP-tiff
- ImageHeight: 4272
- ImageWidth: 2848
- XMP-xmp
- CreateDate: 2009:04:17 15:17:00.33+03:00
- ModifyDate: 2009:04:18 00:11:04+03:00
- XMP-xmpMM
- Просмотров: 473
- Рейтинг: голосов еще нет
- Отзывов: отключены