- Раздел: Путешествия
- Дата съёмки: 21.07.2009 11:06
- Дата загрузки фото: 01.08.2009 19:24
- Оригинальная фотография: 2448 x 3264 (3,7 Мб)
- Технические характеристики:
- Фотоаппарат: Canon PowerShot S5 IS
- Выдержка: 1/60
- Гиперфокальное расстояние: 2,69 m
- Диафрагма: 2,7
- Светочувствительность: 200
- Фокусное расстояние: 6,0 mm (35 mm equivalent: 36,3 mm)
- Полный EXIF
- Adobe
- ColorTransform: YCbCr
- Composite
- Aperture: 2,7
- CircleOfConfusion: 0,005 mm
- FOV: 52,0 deg
- FocalLength35efl: 6,0 mm (35 mm equivalent: 36,3 mm)
- HyperfocalDistance: 2,69 m
- ScaleFactor35efl: 6,1
- ShutterSpeed: 1/60
- ExifIFD
- ApertureValue: 2,7
- ColorSpace: sRGB
- CreateDate: 2009:07:18 15:47:37
- CustomRendered: Normal
- DateTimeOriginal: 2009:07:18 15:47:37
- DigitalZoomRatio: 1
- ExifImageHeight: 3264
- ExifImageWidth: 2448
- ExposureCompensation: 0
- ExposureMode: Auto
- ExposureTime: 1/60
- FNumber: 2,7
- Flash: On, Red-eye reduction
- FocalLength: 6,0 mm
- ISO: 200
- MaxApertureValue: 2,7
- MeteringMode: Multi-segment
- SceneCaptureType: Standard
- SensingMethod: One-chip color area
- ShutterSpeedValue: 1/60
- WhiteBalance: Auto
- ICC-header
- ICC-meas
- ICC-view
- IFD0
- Make: Canon
- Model: Canon PowerShot S5 IS
- ModifyDate: 2009:07:21 11:06:49
- Orientation: Horizontal (normal)
- IFD1
- IPTC
- XMP-aux
- Firmware: 1.01
- FlashCompensation: 0
- Lens: 6.0-72.0 mm
- LensInfo: 600/100 7200/100 0/0 0/0
- XMP-crs
- AlreadyApplied: True
- BlueHue: 0
- BlueSaturation: 0
- Brightness: 0
- CameraProfile: Embedded
- ChromaticAberrationB: 0
- ChromaticAberrationR: 0
- Clarity: +46
- ColorNoiseReduction: 0
- Contrast: 0
- ConvertToGrayscale: False
- Defringe: 0
- Exposure: 0.00
- FillLight: 53
- GreenHue: 0
- GreenSaturation: 0
- HasCrop: False
- HasSettings: True
- HighlightRecovery: 100
- HueAdjustmentAqua: 0
- HueAdjustmentBlue: 0
- HueAdjustmentGreen: 0
- HueAdjustmentMagenta: 0
- HueAdjustmentOrange: 0
- HueAdjustmentPurple: 0
- HueAdjustmentRed: 0
- HueAdjustmentYellow: 0
- IncrementalTemperature: 0
- IncrementalTint: 0
- LuminanceAdjustmentAqua: 0
- LuminanceAdjustmentBlue: 0
- LuminanceAdjustmentGreen: 0
- LuminanceAdjustmentMagenta: 0
- LuminanceAdjustmentOrange: 0
- LuminanceAdjustmentPurple: 0
- LuminanceAdjustmentRed: 0
- LuminanceAdjustmentYellow: 0
- LuminanceSmoothing: 0
- ParametricDarks: 0
- ParametricHighlightSplit: 75
- ParametricHighlights: 0
- ParametricLights: 0
- ParametricMidtoneSplit: 50
- ParametricShadowSplit: 25
- ParametricShadows: 0
- PostCropVignetteAmount: 0
- RawFileName: IMG_4775.JPG
- RedHue: 0
- RedSaturation: 0
- Saturation: 0
- SaturationAdjustmentAqua: 0
- SaturationAdjustmentBlue: 0
- SaturationAdjustmentGreen: 0
- SaturationAdjustmentMagenta: 0
- SaturationAdjustmentOrange: 0
- SaturationAdjustmentPurple: 0
- SaturationAdjustmentRed: 0
- SaturationAdjustmentYellow: 0
- ShadowTint: 0
- Shadows: 0
- SharpenDetail: 25
- SharpenEdgeMasking: 0
- SharpenRadius: +1.0
- Sharpness: 0
- SplitToningBalance: 0
- SplitToningHighlightHue: 0
- SplitToningHighlightSaturation: 0
- SplitToningShadowHue: 0
- SplitToningShadowSaturation: 0
- ToneCurve: 0, 0, 255, 255
- ToneCurveName: Linear
- Version: 4.6
- Vibrance: 0
- VignetteAmount: 0
- WhiteBalance: As Shot
- XMP-dc
- XMP-exif
- DateTimeDigitized: 2009:07:18 15:47:37+05:00
- DateTimeOriginal: 2009:07:18 15:47:37+05:00
- FlashFired: True
- FlashFunction: False
- FlashMode: On
- FlashRedEyeMode: True
- FlashReturn: No return detection
- XMP-tiff
- XMP-xmp
- CreateDate: 2009:07:21 11:06:49+05:00
- ModifyDate: 2009:07:21 11:06:49+05:00
- Rating: 0
- XMP-xmpMM
- DerivedFrom:
- Просмотров: 421
- Рейтинг: голосов еще нет
- Отзывов: 0