- Раздел: Другое, разное
- Дата съёмки: 23.04.2009 16:41
- Дата загрузки фото: 06.10.2009 23:41
- Оригинальная фотография: 4672 x 3104 (6,4 Мб)
- Технические характеристики:
- Фотоаппарат: Pentax K20D
- Выдержка: 1/125
- Гиперфокальное расстояние: 0,55 m
- Диафрагма: 13,0
- Светочувствительность: 100
- Фокусное расстояние: 12,0 mm (35 mm equivalent: 18,0 mm)
- Полный EXIF
- Composite
- Aperture: 13,0
- CircleOfConfusion: 0,020 mm
- FOV: 90,0 deg
- FocalLength35efl: 12,0 mm (35 mm equivalent: 18,0 mm)
- HyperfocalDistance: 0,55 m
- ScaleFactor35efl: 1,5
- ShutterSpeed: 1/125
- ExifIFD
- ApertureValue: 13,0
- ColorSpace: Unknown ()
- Contrast: Normal
- CreateDate: 2009:04:23 15:41:31
- CustomRendered: Normal
- DateTimeOriginal: 2009:04:23 15:41:31
- ExifImageHeight: 3104
- ExifImageWidth: 4672
- ExposureCompensation: 0
- ExposureMode: Auto
- ExposureProgram: Aperture-priority AE
- ExposureTime: 1/125
- FNumber: 13,0
- Flash: Off
- FocalLength: 12,0 mm
- FocalLengthIn35mmFormat: 18 mm
- ISO: 100
- MeteringMode: Multi-segment
- Saturation: Normal
- SceneCaptureType: Standard
- SceneType: Directly photographed
- SensingMethod: One-chip color area
- Sharpness: Normal
- ShutterSpeedValue: 1/125
- SubjectDistanceRange: Close
- WhiteBalance: Manual
- ICC-header
- IFD0
- Make: PENTAX
- Model: PENTAX K20D
- ModifyDate: 2009:10:06 23:41:16
- Orientation: Horizontal (normal)
- Software: ACD Systems Digital Imaging
- IFD1
- IPTC
- XMP-aux
- Lens: Tamron 35-90mm F4 AF or various SIGMA models
- LensID: 3 44
- XMP-crs
- AlreadyApplied: True
- BlueHue: 0
- BlueSaturation: 0
- Brightness: -19
- CameraProfile: Embedded
- ChromaticAberrationB: 0
- ChromaticAberrationR: 0
- Clarity: +32
- ColorNoiseReduction: 0
- Contrast: +19
- ConvertToGrayscale: False
- Defringe: 0
- Exposure: -0.42
- FillLight: 0
- GreenHue: 0
- GreenSaturation: 0
- HasCrop: False
- HasSettings: True
- HighlightRecovery: 0
- HueAdjustmentAqua: 0
- HueAdjustmentBlue: 0
- HueAdjustmentGreen: 0
- HueAdjustmentMagenta: 0
- HueAdjustmentOrange: 0
- HueAdjustmentPurple: 0
- HueAdjustmentRed: 0
- HueAdjustmentYellow: 0
- IncrementalTemperature: +41
- IncrementalTint: +25
- LuminanceAdjustmentAqua: 0
- LuminanceAdjustmentBlue: 0
- LuminanceAdjustmentGreen: 0
- LuminanceAdjustmentMagenta: 0
- LuminanceAdjustmentOrange: 0
- LuminanceAdjustmentPurple: 0
- LuminanceAdjustmentRed: 0
- LuminanceAdjustmentYellow: 0
- LuminanceSmoothing: 0
- ParametricDarks: 0
- ParametricHighlightSplit: 75
- ParametricHighlights: 0
- ParametricLights: 0
- ParametricMidtoneSplit: 50
- ParametricShadowSplit: 25
- ParametricShadows: 0
- PostCropVignetteAmount: 0
- RedHue: 0
- RedSaturation: 0
- Saturation: 0
- SaturationAdjustmentAqua: 0
- SaturationAdjustmentBlue: 0
- SaturationAdjustmentGreen: 0
- SaturationAdjustmentMagenta: 0
- SaturationAdjustmentOrange: 0
- SaturationAdjustmentPurple: 0
- SaturationAdjustmentRed: 0
- SaturationAdjustmentYellow: 0
- ShadowTint: 0
- Shadows: 5
- SharpenDetail: 25
- SharpenEdgeMasking: 0
- SharpenRadius: +1.0
- Sharpness: 86
- SplitToningBalance: 0
- SplitToningHighlightHue: 0
- SplitToningHighlightSaturation: 0
- SplitToningShadowHue: 0
- SplitToningShadowSaturation: 0
- ToneCurve: 0, 0, 255, 255
- ToneCurveName: Linear
- Version: 4.6
- Vibrance: +32
- VignetteAmount: 0
- WhiteBalance: Auto
- XMP-dc
- XMP-exif
- ColorSpace: Unknown (0)
- DateTimeDigitized: 2009:04:23 15:41:31.0+3:00
- DateTimeOriginal: 2009:04:23 15:41:31.0+3:00
- FlashFired: False
- FlashFunction: False
- FlashMode: Off
- FlashRedEyeMode: False
- FlashReturn: No return detection
- FocalLengthIn35mmFormat: 18
- XMP-tiff
- ImageHeight: 3104
- ImageWidth: 4672
- XMP-xmp
- CreateDate: 2009:04:23 16:41:31+04:00
- ModifyDate: 2009:04:23 19:43:11.0+3:00
- XMP-xmpMM
- Просмотров: 267
- Рейтинг: голосов еще нет
- Отзывов: 0