» Участники » Father » Белки » Попрошайка.jpg |
Попрошайка.jpg |
Попрошайка.jpg
- Раздел: Животные
- Дата съёмки: 29.01.2007 05:00
- Дата загрузки фото: 14.01.2010 17:53
- Оригинальная фотография: 1000 x 750 (1,2 Мб)
- Технические характеристики:
- Фотоаппарат: FujiFilm FinePix S6500fd
- Выдержка: 1/120
- Гиперфокальное расстояние: 5,86 m
- Диафрагма: 2,8
- Светочувствительность: 400
- Фокусное расстояние: 6,2 mm (35 mm equivalent: 79,5 mm)
- Полный EXIF
- Adobe
- ColorTransform: YCbCr
- Composite
- Aperture: 2,8
- CircleOfConfusion: 0,002 mm
- FOV: 25,0 deg
- FocalLength35efl: 6,2 mm (35 mm equivalent: 79,5 mm)
- HyperfocalDistance: 5,86 m
- ScaleFactor35efl: 12,8
- ShutterSpeed: 1/120
- ExifIFD
- ApertureValue: 2,8
- BrightnessValue: 2,93
- CreateDate: 2007:01:29 05:00:34
- CustomRendered: Normal
- DateTimeOriginal: 2007:01:29 05:00:34
- ExposureCompensation: 0
- ExposureMode: Auto
- ExposureProgram: Program AE
- ExposureTime: 1/120
- FNumber: 2,8
- Flash: Off
- FocalLength: 6,2 mm
- ISO: 400
- LightSource: Unknown
- MaxApertureValue: 2,8
- MeteringMode: Spot
- SceneCaptureType: Standard
- SceneType: Directly photographed
- SensingMethod: One-chip color area
- Sharpness: Normal
- ShutterSpeedValue: 1/120
- SubjectDistanceRange: Unknown
- WhiteBalance: Auto
- ICC-header
- IFD0
- Make: FUJIFILM
- Model: FinePix S6500fd
- ModifyDate: 2007:10:18 13:26:11
- Software: Digital Camera FinePix S6500fd Ver1.00
- TimeZoneOffset: 3 4
- XMP-crs
- AlreadyApplied: True
- BlueHue: 0
- BlueSaturation: 0
- Brightness: 0
- CameraProfile: Embedded
- ChromaticAberrationB: 0
- ChromaticAberrationR: 0
- Clarity: 99
- ColorNoiseReduction: 100
- Contrast: 0
- ConvertToGrayscale: False
- Defringe: 0
- Exposure: -0.33
- FillLight: 0
- GreenHue: 0
- GreenSaturation: 0
- HasCrop: False
- HasSettings: True
- HighlightRecovery: 0
- HueAdjustmentAqua: 0
- HueAdjustmentBlue: 0
- HueAdjustmentGreen: -1
- HueAdjustmentMagenta: 0
- HueAdjustmentOrange: -1
- HueAdjustmentPurple: 0
- HueAdjustmentRed: 0
- HueAdjustmentYellow: +1
- IncrementalTemperature: +10
- IncrementalTint: -6
- LuminanceAdjustmentAqua: 0
- LuminanceAdjustmentBlue: 0
- LuminanceAdjustmentGreen: -62
- LuminanceAdjustmentMagenta: 0
- LuminanceAdjustmentOrange: -11
- LuminanceAdjustmentPurple: 0
- LuminanceAdjustmentRed: 0
- LuminanceAdjustmentYellow: -36
- LuminanceSmoothing: 94
- ParametricDarks: 0
- ParametricHighlightSplit: 75
- ParametricHighlights: 0
- ParametricLights: 0
- ParametricMidtoneSplit: 50
- ParametricShadowSplit: 25
- ParametricShadows: 0
- RedHue: 0
- RedSaturation: 0
- Saturation: +20
- SaturationAdjustmentAqua: 0
- SaturationAdjustmentBlue: 0
- SaturationAdjustmentGreen: +34
- SaturationAdjustmentMagenta: 0
- SaturationAdjustmentOrange: +36
- SaturationAdjustmentPurple: 0
- SaturationAdjustmentRed: 0
- SaturationAdjustmentYellow: +36
- ShadowTint: 0
- Shadows: 8
- SharpenDetail: 41
- SharpenEdgeMasking: 0
- SharpenRadius: +1.0
- Sharpness: 49
- SplitToningBalance: 0
- SplitToningHighlightHue: 0
- SplitToningHighlightSaturation: 0
- SplitToningShadowHue: 0
- SplitToningShadowSaturation: 0
- ToneCurve: 0, 0, 255, 255
- ToneCurveName: Linear
- Version: 1.0
- Vibrance: +20
- VignetteAmount: 0
- WhiteBalance: Custom
- XMP-exif
- DateTimeDigitized: 2007:01:29 05:00:34+03:00
- DateTimeOriginal: 2007:01:29 05:00:34+03:00
- FlashFired: False
- FlashFunction: False
- FlashMode: Off
- FlashRedEyeMode: False
- FlashReturn: No return detection
- XMP-tiff
- ImageHeight: 750
- ImageWidth: 1000
- XMP-xmp
- ModifyDate: 2007:10:18 13:26:11+04:00
- Просмотров: 335
- Рейтинг: голосов еще нет
- Отзывов: 0
Получить код для блога
Вставка фотографии в текущем разрешении |
Вставка миниатюры |
HTML (для вставки в блог):
BBCode (для вставки в форум):
Ссылка на фото:
Ссылка на миниатюру:
- Послать ссылку другу
Комментарии к фотографии |