- Раздел: Другое, разное
- Дата съёмки: 18.06.2005 17:07
- Дата загрузки фото: 10.02.2010 16:42
- Оригинальная фотография: 1400 x 1050 (752 Кб)
- Технические характеристики:
- Фотоаппарат: Canon PowerShot A75
- Выдержка: 1/640
- Гиперфокальное расстояние: 2,33 m
- Диафрагма: 2,8
- Фокусное расстояние: 5,4 mm (35 mm equivalent: 36,3 mm)
- Полный EXIF
- Composite
- Aperture: 2,8
- CircleOfConfusion: 0,004 mm
- FOV: 52,0 deg
- FocalLength35efl: 5,4 mm (35 mm equivalent: 36,3 mm)
- HyperfocalDistance: 2,33 m
- ScaleFactor35efl: 6,7
- ShutterSpeed: 1/640
- ExifIFD
- ApertureValue: 2,8
- CreateDate: 2005:06:18 17:07:51
- CustomRendered: Normal
- DateTimeOriginal: 2005:06:18 17:07:51
- DigitalZoomRatio: 1
- ExifImageHeight: 1050
- ExifImageWidth: 1400
- ExposureCompensation: 0
- ExposureMode: Auto
- ExposureTime: 1/640
- FNumber: 2,8
- Flash: Auto, Did not fire
- FocalLength: 5,4 mm
- MaxApertureValue: 2,8
- MeteringMode: Multi-segment
- SceneCaptureType: Standard
- SensingMethod: One-chip color area
- ShutterSpeedValue: 1/640
- WhiteBalance: Auto
- ICC-header
- ICC-meas
- ICC-view
- IFD0
- Make: Canon
- Model: Canon PowerShot A75
- ModifyDate: 2010:02:10 16:10:18
- Orientation: Horizontal (normal)
- Software: ACD Systems Digital Imaging
- IFD1
- XMP-aux
- Firmware: 1.00
- FlashCompensation: 0
- Lens: 5.4-16.2 mm
- LensInfo: 173/32 519/32 0/0 0/0
- XMP-crs
- AlreadyApplied: True
- BlueHue: 0
- BlueSaturation: 0
- Brightness: 0
- CameraProfile: Embedded
- ChromaticAberrationB: 0
- ChromaticAberrationR: 0
- Clarity: +68
- ColorNoiseReduction: 0
- Contrast: 0
- ConvertToGrayscale: False
- CropAngle: 0.6
- CropBottom: 0.994977
- CropHeight: 1172
- CropLeft: 0.015673
- CropRight: 0.984327
- CropTop: 0.005023
- CropUnit: 0
- CropWidth: 1562
- Defringe: 0
- Exposure: 0.00
- FillLight: 14
- GreenHue: 0
- GreenSaturation: 0
- HasCrop: True
- HasSettings: True
- HighlightRecovery: 4
- HueAdjustmentAqua: 0
- HueAdjustmentBlue: 0
- HueAdjustmentGreen: 0
- HueAdjustmentMagenta: 0
- HueAdjustmentOrange: 0
- HueAdjustmentPurple: 0
- HueAdjustmentRed: 0
- HueAdjustmentYellow: 0
- IncrementalTemperature: 0
- IncrementalTint: 0
- LuminanceAdjustmentAqua: 0
- LuminanceAdjustmentBlue: 0
- LuminanceAdjustmentGreen: 0
- LuminanceAdjustmentMagenta: 0
- LuminanceAdjustmentOrange: 0
- LuminanceAdjustmentPurple: 0
- LuminanceAdjustmentRed: 0
- LuminanceAdjustmentYellow: 0
- LuminanceSmoothing: 0
- ParametricDarks: 0
- ParametricHighlightSplit: 75
- ParametricHighlights: 0
- ParametricLights: 0
- ParametricMidtoneSplit: 50
- ParametricShadowSplit: 25
- ParametricShadows: 0
- PostCropVignetteAmount: 0
- RedHue: 0
- RedSaturation: 0
- Saturation: 0
- SaturationAdjustmentAqua: 0
- SaturationAdjustmentBlue: 0
- SaturationAdjustmentGreen: 0
- SaturationAdjustmentMagenta: 0
- SaturationAdjustmentOrange: 0
- SaturationAdjustmentPurple: 0
- SaturationAdjustmentRed: 0
- SaturationAdjustmentYellow: 0
- ShadowTint: 0
- Shadows: 18
- SharpenDetail: 25
- SharpenEdgeMasking: 0
- SharpenRadius: +1.0
- Sharpness: 0
- SplitToningBalance: 0
- SplitToningHighlightHue: 0
- SplitToningHighlightSaturation: 0
- SplitToningShadowHue: 0
- SplitToningShadowSaturation: 0
- ToneCurve: 0, 0, 255, 255
- ToneCurveName: Linear
- Version: 5.4
- Vibrance: +29
- VignetteAmount: 0
- WhiteBalance: As Shot
- XMP-exif
- DateTimeDigitized: 2005:06:18 17:07:51+04:00
- DateTimeOriginal: 2005:06:18 17:07:51+04:00
- ExifImageHeight: 1172
- ExifImageWidth: 1562
- FlashFired: False
- FlashFunction: False
- FlashMode: Auto
- FlashRedEyeMode: False
- FlashReturn: No return detection
- XMP-tiff
- ImageHeight: 1172
- ImageWidth: 1562
- XMP-xmp
- CreateDate: 2005:06:18 17:07:51+04:00
- ModifyDate: 2010:02:10 09:20:17+03:00
- Просмотров: 358
- Рейтинг: голосов еще нет
- Отзывов: 0