- Раздел: Компьютеры, железо
- Дата съёмки: 25.11.2010 00:40
- Дата загрузки фото: 25.11.2010 01:14
- Оригинальная фотография: 1823 x 1608 (605 Кб)
- Технические характеристики:
- Фотоаппарат: Samsung EX1
- Выдержка: 0,3
- Гиперфокальное расстояние: inf m
- Диафрагма: 1,8
- Светочувствительность: 80
- Фокусное расстояние: 5,0 mm (35 mm equivalent: 20,0 mm)
- Полный EXIF
- Adobe
- ColorTransform: YCbCr
- Composite
- Aperture: 1,8
- CircleOfConfusion: 0,006 mm
- FOV: 83,0 deg
- FocalLength35efl: 5,0 mm (35 mm equivalent: 20,0 mm)
- HyperfocalDistance: inf m
- ScaleFactor35efl: 4,8
- ShutterSpeed: 0,3
- ExifIFD
- ApertureValue: 1,8
- ColorSpace: Uncalibrated
- Contrast: Normal
- DateTimeOriginal: 2010:11:25 00:40:23
- DigitalZoomRatio: 1
- ExifImageHeight: 1608
- ExifImageWidth: 1823
- ExposureCompensation: 0
- ExposureMode: Unknown (4)
- ExposureProgram: Shutter speed priority AE
- ExposureTime: 0,3
- FNumber: 1,8
- Flash: No Flash
- FocalLength: 5,2 mm
- FocalLengthIn35mmFormat: 24 mm
- ISO: 80
- LensInfo: 5.2-15.6mm f/1.8-2.4
- LensModel: Schneider KREUZNACH 3x ZOOM 5.2-15.6mm 1:1.8-2.4 DUAL IS
- LightSource: Unknown
- MeteringMode: Multi-segment
- Saturation: Normal
- SceneCaptureType: Standard
- SensitivityType: Unknown
- SerialNumber: DY049P000000
- Sharpness: Normal
- ShutterSpeedValue: 0,3
- WhiteBalance: Auto
- ICC-header
- IFD0
- BitsPerSample: 8 8 8
- ImageHeight: 2297
- ImageWidth: 2604
- Make: SAMSUNG
- Model: EX1
- ModifyDate: 2010:11:25 00:02:55
- Orientation: Horizontal (normal)
- PhotometricInterpretation: RGB
- PlanarConfiguration: Chunky
- SamplesPerPixel: 3
- IFD1
- IPTC
- DateCreated: 2010:11:25
- System
- XMP-aux
- Firmware: EX1_005291
- Lens: Schneider KREUZNACH 3x ZOOM 5.2-15.6mm 1:1.8-2.4 DUAL IS
- XMP-crs
- AlreadyApplied: True
- BlueHue: 0
- BlueSaturation: 0
- Brightness: +42
- ChromaticAberrationB: 0
- ChromaticAberrationR: 0
- Clarity: 0
- ColorNoiseReduction: 25
- ColorNoiseReductionDetail: 50
- Contrast: +27
- ConvertToGrayscale: False
- CropAngle: 0
- CropBottom: 0.873992
- CropConstrainToWarp: 1
- CropLeft: 0.196413
- CropRight: 0.910333
- CropTop: 0.034585
- Defringe: 0
- Exposure: 0.00
- FillLight: 0
- GrainAmount: 0
- GreenHue: 0
- GreenSaturation: 0
- HasCrop: True
- HasSettings: True
- HighlightRecovery: 25
- HueAdjustmentAqua: 0
- HueAdjustmentBlue: 0
- HueAdjustmentGreen: 0
- HueAdjustmentMagenta: 0
- HueAdjustmentOrange: 0
- HueAdjustmentPurple: 0
- HueAdjustmentRed: 0
- HueAdjustmentYellow: 0
- LensManualDistortionAmount: +27
- LensProfileEnable: 0
- LensProfileSetup: LensDefaults
- LuminanceAdjustmentAqua: 0
- LuminanceAdjustmentBlue: 0
- LuminanceAdjustmentGreen: 0
- LuminanceAdjustmentMagenta: 0
- LuminanceAdjustmentOrange: 0
- LuminanceAdjustmentPurple: 0
- LuminanceAdjustmentRed: 0
- LuminanceAdjustmentYellow: 0
- LuminanceSmoothing: 0
- ParametricDarks: 0
- ParametricHighlightSplit: 75
- ParametricHighlights: 0
- ParametricLights: 0
- ParametricMidtoneSplit: 50
- ParametricShadowSplit: 25
- ParametricShadows: 0
- PerspectiveHorizontal: 0
- PerspectiveRotate: 0.0
- PerspectiveScale: 100
- PerspectiveVertical: 0
- PostCropVignetteAmount: 0
- ProcessVersion: 5.7
- RawFileName: SAM_1617.SRW
- RedHue: 0
- RedSaturation: 0
- Saturation: 0
- SaturationAdjustmentAqua: 0
- SaturationAdjustmentBlue: 0
- SaturationAdjustmentGreen: 0
- SaturationAdjustmentMagenta: 0
- SaturationAdjustmentOrange: 0
- SaturationAdjustmentPurple: 0
- SaturationAdjustmentRed: 0
- SaturationAdjustmentYellow: 0
- ShadowTint: 0
- Shadows: 0
- SharpenDetail: 25
- SharpenEdgeMasking: 0
- SharpenRadius: +1.0
- Sharpness: 25
- SplitToningBalance: 0
- SplitToningHighlightHue: 0
- SplitToningHighlightSaturation: 0
- SplitToningShadowHue: 0
- SplitToningShadowSaturation: 0
- Temperature: 3650
- Tint: +38
- ToneCurve: 0, 0, 32, 22, 64, 56, 128, 128, 192, 196, 255, 255
- ToneCurveName: Medium Contrast
- Version: 6.2
- Vibrance: 0
- VignetteAmount: 0
- WhiteBalance: As Shot
- XMP-dc
- XMP-xmp
- CreateDate: 2010:11:25 00:40:23+02:00
- ModifyDate: 2010:11:25 00:02:55+02:00
- Rating: 0
- XMP-xmpMM
- Просмотров: 787
- Рейтинг: голосов еще нет
- Отзывов: 0