- Раздел: Город
- Дата съёмки: 28.04.2011 03:48
- Дата загрузки фото: 05.07.2011 17:18
- Оригинальная фотография: 1024 x 683 (229 Кб)
- Технические характеристики:
- Фотоаппарат: Canon EOS 40D
- Выдержка: 4,0
- Гиперфокальное расстояние: inf m
- Диафрагма: 7,1
- Светочувствительность: 100
- Фокусное расстояние: 55,0 mm (35 mm equivalent: 330,0 mm)
- Полный EXIF
- Adobe
- ColorTransform: YCbCr
- Composite
- Aperture: 7,1
- CircleOfConfusion: 0,005 mm
- FOV: 6,0 deg
- FocalLength35efl: 55,0 mm (35 mm equivalent: 330,0 mm)
- HyperfocalDistance: inf m
- LightValue: 3,6
- ScaleFactor35efl: 6,1
- ShutterSpeed: 4,0
- ExifIFD
- ApertureValue: 7,1
- ColorSpace: sRGB
- CreateDate: 2011:04:28 03:48:33
- CustomRendered: Normal
- DateTimeOriginal: 2011:04:28 03:48:33
- ExifImageHeight: 683
- ExifImageWidth: 1024
- ExposureCompensation: 0
- ExposureMode: Auto
- ExposureProgram: Program AE
- ExposureTime: 4,0
- FNumber: 7,1
- Flash: Off, Did not fire
- FocalLength: 55,0 mm
- ISO: 100
- MaxApertureValue: 4,0
- MeteringMode: Multi-segment
- SceneCaptureType: Standard
- ShutterSpeedValue: 4,0
- WhiteBalance: Auto
- ICC-header
- ICC-meas
- ICC-view
- IFD0
- Make: Canon
- Model: Canon EOS 40D
- ModifyDate: 2011:05:06 14:19:22
- Orientation: Horizontal (normal)
- IFD1
- IPTC
- System
- XMP-aux
- Firmware: 1.1.1
- FlashCompensation: 0
- ImageNumber: 0
- Lens: EF-S55-250mm f/4-5.6 IS
- LensInfo: 55-250mm f/?
- SerialNumber: 1210710818
- XMP-crs
- AlreadyApplied: True
- BlueHue: 0
- BlueSaturation: 0
- Brightness: +65
- CameraProfile: ACR 3.3
- ChromaticAberrationB: 0
- ChromaticAberrationR: 0
- Clarity: -19
- ColorNoiseReduction: 25
- Contrast: +37
- ConvertToGrayscale: False
- CropAngle: 0.726801
- CropBottom: 1
- CropHeight: 2544
- CropLeft: 0.013486
- CropRight: 0.986514
- CropTop: 0
- CropUnit: pixels
- CropWidth: 3815
- Defringe: 0
- Exposure: +0.14
- FillLight: 31
- GreenHue: 0
- GreenSaturation: 0
- HasCrop: True
- HasSettings: True
- HighlightRecovery: 100
- HueAdjustmentAqua: 0
- HueAdjustmentBlue: 0
- HueAdjustmentGreen: 0
- HueAdjustmentMagenta: 0
- HueAdjustmentOrange: 0
- HueAdjustmentPurple: 0
- HueAdjustmentRed: 0
- HueAdjustmentYellow: 0
- LuminanceAdjustmentAqua: 0
- LuminanceAdjustmentBlue: 0
- LuminanceAdjustmentGreen: 0
- LuminanceAdjustmentMagenta: 0
- LuminanceAdjustmentOrange: +19
- LuminanceAdjustmentPurple: 0
- LuminanceAdjustmentRed: +21
- LuminanceAdjustmentYellow: 0
- LuminanceSmoothing: 0
- ParametricDarks: -15
- ParametricHighlightSplit: 75
- ParametricHighlights: -24
- ParametricLights: +20
- ParametricMidtoneSplit: 50
- ParametricShadowSplit: 25
- ParametricShadows: -20
- PostCropVignetteAmount: 0
- RedHue: 0
- RedSaturation: 0
- Saturation: +7
- SaturationAdjustmentAqua: +8
- SaturationAdjustmentBlue: 0
- SaturationAdjustmentGreen: +20
- SaturationAdjustmentMagenta: 0
- SaturationAdjustmentOrange: -14
- SaturationAdjustmentPurple: 0
- SaturationAdjustmentRed: +7
- SaturationAdjustmentYellow: -10
- ShadowTint: 0
- Shadows: 7
- SharpenDetail: 25
- SharpenEdgeMasking: 0
- SharpenRadius: +1.0
- Sharpness: 34
- SplitToningBalance: 0
- SplitToningHighlightHue: 0
- SplitToningHighlightSaturation: 0
- SplitToningShadowHue: 0
- SplitToningShadowSaturation: 0
- Temperature: 4143
- Tint: -1
- ToneCurve: 0, 0, 32, 22, 64, 56, 128, 128, 192, 196, 255, 255
- ToneCurveName: Medium Contrast
- Version: 4.6
- Vibrance: +14
- VignetteAmount: +19
- VignetteMidpoint: 59
- WhiteBalance: Custom
- XMP-dc
- XMP-exif
- DateTimeDigitized: 2011:04:28 03:48:33.54+04:00
- DateTimeOriginal: 2011:04:28 03:48:33.54+04:00
- FlashFired: False
- FlashFunction: False
- FlashMode: Off
- FlashRedEyeMode: False
- FlashReturn: No return detection
- XMP-tiff
- ImageHeight: 2544
- ImageWidth: 3815
- XMP-x
- XMP-xmp
- CreateDate: 2011:05:06 14:19:22+04:00
- ModifyDate: 2011:05:06 14:19:22+04:00
- XMP-xmpMM
- Просмотров: 393
- Рейтинг: голосов еще нет
- Отзывов: 0