Оксана Сташенко_5589.JPG |
Оксана Сташенко_5589.JPG
- Раздел: Репортаж
- Дата съёмки: 01.08.2009 17:06
- Дата загрузки фото: 31.07.2011 17:38
- Оригинальная фотография: 896 x 1344 (268 Кб)
- Технические характеристики:
- Фотоаппарат: Canon PowerShot A610
- Выдержка: 1/200
- Гиперфокальное расстояние: inf m
- Диафрагма: 4,1
- Фокусное расстояние: 29,0 mm (35 mm equivalent: 551,0 mm)
- Экспокоррекция: +1/3
- Полный EXIF
- Adobe
- ColorTransform: YCbCr
- Composite
- Aperture: 4,1
- CircleOfConfusion: 0,002 mm
- DOF: inf (0,00 m - inf)
- FOV: 3,0 deg
- FocalLength35efl: 29,0 mm (35 mm equivalent: 551,0 mm)
- HyperfocalDistance: inf m
- ScaleFactor35efl: 19,6
- ShutterSpeed: 1/200
- ExifIFD
- ApertureValue: 4,1
- ColorSpace: sRGB
- CreateDate: 2009:08:01 17:06:07
- CustomRendered: Normal
- DateTimeOriginal: 2009:08:01 17:06:07
- DigitalZoomRatio: 2,025
- ExifImageHeight: 1344
- ExifImageWidth: 896
- ExposureCompensation: +1/3
- ExposureMode: Manual
- ExposureTime: 1/200
- FNumber: 4,1
- Flash: Off, Red-eye reduction
- FocalLength: 29,2 mm
- MaxApertureValue: 4,1
- MeteringMode: Multi-segment
- SceneCaptureType: Standard
- SensingMethod: One-chip color area
- ShutterSpeedValue: 1/200
- SubjectDistance: 14,9 m
- WhiteBalance: Auto
- ICC-header
- ICC-meas
- ICC-view
- IFD0
- Make: Canon
- Model: Canon PowerShot A610
- ModifyDate: 2011:06:10 10:49:37
- Orientation: Horizontal (normal)
- IFD1
- IPTC
- DateCreated: 2009:08:01
- System
- XMP-aux
- Firmware: 1.00
- FlashCompensation: 0
- Lens: 7.3-29.2 mm
- LensID: 65535
- LensInfo: 7.3-29.2mm f/?
- XMP-crs
- AlreadyApplied: True
- BlueHue: 0
- BlueSaturation: 0
- Brightness: 0
- CameraProfile: Embedded
- ChromaticAberrationB: 0
- ChromaticAberrationR: 0
- Clarity: +48
- ColorNoiseReduction: 0
- Contrast: 0
- ConvertToGrayscale: False
- Defringe: 0
- Exposure: 0.00
- FillLight: 0
- GrainAmount: 0
- GreenHue: 0
- GreenSaturation: 0
- HasCrop: False
- HasSettings: True
- HighlightRecovery: 0
- HueAdjustmentAqua: 0
- HueAdjustmentBlue: 0
- HueAdjustmentGreen: 0
- HueAdjustmentMagenta: 0
- HueAdjustmentOrange: 0
- HueAdjustmentPurple: 0
- HueAdjustmentRed: 0
- HueAdjustmentYellow: 0
- IncrementalTemperature: 0
- IncrementalTint: 0
- LuminanceAdjustmentAqua: 0
- LuminanceAdjustmentBlue: 0
- LuminanceAdjustmentGreen: 0
- LuminanceAdjustmentMagenta: 0
- LuminanceAdjustmentOrange: 0
- LuminanceAdjustmentPurple: 0
- LuminanceAdjustmentRed: 0
- LuminanceAdjustmentYellow: 0
- LuminanceSmoothing: 0
- ParametricDarks: 0
- ParametricHighlightSplit: 75
- ParametricHighlights: 0
- ParametricLights: 0
- ParametricMidtoneSplit: 50
- ParametricShadowSplit: 25
- ParametricShadows: 0
- PostCropVignetteAmount: 0
- ProcessVersion: 5.7
- RawFileName: IMG_5589.JPG
- RedHue: 0
- RedSaturation: 0
- Saturation: 0
- SaturationAdjustmentAqua: 0
- SaturationAdjustmentBlue: 0
- SaturationAdjustmentGreen: 0
- SaturationAdjustmentMagenta: 0
- SaturationAdjustmentOrange: 0
- SaturationAdjustmentPurple: 0
- SaturationAdjustmentRed: 0
- SaturationAdjustmentYellow: 0
- ShadowTint: 0
- Shadows: 0
- SharpenDetail: 25
- SharpenEdgeMasking: 0
- SharpenRadius: +1.0
- Sharpness: 0
- SplitToningBalance: 0
- SplitToningHighlightHue: 0
- SplitToningHighlightSaturation: 0
- SplitToningShadowHue: 0
- SplitToningShadowSaturation: 0
- ToneCurve: 0, 0, 255, 255
- ToneCurveName: Linear
- Version: 6.0
- Vibrance: +17
- VignetteAmount: 0
- WhiteBalance: As Shot
- XMP-dc
- XMP-xmp
- CreateDate: 2009:08:01 17:06:07+04:00
- ModifyDate: 2011:06:10 10:49:37+04:00
- Rating: 0
- XMP-xmpMM
- DerivedFrom:
- Просмотров: 3016
- Рейтинг: голосов еще нет
- Отзывов: 0
Получить код для блога
Вставка фотографии в текущем разрешении |
Вставка миниатюры |
HTML (для вставки в блог):
BBCode (для вставки в форум):
Ссылка на фото:
Ссылка на миниатюру:
- Послать ссылку другу
Комментарии к фотографии |