- Раздел: Путешествия
- Дата съёмки: 06.09.2011 17:10
- Дата загрузки фото: 13.09.2011 22:40
- Оригинальная фотография: 800 x 1142 (340 Кб)
- Технические характеристики:
- Фотоаппарат: Canon EOS REBEL T2i
- Выдержка: 1/1600
- Гиперфокальное расстояние: inf m
- Диафрагма: 5,6
- Светочувствительность: 100
- Фокусное расстояние: 90,0 mm (35 mm equivalent: 630,0 mm)
- Экспокоррекция: -2/3
- Полный EXIF
- Adobe
- ColorTransform: YCbCr
- Composite
- Aperture: 5,6
- CircleOfConfusion: 0,004 mm
- DOF: inf (0,00 m - inf)
- FOV: 3,0 deg
- FocalLength35efl: 90,0 mm (35 mm equivalent: 630,0 mm)
- HyperfocalDistance: inf m
- ScaleFactor35efl: 7,1
- ShutterSpeed: 1/1600
- ExifIFD
- ApertureValue: 5,6
- ColorSpace: Uncalibrated
- CreateDate: 2011:09:06 17:10:17
- CustomRendered: Normal
- DateTimeOriginal: 2011:09:06 17:10:17
- ExifImageHeight: 1142
- ExifImageWidth: 800
- ExposureCompensation: -2/3
- ExposureMode: Auto
- ExposureProgram: Aperture-priority AE
- ExposureTime: 1/1600
- FNumber: 5,6
- Flash: Off, Did not fire
- FocalLength: 90,0 mm
- ISO: 100
- LensInfo: 18-200mm f/?
- LensModel: EF-S18-200mm f/3.5-5.6 IS
- MaxApertureValue: 5,4
- MeteringMode: Multi-segment
- SceneCaptureType: Standard
- SensitivityType: Unknown
- SerialNumber: 1222502897
- ShutterSpeedValue: 1/1600
- SubjectDistance: 165 m
- WhiteBalance: Auto
- ICC-header
- IFD0
- BitsPerSample: 8 8 8
- ImageHeight: 4932
- ImageWidth: 3456
- Make: Canon
- Model: Canon EOS REBEL T2i
- ModifyDate: 2011:09:13 16:59:12
- Orientation: Horizontal (normal)
- PhotometricInterpretation: RGB
- SamplesPerPixel: 3
- IFD1
- IPTC
- DateCreated: 2011:09:06
- System
- XMP-aux
- ApproximateFocusDistance: 165
- Firmware: 1.0.9
- FlashCompensation: 0
- ImageNumber: 0
- Lens: EF-S18-200mm f/3.5-5.6 IS
- LensID: 50
- XMP-crs
- AlreadyApplied: True
- BlueHue: 0
- BlueSaturation: 0
- Brightness: +135
- ChromaticAberrationB: 0
- ChromaticAberrationR: 0
- Clarity: +95
- ColorNoiseReduction: 25
- ColorNoiseReductionDetail: 50
- Contrast: +33
- ConvertToGrayscale: False
- CropAngle: 0
- CropBottom: 1
- CropConstrainToWarp: 1
- CropLeft: 0
- CropRight: 0.951394
- CropTop: 0
- Defringe: 0
- Exposure: -1.10
- FillLight: 14
- GrainAmount: 0
- GreenHue: 0
- GreenSaturation: 0
- HasCrop: True
- HasSettings: True
- HighlightRecovery: 0
- HueAdjustmentAqua: 0
- HueAdjustmentBlue: 0
- HueAdjustmentGreen: 0
- HueAdjustmentMagenta: 0
- HueAdjustmentOrange: 0
- HueAdjustmentPurple: 0
- HueAdjustmentRed: 0
- HueAdjustmentYellow: 0
- LensManualDistortionAmount: 0
- LensProfileEnable: 0
- LensProfileSetup: LensDefaults
- LuminanceAdjustmentAqua: 0
- LuminanceAdjustmentBlue: 0
- LuminanceAdjustmentGreen: 0
- LuminanceAdjustmentMagenta: 0
- LuminanceAdjustmentOrange: 0
- LuminanceAdjustmentPurple: 0
- LuminanceAdjustmentRed: 0
- LuminanceAdjustmentYellow: 0
- LuminanceSmoothing: 0
- ParametricDarks: 0
- ParametricHighlightSplit: 75
- ParametricHighlights: 0
- ParametricLights: 0
- ParametricMidtoneSplit: 50
- ParametricShadowSplit: 25
- ParametricShadows: 0
- PerspectiveHorizontal: 0
- PerspectiveRotate: 0.0
- PerspectiveScale: 100
- PerspectiveVertical: 0
- PostCropVignetteAmount: +8
- PostCropVignetteFeather: 50
- PostCropVignetteMidpoint: 50
- PostCropVignetteRoundness: 0
- PostCropVignetteStyle: 1
- ProcessVersion: 5.7
- RawFileName: 2011.09.06.17.10.17.CR2
- RedHue: 0
- RedSaturation: 0
- Saturation: 0
- SaturationAdjustmentAqua: 0
- SaturationAdjustmentBlue: 0
- SaturationAdjustmentGreen: 0
- SaturationAdjustmentMagenta: 0
- SaturationAdjustmentOrange: 0
- SaturationAdjustmentPurple: 0
- SaturationAdjustmentRed: 0
- SaturationAdjustmentYellow: 0
- ShadowTint: 0
- Shadows: 6
- SharpenDetail: 25
- SharpenEdgeMasking: 0
- SharpenRadius: +1.0
- Sharpness: 25
- SplitToningBalance: 0
- SplitToningHighlightHue: 0
- SplitToningHighlightSaturation: 0
- SplitToningShadowHue: 0
- SplitToningShadowSaturation: 0
- Temperature: 5850
- Tint: +15
- ToneCurve: 0, 0, 32, 22, 64, 56, 128, 128, 192, 196, 255, 255
- ToneCurveName: Medium Contrast
- Version: 6.3
- Vibrance: 0
- VignetteAmount: 0
- WhiteBalance: As Shot
- XMP-dc
- XMP-xmp
- CreateDate: 2011:09:06 17:10:17.00+04:00
- ModifyDate: 2011:09:13 16:59:12+04:00
- Rating: 0
- XMP-xmpMM
- Просмотров: 74
- Рейтинг: голосов еще нет
- Отзывов: 0