- Раздел: Город
- Дата съёмки: 15.04.2012 14:56
- Дата загрузки фото: 17.04.2012 13:29
- Оригинальная фотография: 3600 x 2400 (2,5 Мб)
- Технические характеристики:
- Фотоаппарат: Sony NEX-5 MD 35-70/3.5
- Выдержка: 1/500
- Диафрагма: 1,0
- Светочувствительность: 200
- Экспокоррекция: +0,3
- Полный EXIF
- Adobe
- ColorTransform: YCbCr
- Composite
- Aperture: 1,0
- ShutterSpeed: 1/500
- ExifIFD
- ApertureValue: 1,0
- BrightnessValue: 3,62
- ColorSpace: sRGB
- Contrast: Normal
- CreateDate: 2012:04:15 14:56:22
- CustomRendered: Normal
- DateTimeOriginal: 2012:04:15 14:56:22
- ExifImageHeight: 2400
- ExifImageWidth: 3600
- ExposureCompensation: +0,3
- ExposureMode: Auto
- ExposureProgram: Aperture-priority AE
- ExposureTime: 1/500
- FNumber: 1,0
- Flash: Off, Did not fire
- ISO: 200
- LensModel: ----
- LightSource: Unknown
- MaxApertureValue: 1,0
- MeteringMode: Multi-segment
- RecommendedExposureIndex: 200
- Saturation: Normal
- SceneCaptureType: Standard
- SceneType: Directly photographed
- SensitivityType: Recommended Exposure Index
- Sharpness: Normal
- ShutterSpeedValue: 1/500
- WhiteBalance: Auto
- ICC-header
- ICC-meas
- ICC-view
- IFD0
- ImageDescription: SONY DSC
- Make: SONY
- Model: NEX-5 MD 35-70/3.5
- ModifyDate: 2012:04:16 11:27:39
- Orientation: Horizontal (normal)
- IFD1
- IPTC
- Caption-Abstract: SONY DSC
- DateCreated: 2012:04:15
- System
- XMP-aux
- XMP-crs
- AlreadyApplied: True
- BlueHue: 0
- BlueSaturation: 0
- Brightness: 0
- ChromaticAberrationB: 0
- ChromaticAberrationR: 0
- Clarity: 0
- ColorNoiseReduction: 25
- ColorNoiseReductionDetail: 50
- Contrast: +44
- ConvertToGrayscale: False
- CropAngle: 0.368664
- CropBottom: 1
- CropConstrainToWarp: 1
- CropHeight: 3
- CropLeft: 0.004605
- CropRight: 0.989079
- CropTop: 0
- CropUnit: Unknown (3)
- CropWidth: 2
- Defringe: 2
- Exposure: +0.35
- FillLight: 0
- GrainAmount: 0
- GreenHue: 0
- GreenSaturation: 0
- HasCrop: True
- HasSettings: True
- HighlightRecovery: 25
- HueAdjustmentAqua: 0
- HueAdjustmentBlue: 0
- HueAdjustmentGreen: 0
- HueAdjustmentMagenta: 0
- HueAdjustmentOrange: 0
- HueAdjustmentPurple: 0
- HueAdjustmentRed: 0
- HueAdjustmentYellow: 0
- LensManualDistortionAmount: 0
- LensProfileEnable: 1
- LensProfileSetup: LensDefaults
- LuminanceAdjustmentAqua: 0
- LuminanceAdjustmentBlue: 0
- LuminanceAdjustmentGreen: 0
- LuminanceAdjustmentMagenta: 0
- LuminanceAdjustmentOrange: 0
- LuminanceAdjustmentPurple: 0
- LuminanceAdjustmentRed: 0
- LuminanceAdjustmentYellow: 0
- LuminanceSmoothing: 0
- ParametricDarks: 0
- ParametricHighlightSplit: 75
- ParametricHighlights: 0
- ParametricLights: 0
- ParametricMidtoneSplit: 50
- ParametricShadowSplit: 25
- ParametricShadows: 0
- PerspectiveHorizontal: 0
- PerspectiveRotate: 0.0
- PerspectiveScale: 100
- PerspectiveVertical: 0
- PostCropVignetteAmount: 0
- ProcessVersion: 5.7
- RawFileName: DSC02000.ARW
- RedHue: 0
- RedSaturation: 0
- Saturation: +5
- SaturationAdjustmentAqua: 0
- SaturationAdjustmentBlue: 0
- SaturationAdjustmentGreen: 0
- SaturationAdjustmentMagenta: 0
- SaturationAdjustmentOrange: 0
- SaturationAdjustmentPurple: 0
- SaturationAdjustmentRed: 0
- SaturationAdjustmentYellow: 0
- ShadowTint: 0
- Shadows: 7
- SharpenDetail: 25
- SharpenEdgeMasking: 0
- SharpenRadius: +0.8
- Sharpness: 30
- SplitToningBalance: 0
- SplitToningHighlightHue: 0
- SplitToningHighlightSaturation: 0
- SplitToningShadowHue: 0
- SplitToningShadowSaturation: 0
- Temperature: 5500
- Tint: +1
- ToneCurve: 0, 0, 32, 22, 64, 56, 128, 128, 192, 196, 255, 255
- ToneCurveName: Medium Contrast
- Version: 6.2
- Vibrance: +3
- VignetteAmount: 0
- WhiteBalance: Custom
- XMP-dc
- Description: SONY DSC
- Format: image/jpeg
- XMP-xmp
- CreateDate: 2012:04:15 14:56:22+03:00
- CreatorTool: NEX-5 Ver.04
- ModifyDate: 2012:04:16 11:27:39Z
- Rating: 0
- XMP-xmpMM
- Просмотров: 619
- Рейтинг: голосов еще нет
- Отзывов: 0