- Раздел: Путешествия
- Дата съёмки: 18.08.2012 15:22
- Дата загрузки фото: 25.08.2012 00:26
- Оригинальная фотография: 1732 x 1155 (806 Кб)
- Технические характеристики:
- Фотоаппарат: Canon EOS 7D
- Выдержка: 1/320
- Гиперфокальное расстояние: inf m
- Диафрагма: 6,3
- Светочувствительность: 100
- Фокусное расстояние: 50,0 mm (35 mm equivalent: 200,0 mm)
- Экспокоррекция: +1/3
- Полный EXIF
- Adobe
- ColorTransform: YCbCr
- Composite
- Aperture: 6,3
- CircleOfConfusion: 0,006 mm
- FOV: 10,0 deg
- FocalLength35efl: 50,0 mm (35 mm equivalent: 200,0 mm)
- HyperfocalDistance: inf m
- ScaleFactor35efl: 4,7
- ShutterSpeed: 1/320
- ExifIFD
- ApertureValue: 6,3
- CreateDate: 2012:08:18 15:22:19
- CustomRendered: Normal
- DateTimeOriginal: 2012:08:18 15:22:19
- ExposureCompensation: +1/3
- ExposureMode: Auto
- ExposureProgram: Aperture-priority AE
- ExposureTime: 1/320
- FNumber: 6,3
- Flash: Off, Did not fire
- FocalLength: 50,0 mm
- ISO: 100
- LensInfo: 17-50mm f/?
- LensModel: 17-50mm
- MaxApertureValue: 2,8
- MeteringMode: Multi-segment
- OwnerName: Vasiliy A. Timofeyev
- RecommendedExposureIndex: 100
- SceneCaptureType: Standard
- SensitivityType: Recommended Exposure Index
- SerialNumber: 0280215638
- ShutterSpeedValue: 1/320
- WhiteBalance: Auto
- ICC-header
- ICC-meas
- ICC-view
- IFD0
- Artist: Vasiliy A. Timofeyev
- Copyright: (C) 2012 Vasiliy A. Timofeyev
- Make: Canon
- Model: Canon EOS 7D
- ModifyDate: 2012:08:24 23:17:29
- IFD1
- IPTC
- By-line: Vasiliy A. Timofeyev
- CopyrightNotice: (C) 2012 Vasiliy A. Timofeyev
- DateCreated: 2012:08:18
- ObjectName: Великий Новгород
- System
- XMP-aux
- Firmware: 2.0.0
- FlashCompensation: 0
- ImageNumber: 0
- Lens: 17-50mm
- LensID: 161
- XMP-crs
- AlreadyApplied: True
- AutoLateralCA: 0
- Blacks2012: -62
- BlueHue: 0
- BlueSaturation: 0
- Brightness: +50
- CameraProfile: Camera Standard
- Clarity: 0
- Clarity2012: +35
- ColorNoiseReduction: 25
- ColorNoiseReductionDetail: 50
- Contrast: +25
- Contrast2012: -25
- ConvertToGrayscale: False
- Defringe: 0
- Exposure: 0.00
- Exposure2012: +1.04
- FillLight: 0
- GrainAmount: 0
- GreenHue: 0
- GreenSaturation: 0
- HasCrop: False
- HasSettings: True
- HighlightRecovery: 0
- Highlights2012: 0
- HueAdjustmentAqua: 0
- HueAdjustmentBlue: 0
- HueAdjustmentGreen: 0
- HueAdjustmentMagenta: 0
- HueAdjustmentOrange: 0
- HueAdjustmentPurple: 0
- HueAdjustmentRed: 0
- HueAdjustmentYellow: 0
- LensManualDistortionAmount: 0
- LensProfileChromaticAberrationScale: 100
- LensProfileDistortionScale: 100
- LensProfileEnable: 1
- LensProfileFilename: Canon (TAMRON SP 17-50mm F2.8 DiII A16E) - RAW.lcp
- LensProfileSetup: Custom
- LensProfileVignettingScale: 100
- LuminanceAdjustmentAqua: 0
- LuminanceAdjustmentBlue: 0
- LuminanceAdjustmentGreen: 0
- LuminanceAdjustmentMagenta: 0
- LuminanceAdjustmentOrange: 0
- LuminanceAdjustmentPurple: 0
- LuminanceAdjustmentRed: 0
- LuminanceAdjustmentYellow: 0
- LuminanceNoiseReductionContrast: 0
- LuminanceNoiseReductionDetail: 50
- LuminanceSmoothing: 5
- ParametricDarks: 0
- ParametricHighlightSplit: 75
- ParametricHighlights: 0
- ParametricLights: 0
- ParametricMidtoneSplit: 50
- ParametricShadowSplit: 25
- ParametricShadows: 0
- PerspectiveHorizontal: 0
- PerspectiveRotate: 0.0
- PerspectiveScale: 100
- PerspectiveVertical: 0
- PostCropVignetteAmount: 0
- ProcessVersion: 6.7
- RedHue: 0
- RedSaturation: 0
- Saturation: 0
- SaturationAdjustmentAqua: +22
- SaturationAdjustmentBlue: +67
- SaturationAdjustmentGreen: 0
- SaturationAdjustmentMagenta: 0
- SaturationAdjustmentOrange: 0
- SaturationAdjustmentPurple: 0
- SaturationAdjustmentRed: 0
- SaturationAdjustmentYellow: 0
- ShadowTint: 0
- Shadows: 5
- Shadows2012: 0
- SharpenDetail: 25
- SharpenEdgeMasking: 0
- SharpenRadius: +1.0
- Sharpness: 50
- SplitToningBalance: 0
- SplitToningHighlightHue: 0
- SplitToningHighlightSaturation: 0
- SplitToningShadowHue: 0
- SplitToningShadowSaturation: 0
- Temperature: 5900
- Tint: +21
- ToneCurve: 0, 0, 255, 255
- ToneCurveBlue: 0, 0, 255, 255
- ToneCurveGreen: 0, 0, 255, 255
- ToneCurveName: Linear
- ToneCurveName2012: Linear
- ToneCurvePV2012: 0, 0, 255, 255
- ToneCurvePV2012Blue: 0, 0, 255, 255
- ToneCurvePV2012Green: 0, 0, 255, 255
- ToneCurvePV2012Red: 0, 0, 255, 255
- ToneCurveRed: 0, 0, 255, 255
- Version: 7.0
- Vibrance: +33
- VignetteAmount: 0
- WhiteBalance: As Shot
- Whites2012: 0
- XMP-dc
- Creator: Vasiliy A. Timofeyev
- Format: image/jpeg
- Rights: (C) 2012 Vasiliy A. Timofeyev
- Title: Великий Новгород
- XMP-xmp
- CreateDate: 2012:08:18 15:22:19.00
- ModifyDate: 2012:08:24 23:17:29+04:00
- XMP-xmpMM
- Просмотров: 177
- Рейтинг: голосов еще нет
- Отзывов: 0