- Раздел: Активный отдых, туризм
- Дата съёмки: 06.10.2012 17:36
- Дата загрузки фото: 06.10.2012 19:18
- Оригинальная фотография: 1024 x 768 (654 Кб)
- Технические характеристики:
- Фотоаппарат: Nokia Lumia 900
- Выдержка: 1/170
- Диафрагма: 2,2
- Полный EXIF
- Adobe
- ColorTransform: YCbCr
- Composite
- Aperture: 2,2
- GPSAltitude: 1043 m Above Sea Level
- GPSLatitude: 43 deg 12' 22,00" N
- GPSLongitude: 76 deg 56' 29,00" E
- GPSPosition: 43 deg 12' 22,00" N, 76 deg 56' 29,00" E
- ShutterSpeed: 1/170
- ExifIFD
- ApertureValue: 2,2
- ColorSpace: Uncalibrated
- CreateDate: 2012:10:06 17:36:49
- DateTimeOriginal: 2012:10:06 17:36:49
- ExifImageHeight: 768
- ExifImageWidth: 1024
- ExposureTime: 1/170
- FNumber: 2,2
- Flash: Auto, Did not fire
- MeteringMode: Center-weighted average
- ShutterSpeedValue: 1/170
- GPS
- GPSAltitude: 1043 m
- GPSAltitudeRef: Above Sea Level
- GPSDOP: 3,9944
- GPSLatitude: 43 deg 12' 22,00"
- GPSLatitudeRef: North
- GPSLongitude: 76 deg 56' 29,00"
- GPSLongitudeRef: East
- GPSMeasureMode: 3-Dimensional Measurement
- GPSVersionID: 2.2.0.0
- ICC-header
- IFD0
- Make: Nokia
- Model: Nokia Lumia 900
- ModifyDate: 2012:10:06 21:09:33
- Orientation: Horizontal (normal)
- IFD1
- IPTC
- DateCreated: 2012:10:06
- System
- XMP-crs
- AlreadyApplied: True
- AutoLateralCA: 0
- Blacks2012: -36
- BlueHue: 0
- BlueSaturation: 0
- CameraProfile: Embedded
- Clarity2012: 0
- ColorNoiseReduction: 0
- Contrast2012: +19
- ConvertToGrayscale: False
- CropAngle: 2.02009
- CropBottom: 1
- CropConstrainToWarp: 0
- CropLeft: 0.035091
- CropRight: 0.964909
- CropTop: 0
- DefringeGreenAmount: 0
- DefringeGreenHueHi: 60
- DefringeGreenHueLo: 40
- DefringePurpleAmount: 0
- DefringePurpleHueHi: 70
- DefringePurpleHueLo: 30
- Exposure2012: -0.71
- GrainAmount: 0
- GreenHue: 0
- GreenSaturation: 0
- HasCrop: True
- HasSettings: True
- Highlights2012: -100
- HueAdjustmentAqua: 0
- HueAdjustmentBlue: 0
- HueAdjustmentGreen: 0
- HueAdjustmentMagenta: 0
- HueAdjustmentOrange: 0
- HueAdjustmentPurple: 0
- HueAdjustmentRed: 0
- HueAdjustmentYellow: 0
- IncrementalTemperature: 0
- IncrementalTint: 0
- LensManualDistortionAmount: 0
- LensProfileEnable: 0
- LensProfileSetup: LensDefaults
- LuminanceAdjustmentAqua: 0
- LuminanceAdjustmentBlue: 0
- LuminanceAdjustmentGreen: 0
- LuminanceAdjustmentMagenta: 0
- LuminanceAdjustmentOrange: 0
- LuminanceAdjustmentPurple: 0
- LuminanceAdjustmentRed: 0
- LuminanceAdjustmentYellow: 0
- LuminanceSmoothing: 0
- ParametricDarks: 0
- ParametricHighlightSplit: 75
- ParametricHighlights: 0
- ParametricLights: 0
- ParametricMidtoneSplit: 50
- ParametricShadowSplit: 25
- ParametricShadows: 0
- PerspectiveHorizontal: 0
- PerspectiveRotate: 0.0
- PerspectiveScale: 100
- PerspectiveVertical: 0
- PostCropVignetteAmount: 0
- ProcessVersion: 6.7
- RawFileName: WP_000005.jpg
- RedHue: 0
- RedSaturation: 0
- Saturation: 0
- SaturationAdjustmentAqua: 0
- SaturationAdjustmentBlue: 0
- SaturationAdjustmentGreen: 0
- SaturationAdjustmentMagenta: 0
- SaturationAdjustmentOrange: 0
- SaturationAdjustmentPurple: 0
- SaturationAdjustmentRed: 0
- SaturationAdjustmentYellow: 0
- ShadowTint: 0
- Shadows2012: 0
- SharpenDetail: 25
- SharpenEdgeMasking: 0
- SharpenRadius: +1.0
- Sharpness: 0
- SplitToningBalance: 0
- SplitToningHighlightHue: 0
- SplitToningHighlightSaturation: 0
- SplitToningShadowHue: 0
- SplitToningShadowSaturation: 0
- ToneCurveName2012: Linear
- ToneCurvePV2012: 0, 0, 255, 255
- ToneCurvePV2012Blue: 0, 0, 255, 255
- ToneCurvePV2012Green: 0, 0, 255, 255
- ToneCurvePV2012Red: 0, 0, 255, 255
- Version: 7.1
- Vibrance: +45
- VignetteAmount: 0
- WhiteBalance: As Shot
- Whites2012: 0
- XMP-dc
- XMP-microsoft
- XMP-xmp
- CreatorTool: Windows Phone 7.5
- Label:
- ModifyDate: 2012:10:06 21:09:33+06:00
- Rating: 0
- XMP-xmpMM
- Просмотров: 829
- Рейтинг: голосов еще нет
- Отзывов: 2