- Раздел: Другое, разное
- Дата съёмки: 19.01.2013 19:50
- Дата загрузки фото: 21.01.2013 13:51
- Оригинальная фотография: 1920 x 1282 (691 Кб)
- Технические характеристики:
- Фотоаппарат: Nikon D600
- Выдержка: 1/1600
- Гиперфокальное расстояние: inf m
- Диафрагма: 1,4
- Светочувствительность: 100
- Фокусное расстояние: 50,0 mm (35 mm equivalent: 50,0 mm)
- Экспокоррекция: -1/3
- Полный EXIF
- Adobe
- ColorTransform: YCbCr
- Composite
- Aperture: 1,4
- CircleOfConfusion: 0,030 mm
- FOV: 39,0 deg
- FocalLength35efl: 50,0 mm (35 mm equivalent: 50,0 mm)
- HyperfocalDistance: inf m
- ScaleFactor35efl: 1,0
- ShutterSpeed: 1/1600
- ExifIFD
- ApertureValue: 1,4
- CFAPattern: [Red,Green][Green,Blue]
- Contrast: Normal
- CreateDate: 2013:01:19 19:50:47
- CustomRendered: Normal
- DateTimeOriginal: 2013:01:19 19:50:47
- DigitalZoomRatio: 1
- ExposureCompensation: -1/3
- ExposureMode: Auto
- ExposureProgram: Aperture-priority AE
- ExposureTime: 1/1600
- FNumber: 1,4
- Flash: Off, Did not fire
- FocalLength: 50,0 mm
- FocalLengthIn35mmFormat: 50 mm
- GainControl: None
- ISO: 100
- LensInfo: 50mm f/1.4
- LensModel: 50.0 mm f/1.4
- LightSource: Unknown
- MaxApertureValue: 1,4
- MeteringMode: Multi-segment
- Saturation: Normal
- SceneCaptureType: Standard
- SceneType: Directly photographed
- SensingMethod: One-chip color area
- SensitivityType: Recommended Exposure Index
- SerialNumber: 8035806
- Sharpness: Normal
- ShutterSpeedValue: 1/1600
- SubjectDistanceRange: Unknown
- WhiteBalance: Auto
- ICC-header
- ICC-meas
- ICC-view
- IFD0
- Make: NIKON CORPORATION
- Model: NIKON D600
- ModifyDate: 2013:01:21 17:44:58
- IFD1
- IPTC
- DateCreated: 2013:01:19
- System
- XMP-aux
- ApproximateFocusDistance: 2,37
- ImageNumber: 1635
- Lens: 50.0 mm f/1.4
- LensID: 222
- XMP-crs
- AlreadyApplied: True
- AutoLateralCA: 1
- Blacks2012: 0
- BlueHue: 0
- BlueSaturation: 0
- CameraProfile: Camera Neutral
- Clarity2012: +10
- ColorNoiseReduction: 25
- ColorNoiseReductionDetail: 50
- Contrast2012: -50
- ConvertToGrayscale: False
- DefringeGreenAmount: 7
- DefringeGreenHueHi: 89
- DefringeGreenHueLo: 46
- DefringePurpleAmount: 5
- DefringePurpleHueHi: 82
- DefringePurpleHueLo: 38
- Exposure2012: 0.00
- GrainAmount: 0
- GreenHue: +14
- GreenSaturation: 0
- HasCrop: False
- HasSettings: True
- Highlights2012: 0
- HueAdjustmentAqua: 0
- HueAdjustmentBlue: 0
- HueAdjustmentGreen: 0
- HueAdjustmentMagenta: 0
- HueAdjustmentOrange: 0
- HueAdjustmentPurple: 0
- HueAdjustmentRed: 0
- HueAdjustmentYellow: 0
- LensManualDistortionAmount: 0
- LensProfileEnable: 0
- LensProfileSetup: LensDefaults
- LuminanceAdjustmentAqua: 0
- LuminanceAdjustmentBlue: 0
- LuminanceAdjustmentGreen: 0
- LuminanceAdjustmentMagenta: 0
- LuminanceAdjustmentOrange: 0
- LuminanceAdjustmentPurple: 0
- LuminanceAdjustmentRed: 0
- LuminanceAdjustmentYellow: 0
- LuminanceSmoothing: 0
- ParametricDarks: 0
- ParametricHighlightSplit: 75
- ParametricHighlights: 0
- ParametricLights: 0
- ParametricMidtoneSplit: 50
- ParametricShadowSplit: 25
- ParametricShadows: 0
- PerspectiveHorizontal: 0
- PerspectiveRotate: 0.0
- PerspectiveScale: 100
- PerspectiveVertical: 0
- PostCropVignetteAmount: 0
- ProcessVersion: 6.7
- RedHue: 0
- RedSaturation: 0
- Saturation: 0
- SaturationAdjustmentAqua: 0
- SaturationAdjustmentBlue: 0
- SaturationAdjustmentGreen: 0
- SaturationAdjustmentMagenta: 0
- SaturationAdjustmentOrange: 0
- SaturationAdjustmentPurple: 0
- SaturationAdjustmentRed: 0
- SaturationAdjustmentYellow: 0
- ShadowTint: 0
- Shadows2012: 0
- SharpenDetail: 25
- SharpenEdgeMasking: 0
- SharpenRadius: +1.0
- Sharpness: 41
- SplitToningBalance: 0
- SplitToningHighlightHue: 0
- SplitToningHighlightSaturation: 0
- SplitToningShadowHue: 0
- SplitToningShadowSaturation: 0
- Temperature: 4738
- Tint: +11
- ToneCurveName2012: Custom
- ToneCurvePV2012: 0, 0, 60, 37, 150, 161, 255, 255
- ToneCurvePV2012Blue: 0, 1, 255, 255
- ToneCurvePV2012Green: 4, 0, 255, 255
- ToneCurvePV2012Red: 0, 0, 255, 255
- Version: 7.3
- Vibrance: 0
- VignetteAmount: 0
- WhiteBalance: Custom
- Whites2012: 0
- XMP-dc
- XMP-xmp
- CreateDate: 2013:01:19 19:50:47.70
- ModifyDate: 2013:01:21 17:44:58+08:00
- XMP-xmpMM
- Просмотров: 348
- Рейтинг: голосов еще нет
- Отзывов: 0