- Раздел: Портрет
- Дата съёмки: 12.02.2013 20:00
- Дата загрузки фото: 16.02.2013 14:22
- Оригинальная фотография: 4368 x 2384 (6,2 Мб)
- Технические характеристики:
- Фотоаппарат: Canon EOS 5D
- Выдержка: 1/50
- Гиперфокальное расстояние: inf m
- Диафрагма: 1,8
- Светочувствительность: 800
- Фокусное расстояние: 35,0 mm (35 mm equivalent: 35,0 mm)
- Экспокоррекция: +1/3
- Полный EXIF
- Adobe
- ColorTransform: YCbCr
- Composite
- Aperture: 1,8
- CircleOfConfusion: 0,028 mm
- FOV: 54,0 deg
- Flash: Off, Did not fire
- FocalLength35efl: 35,0 mm (35 mm equivalent: 35,0 mm)
- HyperfocalDistance: inf m
- LensID: Canon EF 35mm f/1.4L
- ScaleFactor35efl: 1,1
- ShutterSpeed: 1/50
- ExifIFD
- ApertureValue: 1,8
- CreateDate: 2013:02:12 20:00:42
- CustomRendered: Normal
- DateTimeOriginal: 2013:02:12 20:00:42
- ExposureCompensation: +1/3
- ExposureMode: Auto
- ExposureProgram: Program AE
- ExposureTime: 1/50
- FNumber: 1,8
- FocalLength: 35,0 mm
- ISO: 800
- MaxApertureValue: 1,4
- MeteringMode: Partial
- SceneCaptureType: Standard
- ShutterSpeedValue: 1/50
- WhiteBalance: Manual
- ICC-header
- ICC-meas
- ICC-view
- IFD0
- Make: Canon
- Model: Canon EOS 5D
- ModifyDate: 2013:02:16 14:21:05
- IFD1
- System
- XMP-aux
- Firmware: 1.1.1
- FlashCompensation: 0
- ImageNumber: 1
- Lens: EF35mm f/1.4L USM
- LensID: 180
- LensInfo: 35mm f/?
- SerialNumber: 730507263
- XMP-crs
- AlreadyApplied: True
- BlueHue: 0
- BlueSaturation: 0
- Brightness: +78
- ChromaticAberrationB: 0
- ChromaticAberrationR: 0
- Clarity: -10
- ColorNoiseReduction: 25
- ColorNoiseReductionDetail: 50
- ColorTemperature: 2922
- Contrast: -34
- ConvertToGrayscale: True
- CropAngle: 0
- CropBottom: 0.934102
- CropConstrainToWarp: 0
- CropHeight: 2384
- CropLeft: 0
- CropRight: 1
- CropTop: 0.115321
- CropUnit: pixels
- CropWidth: 4368
- Defringe: 0
- Exposure: 0.00
- FillLight: 38
- GrainAmount: 0
- GrayMixerAqua: -21
- GrayMixerBlue: +1
- GrayMixerGreen: -20
- GrayMixerMagenta: +7
- GrayMixerOrange: -7
- GrayMixerPurple: +10
- GrayMixerRed: +1
- GrayMixerYellow: -11
- GreenHue: 0
- GreenSaturation: 0
- HasCrop: True
- HasSettings: True
- HighlightRecovery: 0
- LensManualDistortionAmount: 0
- LensProfileEnable: 0
- LensProfileSetup: LensDefaults
- LuminanceSmoothing: 0
- ParametricDarks: -32
- ParametricHighlightSplit: 75
- ParametricHighlights: 0
- ParametricLights: +44
- ParametricMidtoneSplit: 50
- ParametricShadowSplit: 25
- ParametricShadows: 0
- PerspectiveHorizontal: 0
- PerspectiveRotate: 0.0
- PerspectiveScale: 100
- PerspectiveVertical: 0
- PostCropVignetteAmount: -20
- PostCropVignetteFeather: 100
- PostCropVignetteHighlightContrast: 0
- PostCropVignetteMidpoint: 0
- PostCropVignetteRoundness: +100
- PostCropVignetteStyle: 1
- ProcessVersion: 5.7
- RedHue: 0
- RedSaturation: 0
- ShadowTint: 0
- Shadows: 13
- SharpenDetail: 25
- SharpenEdgeMasking: 0
- SharpenRadius: +1.0
- Sharpness: 25
- SplitToningBalance: 0
- SplitToningHighlightHue: 59
- SplitToningHighlightSaturation: 15
- SplitToningShadowHue: 34
- SplitToningShadowSaturation: 13
- Tint: +5
- ToneCurve: 0, 0, 32, 22, 64, 56, 128, 128, 192, 196, 255, 255
- ToneCurveName: Medium Contrast
- Version: 6.1
- VignetteAmount: 0
- WhiteBalance: Custom
- XMP-exif
- DateTimeDigitized: 2013:02:12 20:00:42+04:00
- DateTimeOriginal: 2013:02:12 20:00:42+04:00
- ExifImageHeight: 2384
- ExifImageWidth: 4368
- FlashFired: False
- FlashFunction: False
- FlashMode: Off
- FlashRedEyeMode: False
- FlashReturn: No return detection
- XMP-tiff
- ImageHeight: 2384
- ImageWidth: 4368
- XMP-xmp
- CreateDate: 2013:02:12 20:00:42+04:00
- ModifyDate: 2013:02:16 14:21:05+04:00
- Просмотров: 1557
- Рейтинг: голосов еще нет
- Отзывов: 0