- Раздел: Семья, личное
- Дата съёмки: 09.08.2013 22:58
- Дата загрузки фото: 14.08.2013 01:18
- Оригинальная фотография: 3767 x 2516 (6,1 Мб)
- Технические характеристики:
- Фотоаппарат: Panasonic DMC-G3
- Выдержка: 1/5
- Гиперфокальное расстояние: inf m
- Диафрагма: 1,4
- Светочувствительность: 1600
- Фокусное расстояние: 25,0 mm (35 mm equivalent: 50,0 mm)
- Полный EXIF
- Adobe
- ColorTransform: YCbCr
- Composite
- Aperture: 1,4
- CircleOfConfusion: 0,015 mm
- FOV: 39,0 deg
- Flash: Off, Did not fire
- FocalLength35efl: 25,0 mm (35 mm equivalent: 50,0 mm)
- HyperfocalDistance: inf m
- ScaleFactor35efl: 2,0
- ShutterSpeed: 1/5
- ExifIFD
- ApertureValue: 1,4
- ColorSpace: sRGB
- Contrast: Normal
- CreateDate: 2013:08:09 22:58:51
- CustomRendered: Normal
- DateTimeOriginal: 2013:08:09 22:58:51
- DigitalZoomRatio: 0
- ExifImageHeight: 2516
- ExifImageWidth: 3767
- ExposureCompensation: 0
- ExposureMode: Auto
- ExposureProgram: Aperture-priority AE
- ExposureTime: 1/5
- FNumber: 1,4
- FocalLength: 25,0 mm
- FocalLengthIn35mmFormat: 51 mm
- GainControl: High gain up
- ISO: 1600
- LensModel: LEICA DG SUMMILUX 25/F1.4
- LensSerialNumber: 11091100827
- LightSource: Unknown
- MaxApertureValue: 1,4
- MeteringMode: Multi-segment
- Saturation: Normal
- SceneCaptureType: Standard
- SceneType: Directly photographed
- SensingMethod: One-chip color area
- Sharpness: Normal
- ShutterSpeedValue: 1/5
- WhiteBalance: Auto
- ICC-header
- ICC-meas
- ICC-view
- IFD0
- Make: Panasonic
- Model: DMC-G3
- ModifyDate: 2013:08:12 23:58:31
- Orientation: Horizontal (normal)
- IFD1
- IPTC
- DateCreated: 2013:08:09
- System
- XMP-aux
- Lens: LEICA DG SUMMILUX 25/F1.4
- XMP-crs
- AlreadyApplied: True
- AutoLateralCA: 0
- Blacks2012: 0
- BlueHue: 0
- BlueSaturation: 0
- CameraProfile: Embedded
- Clarity2012: 0
- ColorNoiseReduction: 0
- Contrast2012: 0
- ConvertToGrayscale: False
- DefringeGreenAmount: 0
- DefringeGreenHueHi: 60
- DefringeGreenHueLo: 40
- DefringePurpleAmount: 0
- DefringePurpleHueHi: 70
- DefringePurpleHueLo: 30
- Exposure2012: 0.00
- GrainAmount: 0
- GreenHue: 0
- GreenSaturation: 0
- HasCrop: False
- HasSettings: True
- Highlights2012: 0
- HueAdjustmentAqua: 0
- HueAdjustmentBlue: 0
- HueAdjustmentGreen: 0
- HueAdjustmentMagenta: 0
- HueAdjustmentOrange: 0
- HueAdjustmentPurple: 0
- HueAdjustmentRed: 0
- HueAdjustmentYellow: 0
- IncrementalTemperature: 0
- IncrementalTint: 0
- LensManualDistortionAmount: 0
- LensProfileEnable: 0
- LensProfileSetup: LensDefaults
- LuminanceAdjustmentAqua: 0
- LuminanceAdjustmentBlue: 0
- LuminanceAdjustmentGreen: 0
- LuminanceAdjustmentMagenta: 0
- LuminanceAdjustmentOrange: 0
- LuminanceAdjustmentPurple: 0
- LuminanceAdjustmentRed: 0
- LuminanceAdjustmentYellow: 0
- LuminanceSmoothing: 0
- PaintBasedCorrectionsLocalClarity2012: 0.000000
- PaintBasedCorrectionsLocalContrast2012: 0.000000
- PaintBasedCorrectionsLocalDefringe: 0.000000
- PaintBasedCorrectionsLocalExposure2012: 0.374000
- PaintBasedCorrectionsLocalHighlights2012: 0.000000
- PaintBasedCorrectionsLocalLuminanceNoise: 0.000000
- PaintBasedCorrectionsLocalMoire: 0.000000
- PaintBasedCorrectionsLocalShadows2012: 0.000000
- PaintBasedCorrectionsLocalTemperature: 0.000000
- PaintBasedCorrectionsLocalTint: 0.000000
- PaintCorrectionActive: true
- PaintCorrectionAmount: 1.000000
- PaintCorrectionBrightness: 0.243900
- PaintCorrectionHue: 62.000000
- PaintCorrectionMaskCenterWeight: 0.242533
- PaintCorrectionMaskFlow: 0.405000
- PaintCorrectionMaskRadius: 0.002078
- PaintCorrectionMaskValue: 1.000000
- PaintCorrectionMaskWhat: Mask/Paint
- PaintCorrectionSaturation: 0.000000
- PaintCorrectionSharpness: 0.000000
- PaintCorrectionWhat: Correction
- ParametricDarks: 0
- ParametricHighlightSplit: 75
- ParametricHighlights: 0
- ParametricLights: 0
- ParametricMidtoneSplit: 50
- ParametricShadowSplit: 25
- ParametricShadows: 0
- PerspectiveHorizontal: 0
- PerspectiveRotate: 0.0
- PerspectiveScale: 100
- PerspectiveVertical: 0
- PostCropVignetteAmount: 0
- ProcessVersion: 6.7
- RedHue: 0
- RedSaturation: 0
- Saturation: 0
- SaturationAdjustmentAqua: 0
- SaturationAdjustmentBlue: 0
- SaturationAdjustmentGreen: 0
- SaturationAdjustmentMagenta: 0
- SaturationAdjustmentOrange: 0
- SaturationAdjustmentPurple: 0
- SaturationAdjustmentRed: 0
- SaturationAdjustmentYellow: 0
- ShadowTint: 0
- Shadows2012: 0
- SharpenDetail: 25
- SharpenEdgeMasking: 0
- SharpenRadius: +1.0
- Sharpness: 0
- SplitToningBalance: 0
- SplitToningHighlightHue: 0
- SplitToningHighlightSaturation: 0
- SplitToningShadowHue: 0
- SplitToningShadowSaturation: 0
- ToneCurveName2012: Linear
- ToneCurvePV2012: 0, 0, 255, 255
- ToneCurvePV2012Blue: 0, 0, 255, 255
- ToneCurvePV2012Green: 0, 0, 255, 255
- ToneCurvePV2012Red: 0, 0, 255, 255
- Version: 7.2
- Vibrance: 0
- VignetteAmount: 0
- WhiteBalance: As Shot
- Whites2012: 0
- XMP-dc
- XMP-exif
- DateTimeDigitized: 2013:08:09 22:58:51+03:00
- DateTimeOriginal: 2013:08:09 22:58:51+03:00
- FlashFired: False
- FlashFunction: False
- FlashMode: Off
- FlashRedEyeMode: False
- FlashReturn: No return detection
- XMP-tiff
- XMP-xmp
- ModifyDate: 2013:08:12 23:58:31+03:00
- XMP-xmpMM
- Просмотров: 1313
- Рейтинг: голосов еще нет
- Отзывов: 0