- Раздел: Другое, разное
- Дата съёмки: 09.08.2013 19:20
- Дата загрузки фото: 15.08.2013 23:47
- Оригинальная фотография: 3450 x 4600 (8,0 Мб)
- Технические характеристики:
- Фотоаппарат: Pentax 645D
- Выдержка: 1/2000
- Гиперфокальное расстояние: inf m
- Диафрагма: 3,5
- Светочувствительность: 200
- Фокусное расстояние: 150,0 mm
- Экспокоррекция: +0,7
- Полный EXIF
- Adobe
- ColorTransform: YCbCr
- Composite
- Aperture: 3,5
- CircleOfConfusion: 0,038 mm
- FocalLength35efl: 150,0 mm
- HyperfocalDistance: inf m
- LensID: smc PENTAX-FA645 150mm F2.8 [IF]
- ScaleFactor35efl: 0,8
- ShutterSpeed: 1/2000
- ExifIFD
- ApertureValue: 3,5
- ColorSpace: sRGB
- Contrast: Normal
- CreateDate: 2013:08:09 19:20:16
- CustomRendered: Normal
- DateTimeOriginal: 2013:08:09 19:20:16
- ExifImageHeight: 4600
- ExifImageWidth: 3450
- ExposureCompensation: +0,7
- ExposureMode: Manual
- ExposureProgram: Aperture-priority AE
- ExposureTime: 1/2000
- FNumber: 3,5
- Flash: Off, Did not fire
- FocalLength: 150,0 mm
- FocalLengthIn35mmFormat: 118 mm
- ISO: 200
- LensInfo: 150mm f/2.8
- LensModel: smc PENTAX-FA645 150mm F2.8 [IF]
- MeteringMode: Center-weighted average
- Saturation: Normal
- SceneCaptureType: Standard
- SensingMethod: One-chip color area
- Sharpness: Normal
- ShutterSpeedValue: 1/2000
- SubjectDistanceRange: Close
- WhiteBalance: Auto
- ICC-header
- ICC-meas
- ICC-view
- IFD0
- Artist: Dmitry Borodin
- Copyright: (c) managger
- Make: PENTAX
- Model: PENTAX 645D
- ModifyDate: 2013:08:13 11:39:57
- Orientation: Horizontal (normal)
- IFD1
- IPTC
- By-line: Dmitry Borodin
- CopyrightNotice: (c) managger
- DateCreated: 2013:08:09
- System
- XMP-aux
- ApproximateFocusDistance: 2,38
- Lens: smc PENTAX-FA645 150mm F2.8 [IF]
- LensID: 11 10
- XMP-crs
- AlreadyApplied: True
- AutoLateralCA: 1
- Blacks2012: +25
- BlueHue: 0
- BlueSaturation: 0
- Brightness: +50
- Clarity: 0
- Clarity2012: 0
- ColorNoiseReduction: 0
- ColorTemperature: 4950
- Contrast: +25
- Contrast2012: -33
- ConvertToGrayscale: False
- Defringe: 0
- Exposure: 0.00
- Exposure2012: -1.00
- FillLight: 0
- GrainAmount: 0
- GreenHue: 0
- GreenSaturation: 0
- HasCrop: False
- HasSettings: True
- HighlightRecovery: 100
- Highlights2012: 0
- HueAdjustmentAqua: 0
- HueAdjustmentBlue: 0
- HueAdjustmentGreen: 0
- HueAdjustmentMagenta: 0
- HueAdjustmentOrange: 0
- HueAdjustmentPurple: 0
- HueAdjustmentRed: 0
- HueAdjustmentYellow: 0
- LensManualDistortionAmount: 0
- LensProfileChromaticAberrationScale: 100
- LensProfileDistortionScale: 100
- LensProfileEnable: 1
- LensProfileFilename: PENTAX (smc PENTAX-FA645 150mmF2.8[IF]) - RAW.lcp
- LensProfileSetup: LensDefaults
- LensProfileVignettingScale: 100
- LuminanceAdjustmentAqua: 0
- LuminanceAdjustmentBlue: 0
- LuminanceAdjustmentGreen: 0
- LuminanceAdjustmentMagenta: 0
- LuminanceAdjustmentOrange: 0
- LuminanceAdjustmentPurple: 0
- LuminanceAdjustmentRed: 0
- LuminanceAdjustmentYellow: 0
- LuminanceSmoothing: 0
- ParametricDarks: 0
- ParametricHighlightSplit: 75
- ParametricHighlights: 0
- ParametricLights: 0
- ParametricMidtoneSplit: 50
- ParametricShadowSplit: 25
- ParametricShadows: 0
- PerspectiveHorizontal: 0
- PerspectiveRotate: 0.0
- PerspectiveScale: 100
- PerspectiveVertical: 0
- PostCropVignetteAmount: 0
- ProcessVersion: 5.7
- RawFileName: DI_04863.DNG
- RedHue: 0
- RedSaturation: 0
- Saturation: 0
- SaturationAdjustmentAqua: 0
- SaturationAdjustmentBlue: 0
- SaturationAdjustmentGreen: 0
- SaturationAdjustmentMagenta: 0
- SaturationAdjustmentOrange: 0
- SaturationAdjustmentPurple: 0
- SaturationAdjustmentRed: 0
- SaturationAdjustmentYellow: 0
- ShadowTint: 0
- Shadows: 0
- Shadows2012: 0
- SharpenDetail: 0
- SharpenEdgeMasking: 0
- SharpenRadius: +0.5
- Sharpness: 0
- SplitToningBalance: 0
- SplitToningHighlightHue: 0
- SplitToningHighlightSaturation: 0
- SplitToningShadowHue: 0
- SplitToningShadowSaturation: 0
- Tint: +20
- ToneCurve: 0, 0, 32, 22, 64, 56, 128, 128, 192, 196, 255, 255
- ToneCurveBlue: 0, 0, 255, 255
- ToneCurveGreen: 0, 0, 255, 255
- ToneCurveName: Medium Contrast
- ToneCurveName2012: Custom
- ToneCurvePV2012: 0, 0, 17, 26, 34, 44, 51, 60, 68, 74, 85, 89, 102, 105, 119, 120, 136, 135, 153, 151, 170, 167, 187, 183, 204, 200, 221, 218, 238, 236, 255, 255
- ToneCurvePV2012Blue: 0, 0, 255, 255
- ToneCurvePV2012Green: 0, 0, 255, 255
- ToneCurvePV2012Red: 0, 0, 255, 255
- ToneCurveRed: 0, 0, 255, 255
- Version: 6.7
- Vibrance: 0
- VignetteAmount: 0
- WhiteBalance: As Shot
- Whites2012: 0
- XMP-dc
- Creator: Dmitry Borodin
- Format: image/jpeg
- Rights: (c) managger
- XMP-xmp
- CreatorTool: 645D Ver 1.30
- ModifyDate: 2013:08:13 11:39:57+03:00
- Rating: 0
- XMP-xmpMM
- Просмотров: 129
- Рейтинг: голосов еще нет
- Отзывов: отключены