- Раздел: Репортаж
- Дата съёмки: 03.05.2014 21:10
- Дата загрузки фото: 05.05.2014 17:04
- Оригинальная фотография: 4256 x 2832 (5,3 Мб)
- Технические характеристики:
- Фотоаппарат: Nikon D3
- Выдержка: 1/640
- Гиперфокальное расстояние: inf m
- Диафрагма: 1,8
- Светочувствительность: 200
- Фокусное расстояние: 85,0 mm (35 mm equivalent: 85,0 mm)
- Экспокоррекция: -1
- Полный EXIF
- Adobe
- ColorTransform: YCbCr
- Composite
- Aperture: 1,8
- CircleOfConfusion: 0,030 mm
- FOV: 23,0 deg
- FocalLength35efl: 85,0 mm (35 mm equivalent: 85,0 mm)
- HyperfocalDistance: inf m
- LensID: AF Nikkor 85mm f/1.8
- ScaleFactor35efl: 1,0
- ShutterSpeed: 1/640
- ExifIFD
- ApertureValue: 1,8
- CFAPattern: [Red,Green][Green,Blue]
- Contrast: Normal
- CreateDate: 2014:05:03 21:10:45
- CustomRendered: Normal
- DateTimeOriginal: 2014:05:03 21:10:45
- DigitalZoomRatio: 1
- ExposureCompensation: -1
- ExposureMode: Auto
- ExposureProgram: Aperture-priority AE
- ExposureTime: 1/640
- FNumber: 1,8
- Flash: No Flash
- FocalLength: 85,0 mm
- FocalLengthIn35mmFormat: 85 mm
- GainControl: None
- ISO: 200
- LensInfo: 85mm f/1.8
- LensModel: 85.0 mm f/1.8
- LightSource: Unknown
- MaxApertureValue: 1,7
- MeteringMode: Multi-segment
- Saturation: Normal
- SceneCaptureType: Standard
- SceneType: Directly photographed
- SensingMethod: One-chip color area
- SerialNumber: 2061456
- Sharpness: Hard
- ShutterSpeedValue: 1/640
- SubjectDistanceRange: Unknown
- WhiteBalance: Manual
- ICC-header
- ICC-meas
- ICC-view
- IFD0
- Artist: DF77
- Copyright: DF77
- Make: NIKON CORPORATION
- Model: NIKON D3
- ModifyDate: 2014:05:05 15:41:20
- IFD1
- IPTC
- By-line: DF77
- CopyrightNotice: DF77
- DateCreated: 2014:05:03
- System
- XMP-aux
- ApproximateFocusDistance: 6,31
- ImageNumber: 20004
- Lens: 85.0 mm f/1.8
- LensID: 21
- XMP-crs
- AlreadyApplied: True
- AutoLateralCA: 0
- AutoWhiteVersion: 134348800
- Blacks2012: -21
- BlueHue: 0
- BlueSaturation: 0
- Clarity2012: +54
- ColorNoiseReduction: 25
- ColorNoiseReductionDetail: 50
- ColorNoiseReductionSmoothness: 50
- ColorTemperature: 3850
- Contrast2012: -20
- ConvertToGrayscale: False
- DefringeGreenAmount: 0
- DefringeGreenHueHi: 60
- DefringeGreenHueLo: 40
- DefringePurpleAmount: 0
- DefringePurpleHueHi: 70
- DefringePurpleHueLo: 30
- Exposure2012: +0.55
- GradientBasedCorrActive: true
- GradientBasedCorrAmount: 1.000000
- GradientBasedCorrBrightness: 0.000000
- GradientBasedCorrHue: 0.000000
- GradientBasedCorrMaskFullX: 0.460848
- GradientBasedCorrMaskFullY: 0.812500
- GradientBasedCorrMaskValue: 1.000000
- GradientBasedCorrMaskWhat: Mask/Gradient
- GradientBasedCorrMaskZeroX: 0.458401
- GradientBasedCorrMaskZeroY: 0.458333
- GradientBasedCorrSaturation: 0.000000
- GradientBasedCorrSharpness: 0.000000
- GradientBasedCorrWhat: Correction
- GradientBasedCorrectionsLocalClarity2012: 0.000000
- GradientBasedCorrectionsLocalContrast2012: 0.000000
- GradientBasedCorrectionsLocalDefringe: 0.000000
- GradientBasedCorrectionsLocalExposure2012: 0.144250
- GradientBasedCorrectionsLocalHighlights2012: 0.000000
- GradientBasedCorrectionsLocalLuminanceNoise: 0.000000
- GradientBasedCorrectionsLocalMoire: 0.000000
- GradientBasedCorrectionsLocalShadows2012: 0.000000
- GradientBasedCorrectionsLocalTemperature: 0.000000
- GradientBasedCorrectionsLocalTint: 0.000000
- GrainAmount: 0
- GreenHue: 0
- GreenSaturation: 0
- HasCrop: False
- HasSettings: True
- Highlights2012: -100
- HueAdjustmentAqua: 0
- HueAdjustmentBlue: 0
- HueAdjustmentGreen: 0
- HueAdjustmentMagenta: 0
- HueAdjustmentOrange: 0
- HueAdjustmentPurple: 0
- HueAdjustmentRed: 0
- HueAdjustmentYellow: 0
- LensManualDistortionAmount: 0
- LensProfileEnable: 0
- LensProfileSetup: LensDefaults
- LuminanceAdjustmentAqua: 0
- LuminanceAdjustmentBlue: 0
- LuminanceAdjustmentGreen: 0
- LuminanceAdjustmentMagenta: 0
- LuminanceAdjustmentOrange: 0
- LuminanceAdjustmentPurple: 0
- LuminanceAdjustmentRed: 0
- LuminanceAdjustmentYellow: 0
- LuminanceNoiseReductionContrast: 0
- LuminanceNoiseReductionDetail: 50
- LuminanceSmoothing: 9
- ParametricDarks: 0
- ParametricHighlightSplit: 75
- ParametricHighlights: 0
- ParametricLights: 0
- ParametricMidtoneSplit: 50
- ParametricShadowSplit: 25
- ParametricShadows: 0
- PerspectiveAspect: 0
- PerspectiveHorizontal: 0
- PerspectiveRotate: 0.0
- PerspectiveScale: 100
- PerspectiveUpright: 0
- PerspectiveVertical: 0
- PostCropVignetteAmount: 0
- ProcessVersion: 6.7
- RedHue: 0
- RedSaturation: 0
- Saturation: +2
- SaturationAdjustmentAqua: 0
- SaturationAdjustmentBlue: 0
- SaturationAdjustmentGreen: 0
- SaturationAdjustmentMagenta: 0
- SaturationAdjustmentOrange: 0
- SaturationAdjustmentPurple: 0
- SaturationAdjustmentRed: 0
- SaturationAdjustmentYellow: 0
- ShadowTint: 0
- Shadows2012: +50
- SharpenDetail: 25
- SharpenEdgeMasking: 0
- SharpenRadius: +1.0
- Sharpness: 25
- SplitToningBalance: 0
- SplitToningHighlightHue: 0
- SplitToningHighlightSaturation: 0
- SplitToningShadowHue: 0
- SplitToningShadowSaturation: 0
- Tint: -101
- ToneCurve: 0, 0, 255, 255
- ToneCurveBlue: 0, 0, 255, 255
- ToneCurveGreen: 0, 0, 255, 255
- ToneCurveName: Linear
- ToneCurveName2012: Medium Contrast
- ToneCurvePV2012: 0, 0, 32, 22, 64, 56, 128, 128, 192, 196, 255, 255
- ToneCurvePV2012Blue: 0, 0, 255, 255
- ToneCurvePV2012Green: 0, 0, 255, 255
- ToneCurvePV2012Red: 0, 0, 255, 255
- ToneCurveRed: 0, 0, 255, 255
- Version: 8.4
- Vibrance: +6
- VignetteAmount: 0
- WhiteBalance: Custom
- Whites2012: +23
- XMP-dc
- Creator: DF77
- Format: image/jpeg
- Rights: DF77
- XMP-xmp
- CreateDate: 2014:05:03 21:10:45.33
- ModifyDate: 2014:05:05 15:41:20+04:00
- XMP-xmpMM