- Раздел: Другое, разное
- Дата съёмки: 14.08.2014 19:12
- Дата загрузки фото: 15.09.2014 23:08
- Оригинальная фотография: 4004 x 2655 (5,5 Мб)
- Технические характеристики:
- Фотоаппарат: Canon EOS 6D
- Выдержка: 1/350
- Гиперфокальное расстояние: inf m
- Диафрагма: 1,8
- Светочувствительность: 200
- Фокусное расстояние: 50,0 mm (35 mm equivalent: 50,0 mm)
- Полный EXIF
- Composite
- Aperture: 1,8
- CircleOfConfusion: 0,022 mm
- FOV: 39,0 deg
- Flash: Off, Did not fire
- FocalLength35efl: 50,0 mm (35 mm equivalent: 50,0 mm)
- HyperfocalDistance: inf m
- LensID: Canon EF 50mm f/1.8 II
- ScaleFactor35efl: 1,4
- ShutterSpeed: 1/350
- ExifIFD
- ApertureValue: 1,8
- ColorSpace: sRGB
- CreateDate: 2014:08:14 19:12:03
- CustomRendered: Normal
- DateTimeOriginal: 2014:08:14 19:12:03
- ExposureCompensation: 0
- ExposureMode: Manual
- ExposureProgram: Manual
- ExposureTime: 1/350
- FNumber: 1,8
- FocalLength: 50,0 mm
- ISO: 200
- ImageNumber: 0
- LensInfo: 50mm f/?
- LensModel: 33053mm
- LensSerialNumber: 0000000000
- MaxApertureValue: 1,8
- MeteringMode: Partial
- RecommendedExposureIndex: 200
- Saturation: Low
- SceneCaptureType: Standard
- SensitivityType: Recommended Exposure Index
- SerialNumber: 211020000677
- Sharpness: Hard
- ShutterSpeedValue: 1/350
- WhiteBalance: Auto
- ICC-header
- ICC-meas
- ICC-view
- IFD0
- Make: Canon
- Model: Canon EOS 6D
- ModifyDate: 2014:08:17 00:08:40
- Software: "Topaz photoFXlab"
- IPTC
- DateCreated: 2014:08:14
- System
- XMP-aux
- Firmware: 1.1.4
- FlashCompensation: 0
- Lens: 33053mm
- LensID: 29
- XMP-crs
- AlreadyApplied: True
- AutoLateralCA: 0
- Blacks2012: +2
- BlueHue: 0
- BlueSaturation: +11
- CameraProfile: Camera Standard
- Clarity2012: +17
- ColorNoiseReduction: 41
- ColorNoiseReductionDetail: 50
- Contrast2012: 0
- ConvertToGrayscale: False
- CropAngle: 0
- CropBottom: 0.988942
- CropConstrainToWarp: 1
- CropLeft: 0.014606
- CropRight: 0.988618
- CropTop: 0.01493
- Exposure2012: +0.53
- GrainAmount: 0
- GreenHue: +2
- GreenSaturation: 0
- HasCrop: True
- HasSettings: True
- Highlights2012: -34
- HueAdjustmentAqua: 0
- HueAdjustmentBlue: 0
- HueAdjustmentGreen: 0
- HueAdjustmentMagenta: 0
- HueAdjustmentOrange: 0
- HueAdjustmentPurple: 0
- HueAdjustmentRed: 0
- HueAdjustmentYellow: 0
- LensManualDistortionAmount: 0
- LensProfileChromaticAberrationScale: 100
- LensProfileDistortionScale: 100
- LensProfileEnable: 1
- LensProfileFilename: Canon EOS 5D Mark II (Canon EF 50mm f1.8 II) - RAW.lcp
- LensProfileSetup: LensDefaults
- LensProfileVignettingScale: 100
- LuminanceAdjustmentAqua: +27
- LuminanceAdjustmentBlue: +25
- LuminanceAdjustmentGreen: -19
- LuminanceAdjustmentMagenta: +23
- LuminanceAdjustmentOrange: +23
- LuminanceAdjustmentPurple: 0
- LuminanceAdjustmentRed: -20
- LuminanceAdjustmentYellow: -19
- LuminanceSmoothing: 0
- ParametricDarks: +6
- ParametricHighlightSplit: 75
- ParametricHighlights: -25
- ParametricLights: +10
- ParametricMidtoneSplit: 50
- ParametricShadowSplit: 25
- ParametricShadows: -15
- PerspectiveHorizontal: +2
- PerspectiveRotate: +1.6
- PerspectiveScale: 100
- PerspectiveVertical: +4
- PostCropVignetteAmount: 0
- ProcessVersion: 6.7
- RedHue: -2
- RedSaturation: 0
- SaturationAdjustmentAqua: 0
- SaturationAdjustmentBlue: -22
- SaturationAdjustmentGreen: -13
- SaturationAdjustmentMagenta: -20
- SaturationAdjustmentOrange: -9
- SaturationAdjustmentPurple: 0
- SaturationAdjustmentRed: 0
- SaturationAdjustmentYellow: 0
- ShadowTint: 0
- Shadows2012: +13
- SharpenDetail: 100
- SharpenEdgeMasking: 0
- SharpenRadius: +1.0
- SplitToningBalance: +45
- SplitToningHighlightHue: 60
- SplitToningHighlightSaturation: 8
- SplitToningShadowHue: 205
- SplitToningShadowSaturation: 2
- Tint: +5
- ToneCurveName2012: Linear
- ToneCurvePV2012: 0, 0, 255, 255
- ToneCurvePV2012Blue: 0, 0, 255, 255
- ToneCurvePV2012Green: 0, 0, 255, 255
- ToneCurvePV2012Red: 0, 0, 255, 255
- Version: 8.3
- Vibrance: +6
- VignetteAmount: +17
- VignetteMidpoint: 19
- Whites2012: +3
- XMP-dc
- XMP-exif
- FlashFired: False
- FlashFunction: False
- FlashMode: Off
- FlashRedEyeMode: False
- FlashReturn: No return detection
- XMP-tiff
- BitsPerSample: 8
- ImageHeight: 3553
- ImageWidth: 5330
- XMP-x
- XMP-xmp
- XMP-xmpMM
- Просмотров: 377
- Рейтинг: голосов еще нет
- Отзывов: 0