- Раздел: Природа
- Дата съёмки: 10.08.2007 21:43
- Дата загрузки фото: 10.08.2007 22:46
- Оригинальная фотография: 820 x 627 (201 Кб)
- Технические характеристики:
- Фотоаппарат: FujiFilm FinePix S6500fd
- Выдержка: 1/850
- Гиперфокальное расстояние: 410,39 m
- Диафрагма: 5,6
- Светочувствительность: 200
- Фокусное расстояние: 66,7mm (35mm эквивалент: 1035,3mm)
- Полный EXIF
- ColorTransform: YCbCr
- Composite
- Aperture: 5,6
- CircleOfConfusion: 0,002 mm
- EV: 13,7
- FocalLength35efl: 66,7mm (35mm equivalent: 1035,3mm)
- HyperfocalDistance: 410,39 m
- ScaleFactor35efl: 15,5
- ShutterSpeed: 1/850
- ExifIFD
- ApertureValue: 5,6
- BrightnessValue: 9,97
- ColorSpace: Uncalibrated
- CreateDate: 2007:08:10 16:55:07
- CustomRendered: Normal
- DateTimeOriginal: 2007:08:10 16:55:07
- ExifImageLength: 627
- ExifImageWidth: 820
- ExposureCompensation: 0
- ExposureMode: Auto
- ExposureProgram: Aperture-priority AE
- ExposureTime: 1/850
- FNumber: 5,6
- Flash: Off
- FocalLength: 66,7mm
- ISO: 200
- LightSource: Unknown (0)
- MaxApertureValue: 2,8
- MeteringMode: Multi-segment
- SceneCaptureType: Standard
- SceneType: Directly photographed
- SensingMethod: One-chip color area
- Sharpness: Normal
- ShutterSpeedValue: 1/850
- WhiteBalance: Auto
- ICC-header
- IFD0
- Make: FUJIFILM
- Model: FinePix S6500fd
- ModifyDate: 2007:08:10 21:43:06
- Orientation: Horizontal (normal)
- TimeZoneOffset: 3 3
- IFD1
- IPTC
- XMP-crs
- AlreadyApplied: True
- BlueHue: 0
- BlueSaturation: 0
- Brightness: +23
- CameraProfile: Embedded
- ChromaticAberrationB: 0
- ChromaticAberrationR: 0
- Clarity: 99
- ColorNoiseReduction: 0
- Contrast: +58
- ConvertToGrayscale: False
- Defringe: 0
- Exposure: -0.70
- FillLight: 2
- GreenHue: 0
- GreenSaturation: 0
- HasCrop: False
- HasSettings: True
- HighlightRecovery: 51
- HueAdjustmentAqua: 0
- HueAdjustmentBlue: 0
- HueAdjustmentGreen: 0
- HueAdjustmentMagenta: 0
- HueAdjustmentOrange: 0
- HueAdjustmentPurple: 0
- HueAdjustmentRed: 0
- HueAdjustmentYellow: 0
- IncrementalTemperature: 0
- IncrementalTint: 0
- LuminanceAdjustmentAqua: 0
- LuminanceAdjustmentBlue: 0
- LuminanceAdjustmentGreen: 0
- LuminanceAdjustmentMagenta: 0
- LuminanceAdjustmentOrange: 0
- LuminanceAdjustmentPurple: 0
- LuminanceAdjustmentRed: 0
- LuminanceAdjustmentYellow: 0
- LuminanceSmoothing: 0
- ParametricDarks: +16
- ParametricHighlightSplit: 75
- ParametricHighlights: +23
- ParametricLights: -21
- ParametricMidtoneSplit: 50
- ParametricShadowSplit: 25
- ParametricShadows: 0
- RawFileName: DSCF0243.jpg
- RedHue: 0
- RedSaturation: 0
- Saturation: 0
- SaturationAdjustmentAqua: 0
- SaturationAdjustmentBlue: 0
- SaturationAdjustmentGreen: 0
- SaturationAdjustmentMagenta: 0
- SaturationAdjustmentOrange: 0
- SaturationAdjustmentPurple: 0
- SaturationAdjustmentRed: 0
- SaturationAdjustmentYellow: 0
- ShadowTint: 0
- Shadows: 10
- SharpenDetail: 25
- SharpenEdgeMasking: 0
- SharpenRadius: +1.0
- Sharpness: 0
- SplitToningBalance: 0
- SplitToningHighlightHue: 0
- SplitToningHighlightSaturation: 0
- SplitToningShadowHue: 0
- SplitToningShadowSaturation: 0
- ToneCurve: 0, 0, 255, 255
- ToneCurveName: Linear
- Version: 4.1
- Vibrance: +71
- VignetteAmount: 0
- WhiteBalance: As Shot
- XMP-dc
- XMP-exif
- ColorSpace: Unknown (-1)
- DateTimeDigitized: 2007:08:10 16:55:07+03:00
- DateTimeOriginal: 2007:08:10 16:55:07+03:00
- ExifImageHeight: 627
- FlashFired: False
- FlashFunction: False
- FlashMode: Off
- FlashRedEyeMode: False
- FlashReturn: No return detection
- SubjectDistanceRange: Unknown
- XMP-tiff
- XMP-xmp
- CreateDate: 2007:08:10 21:43:06+03:00
- ModifyDate: 2007:08:10 21:43:06+03:00
- Rating: 0
- XMP-xmpMM
- DerivedFrom:
- Просмотров: 942
- Рейтинг: голосов еще нет
- Отзывов: 1