- Раздел: Цветы
- Дата съёмки: 17.05.2008 14:30
- Дата загрузки фото: 20.05.2008 22:10
- Оригинальная фотография: 3716 x 2488 (4,5 Мб)
- Технические характеристики:
- Фотоаппарат: Sony DSLR-A100
- Выдержка: 1/640
- Гиперфокальное расстояние: 393,14 m
- Диафрагма: 5,6
- Светочувствительность: 200
- Фокусное расстояние: 210,0mm (35mm эквивалент: 315,0mm)
- Полный EXIF
- Adobe
- ColorTransform: YCbCr
- Composite
- Aperture: 5,6
- CircleOfConfusion: 0,020 mm
- FocalLength35efl: 210,0mm (35mm equivalent: 315,0mm)
- HyperfocalDistance: 393,14 m
- LightValue: 13,3
- ScaleFactor35efl: 1,5
- ShutterSpeed: 1/640
- ExifIFD
- ApertureValue: 5,6
- BrightnessValue: 8,5
- Contrast: Normal
- CreateDate: 2008:05:17 14:30:34
- CustomRendered: Normal
- DateTimeOriginal: 2008:05:17 14:30:34
- DigitalZoomRatio: 0
- ExposureCompensation: 0
- ExposureMode: Auto bracket
- ExposureProgram: Aperture-priority AE
- ExposureTime: 1/640
- FNumber: 5,6
- Flash: Off
- FocalLength: 210,0mm
- FocalLengthIn35mmFormat: 315mm
- GainControl: None
- ISO: 200
- LightSource: Unknown (0)
- MaxApertureValue: 4,0
- MeteringMode: Multi-segment
- Saturation: Normal
- SceneCaptureType: Standard
- SceneType: Directly photographed
- Sharpness: Normal
- ShutterSpeedValue: 1/640
- SubjectLocation: 1936 1296 329 393
- WhiteBalance: Auto
- ICC-header
- ICC-meas
- ICC-view
- IFD0
- ImageDescription: SONY DSC
- Make: SONY
- Model: DSLR-A100
- ModifyDate: 2008:05:20 21:56:32
- Software: DSLR-A100 v1.04
- IFD1
- IPTC
- Caption-Abstract: SONY DSC
- Keywords: req square
- XMP-crs
- AlreadyApplied: True
- BlueHue: 0
- BlueSaturation: 0
- Brightness: +50
- CameraProfile: ACR 4.4
- ChromaticAberrationB: 0
- ChromaticAberrationR: 0
- Clarity: 99
- ColorNoiseReduction: 25
- Contrast: +61
- ConvertToGrayscale: False
- CropAngle: 0
- CropBottom: 0.959732
- CropHeight: 2488
- CropLeft: 0.040268
- CropRight: 1
- CropTop: 0
- CropUnit: 0
- CropWidth: 3716
- Defringe: 0
- Exposure: +0.46
- FillLight: 0
- GreenHue: 0
- GreenSaturation: 0
- HasCrop: True
- HasSettings: True
- HighlightRecovery: 62
- HueAdjustmentAqua: 0
- HueAdjustmentBlue: 0
- HueAdjustmentGreen: 0
- HueAdjustmentMagenta: 0
- HueAdjustmentOrange: 0
- HueAdjustmentPurple: 0
- HueAdjustmentRed: 0
- HueAdjustmentYellow: 0
- LuminanceAdjustmentAqua: 0
- LuminanceAdjustmentBlue: 0
- LuminanceAdjustmentGreen: 0
- LuminanceAdjustmentMagenta: 0
- LuminanceAdjustmentOrange: 0
- LuminanceAdjustmentPurple: 0
- LuminanceAdjustmentRed: 0
- LuminanceAdjustmentYellow: 0
- LuminanceSmoothing: 0
- ParametricDarks: +13
- ParametricHighlightSplit: 75
- ParametricHighlights: -100
- ParametricLights: -33
- ParametricMidtoneSplit: 50
- ParametricShadowSplit: 25
- ParametricShadows: 0
- RedHue: 0
- RedSaturation: 0
- Saturation: 0
- SaturationAdjustmentAqua: 0
- SaturationAdjustmentBlue: 0
- SaturationAdjustmentGreen: 0
- SaturationAdjustmentMagenta: 0
- SaturationAdjustmentOrange: 0
- SaturationAdjustmentPurple: 0
- SaturationAdjustmentRed: 0
- SaturationAdjustmentYellow: 0
- ShadowTint: 0
- Shadows: 5
- SharpenDetail: 25
- SharpenEdgeMasking: 0
- SharpenRadius: +1.0
- Sharpness: 25
- SplitToningBalance: 0
- SplitToningHighlightHue: 0
- SplitToningHighlightSaturation: 0
- SplitToningShadowHue: 0
- SplitToningShadowSaturation: 0
- Temperature: 4950
- Tint: +13
- ToneCurve: 0, 0, 32, 22, 64, 56, 128, 128, 192, 196, 255, 255
- ToneCurveName: Medium Contrast
- Version: 4.4.1
- Vibrance: 0
- VignetteAmount: 0
- WhiteBalance: As Shot
- XMP-dc
- Description: SONY DSC
- Subject: req square
- XMP-exif
- DateTimeDigitized: 2008:05:17 14:30:34+04:00
- DateTimeOriginal: 2008:05:17 14:30:34+04:00
- FlashFired: False
- FlashFunction: False
- FlashMode: Off
- FlashRedEyeMode: False
- FlashReturn: No return detection
- FocalLengthIn35mmFormat: 315
- SubjectArea: 1936, 1296, 329, 393
- XMP-tiff
- ImageHeight: 2488
- ImageWidth: 3716
- XMP-xmp
- ModifyDate: 2008:05:20 21:56:32+04:00
- Rating: 3
- Просмотров: 520
- Рейтинг: голосов еще нет
- Отзывов: 0