- Раздел: Другое, разное
- Дата съёмки: 01.08.2009 10:17
- Дата загрузки фото: 01.08.2009 17:03
- Оригинальная фотография: 4672 x 3104 (10,2 Мб)
- Технические характеристики:
- Фотоаппарат: Pentax K-7
- Выдержка: 1/200
- Гиперфокальное расстояние: 1,77 m
- Диафрагма: 8,0
- Светочувствительность: 100
- Фокусное расстояние: 17,0 mm (35 mm equivalent: 25,0 mm)
- Полный EXIF
- Adobe
- ColorTransform: YCbCr
- Composite
- Aperture: 8,0
- CircleOfConfusion: 0,020 mm
- FOV: 71,0 deg
- FocalLength35efl: 17,0 mm (35 mm equivalent: 25,0 mm)
- HyperfocalDistance: 1,77 m
- ScaleFactor35efl: 1,5
- ShutterSpeed: 1/200
- ExifIFD
- ApertureValue: 8,0
- CFAPattern: [Blue,Green][Green,Red]
- ColorSpace: sRGB
- Contrast: Normal
- CreateDate: 2009:08:01 10:17:59
- CustomRendered: Normal
- DateTimeOriginal: 2009:08:01 10:17:59
- ExifImageHeight: 3104
- ExifImageWidth: 4672
- ExposureCompensation: 0
- ExposureMode: Auto bracket
- ExposureProgram: Aperture-priority AE
- ExposureTime: 1/200
- FNumber: 8,0
- Flash: Off
- FocalLength: 17,0 mm
- FocalLengthIn35mmFormat: 25 mm
- ISO: 100
- MeteringMode: Multi-segment
- Saturation: Normal
- SceneCaptureType: Standard
- SensingMethod: One-chip color area
- Sharpness: Normal
- ShutterSpeedValue: 1/200
- SubjectDistanceRange: Distant
- WhiteBalance: Auto
- ICC-header
- ICC-meas
- ICC-view
- IFD0
- Artist: Sergej Petrakov
- Copyright: Sergej Petrakov
- Make: PENTAX
- Model: PENTAX K-7
- ModifyDate: 2009:08:01 16:03:07
- Orientation: Horizontal (normal)
- IFD1
- IPTC
- By-line: Sergej Petrakov
- CopyrightNotice: Sergej Petrakov
- Keywords: Sea Festival 2009, summer, Tall Ships 2009
- XMP-aux
- Lens: smc PENTAX-DA 17-70mm F4 AL [IF] SDM
- LensID: 8 232
- LensInfo: 170/10 700/10 40/10 40/10
- XMP-crs
- AlreadyApplied: True
- BlueHue: 0
- BlueSaturation: 0
- Brightness: +35
- ChromaticAberrationB: 0
- ChromaticAberrationR: -21
- Clarity: +18
- ColorNoiseReduction: 0
- Contrast: +49
- ConvertToGrayscale: False
- Defringe: 2
- Exposure: +0.25
- FillLight: 38
- GreenHue: 0
- GreenSaturation: 0
- HasCrop: False
- HasSettings: True
- HighlightRecovery: 1
- HueAdjustmentAqua: 0
- HueAdjustmentBlue: 0
- HueAdjustmentGreen: 0
- HueAdjustmentMagenta: 0
- HueAdjustmentOrange: 0
- HueAdjustmentPurple: 0
- HueAdjustmentRed: 0
- HueAdjustmentYellow: 0
- LuminanceAdjustmentAqua: 0
- LuminanceAdjustmentBlue: 0
- LuminanceAdjustmentGreen: 0
- LuminanceAdjustmentMagenta: 0
- LuminanceAdjustmentOrange: 0
- LuminanceAdjustmentPurple: 0
- LuminanceAdjustmentRed: 0
- LuminanceAdjustmentYellow: 0
- LuminanceSmoothing: 0
- ParametricDarks: 0
- ParametricHighlightSplit: 75
- ParametricHighlights: 0
- ParametricLights: 0
- ParametricMidtoneSplit: 50
- ParametricShadowSplit: 25
- ParametricShadows: 0
- PostCropVignetteAmount: 0
- RawFileName: IMGA0902.dng
- RedHue: 0
- RedSaturation: 0
- Saturation: 0
- SaturationAdjustmentAqua: 0
- SaturationAdjustmentBlue: 0
- SaturationAdjustmentGreen: 0
- SaturationAdjustmentMagenta: 0
- SaturationAdjustmentOrange: 0
- SaturationAdjustmentPurple: 0
- SaturationAdjustmentRed: 0
- SaturationAdjustmentYellow: 0
- ShadowTint: 0
- Shadows: 0
- SharpenDetail: 0
- SharpenEdgeMasking: 0
- SharpenRadius: +1.0
- Sharpness: 0
- SplitToningBalance: 0
- SplitToningHighlightHue: 0
- SplitToningHighlightSaturation: 0
- SplitToningShadowHue: 0
- SplitToningShadowSaturation: 0
- Temperature: 5300
- Tint: +9
- ToneCurve: 0, 0, 32, 22, 64, 56, 128, 128, 192, 196, 255, 255
- ToneCurveName: Medium Contrast
- Version: 5.4
- Vibrance: +10
- VignetteAmount: 0
- WhiteBalance: As Shot
- XMP-dc
- Creator: Sergej Petrakov, Sergej Petrakov
- Format: image/jpeg
- Rights: Sergej Petrakov
- Subject: Sea Festival 2009, summer, Tall Ships 2009
- XMP-exif
- DateTimeDigitized: 2009:08:01 10:17:59+03:00
- DateTimeOriginal: 2009:08:01 10:17:59+03:00
- FlashFired: False
- FlashFunction: False
- FlashMode: Off
- FlashRedEyeMode: False
- FlashReturn: No return detection
- XMP-lr
- HierarchicalSubject: season|summer, Events|Tall Ships 2009, Events|Sea Festival 2009
- XMP-tiff
- XMP-xmp
- CreateDate: 2009:08:01 10:17:59+03:00
- CreatorTool: K-7 Ver 1.01
- ModifyDate: 2009:08:01 16:03:07+03:00
- Rating: 0
- XMP-xmpMM
- Просмотров: 446
- Рейтинг: голосов еще нет
- Отзывов: 1