- Раздел: Другое, разное
- Дата съёмки: 06.07.2009 11:12
- Дата загрузки фото: 15.11.2009 13:24
- Оригинальная фотография: 760 x 500 ( 90 Кб)
- Технические характеристики:
- Фотоаппарат: Canon EOS 400D DIGITAL
- Выдержка: 1/640
- Гиперфокальное расстояние: 9,99 m
- Диафрагма: 8,0
- Светочувствительность: 200
- Фокусное расстояние: 17,0 mm (35 mm equivalent: 141,3 mm)
- Экспокоррекция: -2/3
- Полный EXIF
- Composite
- Aperture: 8,0
- CircleOfConfusion: 0,004 mm
- FOV: 14,0 deg
- FocalLength35efl: 17,0 mm (35 mm equivalent: 141,3 mm)
- HyperfocalDistance: 9,99 m
- ScaleFactor35efl: 8,3
- ShutterSpeed: 1/640
- ExifIFD
- ApertureValue: 8,0
- ColorSpace: sRGB
- CreateDate: 2009:07:06 11:12:41
- DateTimeOriginal: 2009:07:06 11:12:41
- ExifImageHeight: 2472
- ExifImageWidth: 3756
- ExposureCompensation: +1431670081
- ExposureProgram: Aperture-priority AE
- ExposureTime: 1/640
- FNumber: 8,0
- Flash: Off
- FocalLength: 17,0 mm
- ISO: 200
- MaxApertureValue: 2,8
- MeteringMode: Average
- ShutterSpeedValue: 1/640
- IFD0
- Artist: unknown
- CustomRendered: Normal
- ExposureMode: Auto
- Make: Canon
- Model: Canon EOS 400D DIGITAL
- ModifyDate: 2009:07:19 14:16:33
- Orientation: Horizontal (normal)
- SceneCaptureType: Standard
- WhiteBalance: Auto
- IPTC
- XMP-aux
- Firmware: 1.1.0
- FlashCompensation: 1,33333333333333
- ImageNumber: 80
- Lens: 17.0-50.0 mm
- LensInfo: 17/1 50/1 0/0 0/0
- OwnerName: unknown
- SerialNumber: 1480860895
- XMP-crs
- AlreadyApplied: True
- BlueHue: 0
- BlueSaturation: 0
- Brightness: +45
- CameraProfile: ACR 3.6
- ChromaticAberrationB: 0
- ChromaticAberrationR: 0
- Clarity: 0
- ColorNoiseReduction: 25
- Contrast: +41
- ConvertToGrayscale: False
- Defringe: 0
- Exposure: +1.33
- FillLight: 1
- GreenHue: 0
- GreenSaturation: 0
- HasCrop: False
- HasSettings: True
- HighlightRecovery: 10
- HueAdjustmentAqua: 0
- HueAdjustmentBlue: 0
- HueAdjustmentGreen: 0
- HueAdjustmentMagenta: 0
- HueAdjustmentOrange: 0
- HueAdjustmentPurple: 0
- HueAdjustmentRed: 0
- HueAdjustmentYellow: 0
- LuminanceAdjustmentAqua: 0
- LuminanceAdjustmentBlue: 0
- LuminanceAdjustmentGreen: 0
- LuminanceAdjustmentMagenta: 0
- LuminanceAdjustmentOrange: 0
- LuminanceAdjustmentPurple: 0
- LuminanceAdjustmentRed: 0
- LuminanceAdjustmentYellow: 0
- LuminanceSmoothing: 0
- ParametricDarks: 0
- ParametricHighlightSplit: 75
- ParametricHighlights: 0
- ParametricLights: 0
- ParametricMidtoneSplit: 50
- ParametricShadowSplit: 25
- ParametricShadows: 0
- RedHue: 0
- RedSaturation: 0
- Saturation: 0
- SaturationAdjustmentAqua: 0
- SaturationAdjustmentBlue: 0
- SaturationAdjustmentGreen: 0
- SaturationAdjustmentMagenta: 0
- SaturationAdjustmentOrange: 0
- SaturationAdjustmentPurple: 0
- SaturationAdjustmentRed: 0
- SaturationAdjustmentYellow: 0
- ShadowTint: 0
- Shadows: 3
- SharpenDetail: 25
- SharpenEdgeMasking: 0
- SharpenRadius: +1.0
- Sharpness: 25
- SplitToningBalance: 0
- SplitToningHighlightHue: 0
- SplitToningHighlightSaturation: 0
- SplitToningShadowHue: 0
- SplitToningShadowSaturation: 0
- Temperature: 5750
- Tint: +19
- ToneCurve: 0, 0, 32, 22, 64, 56, 128, 128, 192, 196, 255, 255
- ToneCurveName: Medium Contrast
- Version: 1.0
- Vibrance: 0
- VignetteAmount: 0
- WhiteBalance: As Shot
- XMP-dc
- Creator: unknown
- Format: image/jpeg
- XMP-exif
- DateTimeDigitized: 2009:07:06 11:12:41+04:00
- DateTimeOriginal: 2009:07:06 11:12:41+04:00
- ExifImageHeight: 500
- ExifImageWidth: 760
- ExposureCompensation: -2/3
- FlashFired: False
- FlashFunction: False
- FlashMode: Off
- FlashRedEyeMode: False
- FlashReturn: No return detection
- XMP-tiff
- ImageHeight: 2592
- ImageWidth: 3888
- XMP-xmp
- CreateDate: 2009:07:06 11:12:41+04:00
- ModifyDate: 2009:07:19 14:16:33+04:00
- XMP-xmpMM
- Просмотров: 666
- Рейтинг: голосов еще нет
- Отзывов: отключены