- Раздел: Тесты фототехники
- Дата съёмки: 12.06.2010 11:10
- Дата загрузки фото: 16.06.2010 21:35
- Оригинальная фотография: 4992 x 7512 (6,5 Мб)
- Технические характеристики:
- Фотоаппарат: Leica Camera AG S2
- Выдержка: 1/500
- Диафрагма: 6,7
- Светочувствительность: 160
- Фокусное расстояние: 70,0 mm
- Полный EXIF
- Adobe
- ColorTransform: YCbCr
- Composite
- Aperture: 6,7
- FocalLength35efl: 70,0 mm
- ShutterSpeed: 1/500
- ExifIFD
- ApertureValue: 6,7
- ColorSpace: sRGB
- Contrast: Normal
- CreateDate: 2010:06:12 11:10:41
- CustomRendered: Normal
- DateTimeOriginal: 2010:06:12 11:10:41
- DigitalZoomRatio: 0
- ExifImageHeight: 7512
- ExifImageWidth: 4992
- ExposureCompensation: 0
- ExposureProgram: Program AE
- ExposureTime: 1/500
- FNumber: 6,7
- Flash: No Flash
- FocalLength: 70,0 mm
- ISO: 160
- LightSource: Unknown
- MaxApertureValue: 2,5
- MeteringMode: Multi-spot
- Saturation: Normal
- SceneCaptureType: Standard
- SceneType: Directly photographed
- Sharpness: Normal
- ShutterSpeedValue: 1/500
- WhiteBalance: Auto
- ICC-header
- ICC-meas
- ICC-view
- IFD0
- Artist: Leica Camera AG
- Copyright: Leica Camera AG
- Make: Leica Camera AG
- Model: S2
- ModifyDate: 2010:06:15 23:47:21
- Orientation: Horizontal (normal)
- IFD1
- IPTC
- By-line: Leica Camera AG
- CopyrightNotice: Leica Camera AG
- System
- XMP-aux
- Firmware: 1.0.0.13
- Lens: Summarit-S 70
- SerialNumber: 00225
- XMP-crs
- AlreadyApplied: True
- BlueHue: 0
- BlueSaturation: 0
- Brightness: +50
- CameraProfile: Embedded
- ChromaticAberrationB: 0
- ChromaticAberrationR: 0
- Clarity: 0
- ColorNoiseReduction: 25
- Contrast: +25
- ConvertToGrayscale: False
- Defringe: 2
- Exposure: -1.00
- FillLight: 0
- GrainAmount: 0
- GreenHue: 0
- GreenSaturation: 0
- HasCrop: False
- HasSettings: True
- HighlightRecovery: 0
- HueAdjustmentAqua: 0
- HueAdjustmentBlue: 0
- HueAdjustmentGreen: 0
- HueAdjustmentMagenta: 0
- HueAdjustmentOrange: 0
- HueAdjustmentPurple: 0
- HueAdjustmentRed: 0
- HueAdjustmentYellow: 0
- LuminanceAdjustmentAqua: 0
- LuminanceAdjustmentBlue: 0
- LuminanceAdjustmentGreen: 0
- LuminanceAdjustmentMagenta: 0
- LuminanceAdjustmentOrange: 0
- LuminanceAdjustmentPurple: 0
- LuminanceAdjustmentRed: 0
- LuminanceAdjustmentYellow: 0
- LuminanceSmoothing: 0
- ParametricDarks: -27
- ParametricHighlightSplit: 75
- ParametricHighlights: 0
- ParametricLights: 0
- ParametricMidtoneSplit: 50
- ParametricShadowSplit: 25
- ParametricShadows: 0
- PostCropVignetteAmount: 0
- ProcessVersion: 5.0
- RawFileName: L1000051.DNG
- RedHue: 0
- RedSaturation: 0
- Saturation: +25
- SaturationAdjustmentAqua: 0
- SaturationAdjustmentBlue: 0
- SaturationAdjustmentGreen: 0
- SaturationAdjustmentMagenta: 0
- SaturationAdjustmentOrange: 0
- SaturationAdjustmentPurple: 0
- SaturationAdjustmentRed: 0
- SaturationAdjustmentYellow: 0
- ShadowTint: 0
- Shadows: 0
- SharpenDetail: 13
- SharpenEdgeMasking: 0
- SharpenRadius: +0.8
- Sharpness: 44
- SplitToningBalance: 0
- SplitToningHighlightHue: 0
- SplitToningHighlightSaturation: 0
- SplitToningShadowHue: 0
- SplitToningShadowSaturation: 0
- Temperature: 6000
- Tint: +26
- ToneCurve: 0, 0, 32, 22, 64, 56, 128, 128, 192, 196, 255, 255
- ToneCurveName: Medium Contrast
- Version: 5.7
- Vibrance: 0
- VignetteAmount: 0
- WhiteBalance: As Shot
- XMP-dc
- Creator: Leica Camera AG
- Format: image/jpeg
- Rights: Leica Camera AG
- XMP-exif
- DateTimeDigitized: 2010:06:12 11:10:41+04:00
- DateTimeOriginal: 2010:06:12 11:10:41+04:00
- FlashFired: False
- FlashFunction: False
- FlashMode: Unknown
- FlashRedEyeMode: False
- FlashReturn: No return detection
- XMP-tiff
- XMP-xmp
- CreateDate: 2010:06:12 11:10:41+04:00
- CreatorTool: 1.0.0.13
- ModifyDate: 2010:06:15 23:47:21+04:00
- Rating: 0
- XMP-xmpMM