- Раздел: Портрет
- Дата съёмки: 05.08.2010 22:39
- Дата загрузки фото: 11.08.2010 22:46
- Оригинальная фотография: 2895 x 2651 (2,9 Мб)
- Технические характеристики:
- Фотоаппарат: Canon EOS 5D
- Выдержка: 1/25
- Гиперфокальное расстояние: inf m
- Диафрагма: 1,4
- Светочувствительность: 1600
- Фокусное расстояние: 35,0 mm (35 mm equivalent: 35,0 mm)
- Полный EXIF
- Adobe
- ColorTransform: YCbCr
- Composite
- Aperture: 1,4
- CircleOfConfusion: 0,022 mm
- FOV: 54,0 deg
- FocalLength35efl: 35,0 mm (35 mm equivalent: 35,0 mm)
- HyperfocalDistance: inf m
- ScaleFactor35efl: 1,3
- ShutterSpeed: 1/25
- ExifIFD
- ApertureValue: 1,4
- CreateDate: 2010:08:05 22:39:54
- CustomRendered: Normal
- DateTimeOriginal: 2010:08:05 22:39:54
- ExposureCompensation: 0
- ExposureMode: Auto
- ExposureProgram: Shutter speed priority AE
- ExposureTime: 1/25
- FNumber: 1,4
- Flash: Off, Did not fire
- FocalLength: 35,0 mm
- ISO: 1600
- MaxApertureValue: 1,4
- MeteringMode: Multi-segment
- SceneCaptureType: Standard
- ShutterSpeedValue: 1/25
- WhiteBalance: Auto
- ICC-header
- ICC-meas
- ICC-view
- IFD0
- Make: Canon
- Model: Canon EOS 5D
- ModifyDate: 2010:08:11 22:40:06
- IFD1
- System
- XMP-aux
- Firmware: 1.1.1
- FlashCompensation: 0
- ImageNumber: 3
- Lens: EF35mm f/1.4L USM
- LensInfo: 35/1 35/1 0/0 0/0
- SerialNumber: 730507263
- XMP-crs
- AlreadyApplied: True
- BlueHue: 0
- BlueSaturation: 0
- Brightness: +79
- ChromaticAberrationB: 0
- ChromaticAberrationR: 0
- Clarity: +43
- ColorNoiseReduction: 25
- Contrast: +93
- ConvertToGrayscale: True
- CropAngle: -0.235281
- CropBottom: 0.996261
- CropHeight: 2895
- CropLeft: 0.069151
- CropRight: 0.678832
- CropTop: 0.00571
- CropUnit: pixels
- CropWidth: 2651
- Defringe: 0
- Exposure: 0.00
- FillLight: 26
- GradientBasedCorrActive: true
- GradientBasedCorrAmount: 1.000000
- GradientBasedCorrBrightness: -0.125000
- GradientBasedCorrClarity: 0.000000
- GradientBasedCorrContrast: 0.000000
- GradientBasedCorrExposure: -0.675000
- GradientBasedCorrHue: 240.000000
- GradientBasedCorrMaskFullX: 0.433107
- GradientBasedCorrMaskFullY: 1.155150
- GradientBasedCorrMaskValue: 1.000000
- GradientBasedCorrMaskWhat: Mask/Gradient
- GradientBasedCorrMaskZeroX: 0.427885
- GradientBasedCorrMaskZeroY: 0.593378
- GradientBasedCorrSaturation: 0.000000
- GradientBasedCorrSharpness: 0.250000
- GradientBasedCorrWhat: Correction
- GrayMixerAqua: -20
- GrayMixerBlue: +3
- GrayMixerGreen: -22
- GrayMixerMagenta: +6
- GrayMixerOrange: -11
- GrayMixerPurple: +12
- GrayMixerRed: -2
- GrayMixerYellow: -14
- GreenHue: 0
- GreenSaturation: 0
- HasCrop: True
- HasSettings: True
- HighlightRecovery: 100
- LuminanceSmoothing: 0
- ParametricDarks: 0
- ParametricHighlightSplit: 75
- ParametricHighlights: 0
- ParametricLights: 0
- ParametricMidtoneSplit: 50
- ParametricShadowSplit: 25
- ParametricShadows: 0
- PostCropVignetteAmount: 0
- RedHue: 0
- RedSaturation: 0
- ShadowTint: 0
- Shadows: 8
- SharpenDetail: 25
- SharpenEdgeMasking: 0
- SharpenRadius: +1.0
- Sharpness: 25
- SplitToningBalance: 0
- SplitToningHighlightHue: 0
- SplitToningHighlightSaturation: 0
- SplitToningShadowHue: 0
- SplitToningShadowSaturation: 0
- Temperature: 3850
- Tint: +33
- ToneCurve: 0, 0, 32, 22, 64, 56, 128, 128, 192, 196, 255, 255
- ToneCurveName: Medium Contrast
- Version: 5.3
- VignetteAmount: -100
- VignetteMidpoint: 0
- WhiteBalance: As Shot
- XMP-exif
- DateTimeDigitized: 2010:08:05 22:39:54+04:00
- DateTimeOriginal: 2010:08:05 22:39:54+04:00
- ExifImageHeight: 2651
- ExifImageWidth: 2895
- FlashFired: False
- FlashFunction: False
- FlashMode: Off
- FlashRedEyeMode: False
- FlashReturn: No return detection
- XMP-tiff
- ImageHeight: 2651
- ImageWidth: 2895
- XMP-xmp
- CreateDate: 2010:08:05 22:39:54+04:00
- ModifyDate: 2010:08:11 22:40:06+04:00
- Просмотров: 2343
- Рейтинг: голосов еще нет
- Отзывов: 0