- Раздел: Автомобили
- Дата съёмки: 15.10.2010 11:16
- Дата загрузки фото: 20.10.2010 09:13
- Оригинальная фотография: 1613 x 2419 (824 Кб)
- Технические характеристики:
- Фотоаппарат: Sony DSLR-A900
- Выдержка: 1/80
- Гиперфокальное расстояние: inf m
- Диафрагма: 5,6
- Светочувствительность: 200
- Фокусное расстояние: 70,0 mm (35 mm equivalent: 70,0 mm)
- Полный EXIF
- Composite
- Aperture: 5,6
- CircleOfConfusion: 0,030 mm
- FOV: 28,0 deg
- FocalLength35efl: 70,0 mm (35 mm equivalent: 70,0 mm)
- HyperfocalDistance: inf m
- ScaleFactor35efl: 1,0
- ShutterSpeed: 1/80
- ExifIFD
- ApertureValue: 5,6
- BrightnessValue: 3,62
- ColorSpace: Uncalibrated
- Contrast: Normal
- CreateDate: 2010:10:15 11:16:25
- CustomRendered: Normal
- DateTimeOriginal: 2010:10:15 11:16:25
- ExifImageHeight: 2419
- ExifImageWidth: 1613
- ExposureCompensation: 0
- ExposureMode: Auto
- ExposureProgram: Aperture-priority AE
- ExposureTime: 1/80
- FNumber: 5,6
- Flash: On, Fired
- FocalLength: 70,0 mm
- FocalLengthIn35mmFormat: 70 mm
- ISO: 200
- LightSource: Unknown
- MaxApertureValue: 2,8
- MeteringMode: Multi-segment
- Saturation: Normal
- SceneCaptureType: Standard
- SceneType: Directly photographed
- Sharpness: Normal
- ShutterSpeedValue: 1/80
- WhiteBalance: Auto
- ICC-header
- IFD0
- ImageDescription: SONY DSC
- Make: SONY
- Model: DSLR-A900
- ModifyDate: 2010:10:18 18:38:53
- Orientation: Horizontal (normal)
- Software: ACD Systems Digital Imaging
- IFD1
- IPTC
- Caption-Abstract: SONY DSC
- System
- XMP-aux
- Lens: 24-70mm F2.8 ZA SSM
- LensID: 48
- LensInfo: 24-70mm f/28
- XMP-crs
- AlreadyApplied: True
- BlueHue: 0
- BlueSaturation: 0
- Brightness: +31
- ChromaticAberrationB: 0
- ChromaticAberrationR: 0
- Clarity: +40
- ColorNoiseReduction: 25
- Contrast: +3
- ConvertToGrayscale: False
- Defringe: 0
- Exposure: -0.05
- FillLight: 12
- GrainAmount: 0
- GreenHue: 0
- GreenSaturation: 0
- HasCrop: False
- HasSettings: True
- HighlightRecovery: 32
- HueAdjustmentAqua: 0
- HueAdjustmentBlue: 0
- HueAdjustmentGreen: 0
- HueAdjustmentMagenta: 0
- HueAdjustmentOrange: 0
- HueAdjustmentPurple: 0
- HueAdjustmentRed: 0
- HueAdjustmentYellow: 0
- LuminanceAdjustmentAqua: 0
- LuminanceAdjustmentBlue: 0
- LuminanceAdjustmentGreen: 0
- LuminanceAdjustmentMagenta: 0
- LuminanceAdjustmentOrange: 0
- LuminanceAdjustmentPurple: 0
- LuminanceAdjustmentRed: 0
- LuminanceAdjustmentYellow: 0
- LuminanceSmoothing: 0
- ParametricDarks: 0
- ParametricHighlightSplit: 75
- ParametricHighlights: 0
- ParametricLights: 0
- ParametricMidtoneSplit: 50
- ParametricShadowSplit: 25
- ParametricShadows: 0
- PostCropVignetteAmount: 0
- ProcessVersion: 5.0
- RawFileName: DSC03013.ARW
- RedHue: 0
- RedSaturation: 0
- Saturation: 0
- SaturationAdjustmentAqua: 0
- SaturationAdjustmentBlue: 0
- SaturationAdjustmentGreen: 0
- SaturationAdjustmentMagenta: 0
- SaturationAdjustmentOrange: 0
- SaturationAdjustmentPurple: 0
- SaturationAdjustmentRed: 0
- SaturationAdjustmentYellow: 0
- ShadowTint: 0
- Shadows: 2
- SharpenDetail: 25
- SharpenEdgeMasking: 0
- SharpenRadius: +1.0
- Sharpness: 25
- SplitToningBalance: 0
- SplitToningHighlightHue: 0
- SplitToningHighlightSaturation: 0
- SplitToningShadowHue: 0
- SplitToningShadowSaturation: 0
- Temperature: 4950
- Tint: +7
- ToneCurve: 0, 0, 32, 22, 64, 56, 128, 128, 192, 196, 255, 255
- ToneCurveName: Medium Contrast
- Version: 5.7
- Vibrance: 0
- VignetteAmount: 0
- WhiteBalance: Custom
- XMP-dc
- Description: SONY DSC
- Format: image/jpeg
- XMP-exif
- DateTimeDigitized: 2010:10:15 11:16:25.0+3:00
- DateTimeOriginal: 2010:10:15 11:16:25.0+3:00
- ExifImageHeight: 6048
- ExifImageWidth: 4032
- FlashFired: True
- FlashFunction: False
- FlashMode: On
- FlashRedEyeMode: False
- FlashReturn: No return detection
- FocalLengthIn35mmFormat: 70
- XMP-tiff
- XMP-x
- XMP-xmp
- CreateDate: 2010:10:15 12:16:25+04:00
- CreatorTool: DSLR-A900 v1.00
- ModifyDate: 2010:10:17 22:51:57.0+3:00
- Rating: 0
- XMP-xmpMM
- Просмотров: 757
- Рейтинг: голосов еще нет
- Отзывов: 1