- Раздел: Другое, разное
- Дата съёмки: 20.01.2011 23:53
- Дата загрузки фото: 20.01.2011 23:09
- Оригинальная фотография: 2000 x 1688 (1022 Кб)
- Технические характеристики:
- Фотоаппарат: Canon EOS 500D
- Выдержка: 1/60
- Гиперфокальное расстояние: inf m
- Диафрагма: 5,6
- Светочувствительность: 400
- Фокусное расстояние: 85,0 mm (35 mm equivalent: 255,0 mm)
- Полный EXIF
- Adobe
- ColorTransform: YCbCr
- Composite
- Aperture: 5,6
- CircleOfConfusion: 0,009 mm
- FOV: 8,0 deg
- FocalLength35efl: 85,0 mm (35 mm equivalent: 255,0 mm)
- HyperfocalDistance: inf m
- ScaleFactor35efl: 3,5
- ShutterSpeed: 1/60
- ExifIFD
- ApertureValue: 5,6
- ColorSpace: sRGB
- CreateDate: 2011:01:20 23:53:24
- CustomRendered: Normal
- DateTimeOriginal: 2011:01:20 23:53:24
- ExifImageHeight: 1688
- ExifImageWidth: 2000
- ExposureCompensation: 0
- ExposureMode: Auto
- ExposureProgram: Program AE
- ExposureTime: 1/60
- FNumber: 5,6
- Flash: On, Fired
- FocalLength: 85,0 mm
- ISO: 400
- MaxApertureValue: 5,7
- MeteringMode: Multi-segment
- SceneCaptureType: Standard
- ShutterSpeedValue: 1/60
- SubjectDistance: 0,5 m
- WhiteBalance: Auto
- ICC-header
- ICC-meas
- ICC-view
- IFD0
- Make: Canon
- Model: Canon EOS 500D
- ModifyDate: 2011:01:20 22:59:25
- Orientation: Horizontal (normal)
- IFD1
- IPTC
- DateCreated: 2011:01:20
- System
- XMP-aux
- Firmware: 1.0.9
- FlashCompensation: 0
- ImageNumber: 0
- Lens: EF-S17-85mm f/4-5.6 IS USM
- LensID: 234
- LensInfo: 17-85mm f/?
- SerialNumber: 530134412
- XMP-crs
- AlreadyApplied: True
- BlueHue: 0
- BlueSaturation: 0
- Brightness: 0
- ChromaticAberrationB: 0
- ChromaticAberrationR: 0
- Clarity: +26
- ColorNoiseReduction: 25
- ColorNoiseReductionDetail: 50
- Contrast: +51
- ConvertToGrayscale: False
- CropAngle: 0
- CropBottom: 0.861304
- CropLeft: 0.249769
- CropRight: 0.772433
- CropTop: 0.199723
- Defringe: 0
- Exposure: +1.15
- FillLight: 0
- GrainAmount: 0
- GreenHue: 0
- GreenSaturation: 0
- HasCrop: True
- HasSettings: True
- HighlightRecovery: 4
- HueAdjustmentAqua: 0
- HueAdjustmentBlue: 0
- HueAdjustmentGreen: 0
- HueAdjustmentMagenta: 0
- HueAdjustmentOrange: 0
- HueAdjustmentPurple: 0
- HueAdjustmentRed: 0
- HueAdjustmentYellow: 0
- LuminanceAdjustmentAqua: 0
- LuminanceAdjustmentBlue: 0
- LuminanceAdjustmentGreen: 0
- LuminanceAdjustmentMagenta: 0
- LuminanceAdjustmentOrange: 0
- LuminanceAdjustmentPurple: 0
- LuminanceAdjustmentRed: 0
- LuminanceAdjustmentYellow: 0
- LuminanceSmoothing: 0
- ParametricDarks: 0
- ParametricHighlightSplit: 75
- ParametricHighlights: 0
- ParametricLights: 0
- ParametricMidtoneSplit: 50
- ParametricShadowSplit: 25
- ParametricShadows: 0
- PostCropVignetteAmount: 0
- ProcessVersion: 5.7
- RawFileName: IMG_2938.CR2
- RedHue: 0
- RedSaturation: 0
- Saturation: 0
- SaturationAdjustmentAqua: 0
- SaturationAdjustmentBlue: 0
- SaturationAdjustmentGreen: 0
- SaturationAdjustmentMagenta: 0
- SaturationAdjustmentOrange: 0
- SaturationAdjustmentPurple: 0
- SaturationAdjustmentRed: 0
- SaturationAdjustmentYellow: 0
- ShadowTint: 0
- Shadows: 19
- SharpenDetail: 25
- SharpenEdgeMasking: 0
- SharpenRadius: +1.0
- Sharpness: 25
- SplitToningBalance: 0
- SplitToningHighlightHue: 0
- SplitToningHighlightSaturation: 0
- SplitToningShadowHue: 0
- SplitToningShadowSaturation: 0
- Temperature: 5350
- Tint: -5
- ToneCurve: 0, 0, 32, 22, 64, 56, 128, 128, 192, 196, 255, 255
- ToneCurveName: Medium Contrast
- Version: 6.0
- Vibrance: 0
- VignetteAmount: 0
- WhiteBalance: As Shot
- XMP-dc
- XMP-xmp
- CreateDate: 2011:01:20 23:53:24.80+03:00
- ModifyDate: 2011:01:20 22:59:25+03:00
- Rating: 0
- XMP-xmpMM
- Просмотров: 722
- Рейтинг: голосов еще нет
- Отзывов: 0