- Раздел: Тесты фототехники
- Дата съёмки: 29.01.2011 13:32
- Дата загрузки фото: 05.02.2011 15:30
- Оригинальная фотография: 1600 x 2400 (449 Кб)
- Технические характеристики:
- Фотоаппарат: Sony DSLR-A850
- Выдержка: 1/8000
- Гиперфокальное расстояние: inf m
- Диафрагма: 2,0
- Светочувствительность: 200
- Фокусное расстояние: 100,0 mm (35 mm equivalent: 100,0 mm)
- Полный EXIF
- Composite
- Aperture: 2,0
- CircleOfConfusion: 0,030 mm
- FOV: 20,0 deg
- FocalLength35efl: 100,0 mm (35 mm equivalent: 100,0 mm)
- HyperfocalDistance: inf m
- ScaleFactor35efl: 1,0
- ShutterSpeed: 1/8000
- ExifIFD
- ApertureValue: 2,0
- BrightnessValue: 9
- Contrast: Normal
- CreateDate: 2011:01:29 13:32:45
- CustomRendered: Normal
- DateTimeOriginal: 2011:01:29 13:32:45
- ExifImageHeight: 2400
- ExifImageWidth: 1600
- ExposureCompensation: 0
- ExposureMode: Auto
- ExposureProgram: Aperture-priority AE
- ExposureTime: 1/8000
- FNumber: 2,0
- Flash: Off, Did not fire
- FocalLength: 100,0 mm
- FocalLengthIn35mmFormat: 100 mm
- ISO: 200
- LightSource: Unknown
- MaxApertureValue: 2,0
- MeteringMode: Multi-segment
- Saturation: Normal
- SceneCaptureType: Standard
- SceneType: Directly photographed
- Sharpness: Normal
- ShutterSpeedValue: 1/8000
- WhiteBalance: Auto
- ICC-header
- ICC-meas
- ICC-view
- IFD0
- ImageDescription: SONY DSC
- Make: SONY
- Model: DSLR-A850
- ModifyDate: 2011:02:05 14:13:02
- Orientation: Horizontal (normal)
- Software: ACD Systems Digital Imaging
- IFD1
- IPTC
- Caption-Abstract: SONY DSC
- System
- XMP-aux
- Lens: 100mm F2
- LensID: 25981
- LensInfo: 100mm f/2
- XMP-crs
- AlreadyApplied: True
- BlueHue: 0
- BlueSaturation: 0
- Brightness: +50
- ChromaticAberrationB: 0
- ChromaticAberrationR: 0
- Clarity: 0
- ColorNoiseReduction: 25
- Contrast: +20
- ConvertToGrayscale: False
- Defringe: 0
- Exposure: 0.00
- FillLight: 0
- GrainAmount: 0
- GreenHue: 0
- GreenSaturation: 0
- HasCrop: False
- HasSettings: True
- HighlightRecovery: 8
- HueAdjustmentAqua: 0
- HueAdjustmentBlue: 0
- HueAdjustmentGreen: 0
- HueAdjustmentMagenta: 0
- HueAdjustmentOrange: 0
- HueAdjustmentPurple: 0
- HueAdjustmentRed: 0
- HueAdjustmentYellow: 0
- LuminanceAdjustmentAqua: 0
- LuminanceAdjustmentBlue: 0
- LuminanceAdjustmentGreen: 0
- LuminanceAdjustmentMagenta: 0
- LuminanceAdjustmentOrange: 0
- LuminanceAdjustmentPurple: 0
- LuminanceAdjustmentRed: 0
- LuminanceAdjustmentYellow: 0
- LuminanceSmoothing: 0
- ParametricDarks: 0
- ParametricHighlightSplit: 75
- ParametricHighlights: 0
- ParametricLights: 0
- ParametricMidtoneSplit: 50
- ParametricShadowSplit: 25
- ParametricShadows: 0
- PostCropVignetteAmount: 0
- ProcessVersion: 5.0
- RawFileName: DSC06811.ARW
- RedHue: 0
- RedSaturation: 0
- Saturation: 0
- SaturationAdjustmentAqua: 0
- SaturationAdjustmentBlue: 0
- SaturationAdjustmentGreen: 0
- SaturationAdjustmentMagenta: 0
- SaturationAdjustmentOrange: 0
- SaturationAdjustmentPurple: 0
- SaturationAdjustmentRed: 0
- SaturationAdjustmentYellow: 0
- ShadowTint: 0
- Shadows: 5
- SharpenDetail: 25
- SharpenEdgeMasking: 0
- SharpenRadius: +1.0
- Sharpness: 25
- SplitToningBalance: 0
- SplitToningHighlightHue: 0
- SplitToningHighlightSaturation: 0
- SplitToningShadowHue: 0
- SplitToningShadowSaturation: 0
- Temperature: 6100
- Tint: +11
- ToneCurve: 0, 0, 32, 22, 64, 56, 128, 128, 192, 196, 255, 255
- ToneCurveName: Medium Contrast
- Version: 5.7
- Vibrance: 0
- VignetteAmount: 0
- WhiteBalance: Custom
- XMP-dc
- XMP-exif
- DateTimeDigitized: 2011:01:29 13:32:45+02:00
- DateTimeOriginal: 2011:01:29 13:32:45+02:00
- ExifImageHeight: 6048
- ExifImageWidth: 4032
- FlashFired: False
- FlashFunction: False
- FlashMode: Off
- FlashRedEyeMode: False
- FlashReturn: No return detection
- XMP-tiff
- ImageHeight: 6048
- ImageWidth: 4032
- XMP-xmp
- CreateDate: 2011:01:29 13:32:45+02:00
- CreatorTool: DSLR-A850 v2.00
- ModifyDate: 2011:01:29 20:47:55+02:00
- Rating: 0
- Просмотров: 597
- Рейтинг: голосов еще нет
- Отзывов: 0