- Раздел: Тесты фототехники
- Дата съёмки: 05.03.2011 17:50
- Дата загрузки фото: 22.04.2011 15:16
- Оригинальная фотография: 2856 x 4272 (9,7 Мб)
- Технические характеристики:
- Фотоаппарат: LEICA CAMERA AG LEICA X1
- Выдержка: 1/30
- Диафрагма: 2,8
- Светочувствительность: 100
- Экспокоррекция: +0,3
- Полный EXIF
- Adobe
- ColorTransform: YCbCr
- Composite
- Aperture: 2,8
- ShutterSpeed: 1/30
- ExifIFD
- ApertureValue: 2,8
- ColorSpace: sRGB
- Contrast: High
- CreateDate: 2011:03:05 17:50:22
- CustomRendered: Normal
- DateTimeOriginal: 2011:03:05 17:50:22
- DigitalZoomRatio: 1
- ExifImageHeight: 4272
- ExifImageWidth: 2856
- ExposureCompensation: +0,3
- ExposureProgram: Program AE
- ExposureTime: 1/30
- FNumber: 2,8
- Flash: Auto, Fired, Return detected
- FocalLengthIn35mmFormat: 35 mm
- ISO: 100
- LightSource: Unknown
- MaxApertureValue: 2,8
- MeteringMode: Center-weighted average
- Saturation: Normal
- SceneCaptureType: Landscape
- SensingMethod: One-chip color area
- Sharpness: Soft
- ShutterSpeedValue: 1/30
- WhiteBalance: Auto
- ICC-header
- ICC-meas
- ICC-view
- IFD0
- Make: LEICA CAMERA AG
- MakerNoteSafety: Safe
- Model: LEICA X1
- ModifyDate: 2011:04:22 21:11:47
- Orientation: Horizontal (normal)
- IFD1
- IPTC
- System
- XMP-aux
- Lens: 24.0 mm f/2.8
- LensInfo: 24mm f/2.8
- SerialNumber: 000003822769
- XMP-crs
- AlreadyApplied: True
- BlueHue: 0
- BlueSaturation: 0
- Brightness: +50
- CameraProfile: Embedded
- ChromaticAberrationB: 0
- ChromaticAberrationR: -21
- Clarity: 0
- ColorNoiseReduction: 25
- Contrast: +40
- ConvertToGrayscale: False
- Defringe: 0
- Exposure: 0.00
- FillLight: 0
- GreenHue: 0
- GreenSaturation: 0
- HasCrop: False
- HasSettings: True
- HighlightRecovery: 0
- HueAdjustmentAqua: 0
- HueAdjustmentBlue: 0
- HueAdjustmentGreen: 0
- HueAdjustmentMagenta: 0
- HueAdjustmentOrange: 0
- HueAdjustmentPurple: 0
- HueAdjustmentRed: 0
- HueAdjustmentYellow: 0
- LuminanceAdjustmentAqua: 0
- LuminanceAdjustmentBlue: 0
- LuminanceAdjustmentGreen: 0
- LuminanceAdjustmentMagenta: 0
- LuminanceAdjustmentOrange: 0
- LuminanceAdjustmentPurple: 0
- LuminanceAdjustmentRed: 0
- LuminanceAdjustmentYellow: 0
- LuminanceSmoothing: 0
- ParametricDarks: -14
- ParametricHighlightSplit: 75
- ParametricHighlights: +36
- ParametricLights: -58
- ParametricMidtoneSplit: 50
- ParametricShadowSplit: 25
- ParametricShadows: 0
- PostCropVignetteAmount: -11
- PostCropVignetteFeather: 50
- PostCropVignetteMidpoint: 50
- PostCropVignetteRoundness: 0
- RawFileName: L1000650.DNG
- RedHue: 0
- RedSaturation: 0
- Saturation: 0
- SaturationAdjustmentAqua: 0
- SaturationAdjustmentBlue: 0
- SaturationAdjustmentGreen: 0
- SaturationAdjustmentMagenta: 0
- SaturationAdjustmentOrange: 0
- SaturationAdjustmentPurple: 0
- SaturationAdjustmentRed: 0
- SaturationAdjustmentYellow: 0
- ShadowTint: 0
- Shadows: 25
- SharpenDetail: 53
- SharpenEdgeMasking: 0
- SharpenRadius: +0.5
- Sharpness: 65
- SplitToningBalance: 0
- SplitToningHighlightHue: 0
- SplitToningHighlightSaturation: 0
- SplitToningShadowHue: 0
- SplitToningShadowSaturation: 0
- Temperature: 5200
- Tint: +39
- ToneCurve: 0, 0, 32, 22, 64, 56, 128, 128, 192, 196, 255, 255
- ToneCurveName: Medium Contrast
- Version: 5.0
- Vibrance: 0
- VignetteAmount: +70
- VignetteMidpoint: 18
- WhiteBalance: As Shot
- XMP-dc
- XMP-exif
- DateTimeDigitized: 2011:03:05 17:50:22+10:00
- DateTimeOriginal: 2011:03:05 17:50:22+10:00
- FlashFired: True
- FlashFunction: False
- FlashMode: Auto
- FlashRedEyeMode: False
- FlashReturn: Return detected
- XMP-tiff
- XMP-xmp
- CreateDate: 2011:03:05 17:50:22+10:00
- CreatorTool: 1.0
- ModifyDate: 2011:04:22 21:11:47+11:00
- Rating: 0
- XMP-xmpMM
- Просмотров: 1179
- Рейтинг: голосов еще нет
- Отзывов: 0