- Раздел: Отдых, развлечения
- Дата съёмки: 07.06.2011 14:40
- Дата загрузки фото: 30.06.2011 17:59
- Оригинальная фотография: 4976 x 2800 (14,4 Мб)
- Технические характеристики:
- Фотоаппарат: Panasonic DMC-GH2
- Выдержка: 1/640
- Гиперфокальное расстояние: inf m
- Диафрагма: 4,5
- Светочувствительность: 160
- Фокусное расстояние: 14,0 mm (35 mm equivalent: 28,0 mm)
- Экспокоррекция: -0,66
- Полный EXIF
- Adobe
- ColorTransform: YCbCr
- Composite
- Aperture: 4,5
- CircleOfConfusion: 0,015 mm
- FOV: 65,0 deg
- FocalLength35efl: 14,0 mm (35 mm equivalent: 28,0 mm)
- HyperfocalDistance: inf m
- ScaleFactor35efl: 2,0
- ShutterSpeed: 1/640
- ExifIFD
- ApertureValue: 4,5
- ColorSpace: sRGB
- CreateDate: 2011:06:07 14:40:03
- DateTimeOriginal: 2011:06:07 14:40:03
- ExifImageHeight: 2800
- ExifImageWidth: 4976
- ExposureCompensation: -0,66
- ExposureProgram: Aperture-priority AE
- ExposureTime: 1/640
- FNumber: 4,5
- Flash: Off, Did not fire
- FocalLength: 14,0 mm
- FocalLengthIn35mmFormat: 28 mm
- ISO: 160
- LensModel: LUMIX G 14/F2.5
- LensSerialNumber: 00JG6154764R
- MaxApertureValue: 2,5
- MeteringMode: Multi-segment
- SensitivityType: Unknown
- ShutterSpeedValue: 1/640
- ICC-header
- ICC-meas
- ICC-view
- IFD0
- Make: Panasonic
- Model: DMC-GH2
- ModifyDate: 2011:06:30 17:55:19
- Orientation: Horizontal (normal)
- IFD1
- IPTC
- DateCreated: 2011:06:07
- System
- XMP-aux
- Lens: LUMIX G 14/F2.5
- XMP-crs
- AlreadyApplied: True
- BlueHue: 0
- BlueSaturation: 0
- Brightness: +50
- CameraProfile: Uniform 2900K-6500K
- ChromaticAberrationB: 0
- ChromaticAberrationR: 0
- Clarity: 0
- ColorNoiseReduction: 25
- ColorNoiseReductionDetail: 50
- Contrast: +40
- ConvertToGrayscale: False
- Defringe: 0
- Exposure: -0.30
- FillLight: 6
- GrainAmount: 0
- GreenHue: 0
- GreenSaturation: 0
- HasCrop: False
- HasSettings: True
- HighlightRecovery: 13
- HueAdjustmentAqua: 0
- HueAdjustmentBlue: 0
- HueAdjustmentGreen: 0
- HueAdjustmentMagenta: 0
- HueAdjustmentOrange: 0
- HueAdjustmentPurple: 0
- HueAdjustmentRed: 0
- HueAdjustmentYellow: 0
- LensManualDistortionAmount: 0
- LensProfileEnable: 0
- LensProfileSetup: LensDefaults
- LuminanceAdjustmentAqua: 0
- LuminanceAdjustmentBlue: -6
- LuminanceAdjustmentGreen: 0
- LuminanceAdjustmentMagenta: 0
- LuminanceAdjustmentOrange: 0
- LuminanceAdjustmentPurple: 0
- LuminanceAdjustmentRed: 0
- LuminanceAdjustmentYellow: 0
- LuminanceSmoothing: 0
- ParametricDarks: 0
- ParametricHighlightSplit: 75
- ParametricHighlights: 0
- ParametricLights: 0
- ParametricMidtoneSplit: 50
- ParametricShadowSplit: 25
- ParametricShadows: 0
- PerspectiveHorizontal: 0
- PerspectiveRotate: 0.0
- PerspectiveScale: 100
- PerspectiveVertical: 0
- PostCropVignetteAmount: 0
- ProcessVersion: 5.7
- RawFileName: P1070585.RW2
- RedHue: 0
- RedSaturation: 0
- Saturation: 0
- SaturationAdjustmentAqua: 0
- SaturationAdjustmentBlue: +16
- SaturationAdjustmentGreen: 0
- SaturationAdjustmentMagenta: 0
- SaturationAdjustmentOrange: 0
- SaturationAdjustmentPurple: 0
- SaturationAdjustmentRed: 0
- SaturationAdjustmentYellow: 0
- ShadowTint: 0
- Shadows: 5
- SharpenDetail: 25
- SharpenEdgeMasking: 0
- SharpenRadius: +1.0
- Sharpness: 25
- SplitToningBalance: 0
- SplitToningHighlightHue: 0
- SplitToningHighlightSaturation: 0
- SplitToningShadowHue: 0
- SplitToningShadowSaturation: 0
- Temperature: 5300
- Tint: +10
- ToneCurve: 0, 0, 32, 22, 64, 56, 128, 128, 192, 196, 255, 255
- ToneCurveName: Medium Contrast
- Version: 6.3
- Vibrance: +18
- VignetteAmount: 0
- WhiteBalance: Custom
- XMP-dc
- XMP-xmp
- CreateDate: 2011:06:07 14:40:03+04:00
- ModifyDate: 2011:06:30 17:55:19+04:00
- Rating: 0
- XMP-xmpMM
- Просмотров: 398
- Рейтинг: голосов еще нет
- Отзывов: отключены