- Раздел: Репортаж
- Дата съёмки: 22.10.2011 14:34
- Дата загрузки фото: 23.10.2011 02:52
- Оригинальная фотография: 1807 x 1200 (1,4 Мб)
- Технические характеристики:
- Фотоаппарат: FujiFilm FinePix X100
- Выдержка: 1/60
- Гиперфокальное расстояние: inf m
- Диафрагма: 2,8
- Светочувствительность: 800
- Фокусное расстояние: 23,0 mm (35 mm equivalent: 23,0 mm)
- Экспокоррекция: -0,67
- Полный EXIF
- Adobe
- ColorTransform: YCbCr
- Composite
- Aperture: 2,8
- CircleOfConfusion: 0,016 mm
- FOV: 76,0 deg
- FocalLength35efl: 23,0 mm (35 mm equivalent: 23,0 mm)
- HyperfocalDistance: inf m
- ScaleFactor35efl: 1,8
- ShutterSpeed: 1/60
- ExifIFD
- ApertureValue: 2,8
- BrightnessValue: 0,59
- CreateDate: 2011:10:22 14:34:34
- CustomRendered: Normal
- DateTimeOriginal: 2011:10:22 14:34:34
- ExposureCompensation: -0,67
- ExposureMode: Auto
- ExposureProgram: Aperture-priority AE
- ExposureTime: 1/60
- FNumber: 2,8
- Flash: Off, Did not fire
- FocalLength: 23,0 mm
- ISO: 800
- LightSource: Unknown
- MaxApertureValue: 2,0
- MeteringMode: Multi-segment
- SceneCaptureType: Standard
- SceneType: Directly photographed
- SensingMethod: One-chip color area
- SensitivityType: Standard Output Sensitivity
- Sharpness: Normal
- ShutterSpeedValue: 1/60
- SubjectDistanceRange: Unknown
- WhiteBalance: Auto
- ICC-header
- ICC-meas
- ICC-view
- IFD0
- Make: FUJIFILM
- Model: FinePix X100
- ModifyDate: 2011:10:23 02:26:34
- IFD1
- IPTC
- DateCreated: 2011:10:22
- System
- XMP-crs
- AlreadyApplied: True
- BlueHue: 0
- BlueSaturation: 0
- Brightness: +57
- ChromaticAberrationB: 0
- ChromaticAberrationR: 0
- Clarity: +15
- ColorNoiseReduction: 25
- ColorNoiseReductionDetail: 50
- Contrast: +40
- ConvertToGrayscale: False
- CropAngle: 0
- CropBottom: 0.965076
- CropConstrainToWarp: 0
- CropHeight: 1200
- CropLeft: 0.030373
- CropRight: 0.909303
- CropTop: 0.086147
- CropUnit: pixels
- CropWidth: 1807
- Defringe: 0
- Exposure: 0.00
- FillLight: 13
- GrainAmount: 0
- GreenHue: 0
- GreenSaturation: 0
- HasCrop: True
- HasSettings: True
- HighlightRecovery: 56
- HueAdjustmentAqua: 0
- HueAdjustmentBlue: 0
- HueAdjustmentGreen: 0
- HueAdjustmentMagenta: 0
- HueAdjustmentOrange: 0
- HueAdjustmentPurple: 0
- HueAdjustmentRed: 0
- HueAdjustmentYellow: 0
- LensManualDistortionAmount: 0
- LensProfileChromaticAberrationScale: 100
- LensProfileDistortionScale: 100
- LensProfileEnable: 1
- LensProfileFilename: Fujifilm FinePix X100.lcp
- LensProfileSetup: LensDefaults
- LensProfileVignettingScale: 100
- LuminanceAdjustmentAqua: 0
- LuminanceAdjustmentBlue: 0
- LuminanceAdjustmentGreen: 0
- LuminanceAdjustmentMagenta: 0
- LuminanceAdjustmentOrange: 0
- LuminanceAdjustmentPurple: 0
- LuminanceAdjustmentRed: 0
- LuminanceAdjustmentYellow: 0
- LuminanceNoiseReductionContrast: 0
- LuminanceNoiseReductionDetail: 50
- LuminanceSmoothing: 24
- ParametricDarks: 0
- ParametricHighlightSplit: 75
- ParametricHighlights: 0
- ParametricLights: 0
- ParametricMidtoneSplit: 50
- ParametricShadowSplit: 25
- ParametricShadows: 0
- PerspectiveHorizontal: 0
- PerspectiveRotate: +2.4
- PerspectiveScale: 100
- PerspectiveVertical: +6
- PostCropVignetteAmount: 0
- ProcessVersion: 5.7
- RedHue: 0
- RedSaturation: 0
- Saturation: 0
- SaturationAdjustmentAqua: 0
- SaturationAdjustmentBlue: 0
- SaturationAdjustmentGreen: 0
- SaturationAdjustmentMagenta: 0
- SaturationAdjustmentOrange: 0
- SaturationAdjustmentPurple: 0
- SaturationAdjustmentRed: 0
- SaturationAdjustmentYellow: 0
- ShadowTint: 0
- Shadows: 3
- SharpenDetail: 25
- SharpenEdgeMasking: 0
- SharpenRadius: +0.5
- Sharpness: 66
- SplitToningBalance: 0
- SplitToningHighlightHue: 0
- SplitToningHighlightSaturation: 0
- SplitToningShadowHue: 0
- SplitToningShadowSaturation: 0
- Temperature: 3750
- Tint: +13
- ToneCurve: 0, 0, 32, 22, 64, 56, 128, 128, 192, 196, 255, 255
- ToneCurveName: Medium Contrast
- Version: 6.4.1
- Vibrance: +10
- VignetteAmount: 0
- WhiteBalance: As Shot
- XMP-xmp
- ModifyDate: 2011:10:23 02:26:34+04:00
- Просмотров: 344
- Рейтинг: голосов еще нет
- Отзывов: 0