» Участники » Thrust » Зима » IMG_0366-2.jpg |
IMG_0366-2.jpg |
IMG_0366-2.jpg
- Раздел: Природа
- Дата съёмки: 28.12.2011 17:15
- Дата загрузки фото: 14.01.2012 16:19
- Оригинальная фотография: 1600 x 1200 (386 Кб)
- Технические характеристики:
- Фотоаппарат: Canon PowerShot SX130 IS
- Выдержка: 1/1250
- Гиперфокальное расстояние: inf m
- Диафрагма: 3,4
- Светочувствительность: 80
- Фокусное расстояние: 5,0 mm (35 mm equivalent: 65,0 mm)
- Полный EXIF
- Composite
- Aperture: 3,4
- CircleOfConfusion: 0,002 mm
- DOF: inf (0,00 m - inf)
- FOV: 30,0 deg
- FocalLength35efl: 5,0 mm (35 mm equivalent: 65,0 mm)
- HyperfocalDistance: inf m
- ScaleFactor35efl: 14,0
- ShutterSpeed: 1/1250
- ExifIFD
- ApertureValue: 3,4
- CreateDate: 2011:12:28 17:15:20
- CustomRendered: Normal
- DateTimeOriginal: 2011:12:28 17:15:20
- DigitalZoomRatio: 1
- ExposureCompensation: 0
- ExposureMode: Auto
- ExposureTime: 1/1250
- FNumber: 3,4
- Flash: Off, Did not fire
- FocalLength: 5,0 mm
- ISO: 80
- MaxApertureValue: 3,4
- MeteringMode: Multi-segment
- SceneCaptureType: Standard
- SensingMethod: One-chip color area
- ShutterSpeedValue: 1/1250
- SubjectDistance: 2,51 m
- WhiteBalance: Auto
- ICC-header
- ICC-meas
- ICC-view
- IFD0
- Make: Canon
- Model: Canon PowerShot SX130 IS
- ModifyDate: 2012:01:14 21:06:40
- Software: GIMP 2.6.7
- IFD1
- System
- XMP-aux
- ApproximateFocusDistance: 2,51
- Firmware: 1.01
- FlashCompensation: 0
- Lens: 5.0-60.0 mm
- LensInfo: 5-60mm f/?
- XMP-crs
- AlreadyApplied: True
- BlueHue: 0
- BlueSaturation: 0
- Brightness: 0
- CameraProfile: Embedded
- ChromaticAberrationB: 0
- ChromaticAberrationR: 0
- Clarity: 0
- ColorNoiseReduction: 0
- Contrast: 0
- ConvertToGrayscale: False
- CropAngle: 0.3
- CropBottom: 1
- CropConstrainToWarp: 0
- CropHeight: 2979
- CropLeft: 0.005416
- CropRight: 0.994584
- CropTop: 0
- CropUnit: pixels
- CropWidth: 3972
- Defringe: 0
- Exposure: 0.00
- FillLight: 0
- GrainAmount: 0
- GreenHue: 0
- GreenSaturation: 0
- HasCrop: True
- HasSettings: True
- HighlightRecovery: 0
- HueAdjustmentAqua: 0
- HueAdjustmentBlue: 0
- HueAdjustmentGreen: 0
- HueAdjustmentMagenta: 0
- HueAdjustmentOrange: 0
- HueAdjustmentPurple: 0
- HueAdjustmentRed: 0
- HueAdjustmentYellow: 0
- IncrementalTemperature: 0
- IncrementalTint: 0
- LensManualDistortionAmount: 0
- LensProfileEnable: 0
- LensProfileSetup: LensDefaults
- LuminanceAdjustmentAqua: 0
- LuminanceAdjustmentBlue: 0
- LuminanceAdjustmentGreen: 0
- LuminanceAdjustmentMagenta: 0
- LuminanceAdjustmentOrange: 0
- LuminanceAdjustmentPurple: 0
- LuminanceAdjustmentRed: 0
- LuminanceAdjustmentYellow: 0
- LuminanceSmoothing: 0
- ParametricDarks: -67
- ParametricHighlightSplit: 75
- ParametricHighlights: +65
- ParametricLights: -33
- ParametricMidtoneSplit: 50
- ParametricShadowSplit: 25
- ParametricShadows: -10
- PerspectiveHorizontal: 0
- PerspectiveRotate: 0.0
- PerspectiveScale: 100
- PerspectiveVertical: 0
- PostCropVignetteAmount: 0
- ProcessVersion: 5.7
- RedHue: 0
- RedSaturation: 0
- Saturation: 0
- SaturationAdjustmentAqua: 0
- SaturationAdjustmentBlue: 0
- SaturationAdjustmentGreen: 0
- SaturationAdjustmentMagenta: 0
- SaturationAdjustmentOrange: 0
- SaturationAdjustmentPurple: 0
- SaturationAdjustmentRed: 0
- SaturationAdjustmentYellow: 0
- ShadowTint: 0
- Shadows: 5
- SharpenDetail: 25
- SharpenEdgeMasking: 0
- SharpenRadius: +1.0
- Sharpness: 0
- SplitToningBalance: 0
- SplitToningHighlightHue: 0
- SplitToningHighlightSaturation: 0
- SplitToningShadowHue: 0
- SplitToningShadowSaturation: 0
- ToneCurve: 0, 0, 255, 255
- ToneCurveName: Linear
- Version: 6.5
- Vibrance: 0
- VignetteAmount: 0
- WhiteBalance: Custom
- XMP-xmp
- ModifyDate: 2012:01:14 21:03:34+08:00
Получить код для блога
Вставка фотографии в текущем разрешении |
Вставка миниатюры |
HTML (для вставки в блог):
BBCode (для вставки в форум):
Ссылка на фото:
Ссылка на миниатюру:
- Послать ссылку другу
Комментарии к фотографии |