- Раздел: Другое, разное
- Дата съёмки: 25.01.2012 15:15
- Дата загрузки фото: 25.01.2012 23:19
- Оригинальная фотография: 3872 x 2592 (5,4 Мб)
- Технические характеристики:
- Фотоаппарат: Pentax K10D
- Выдержка: 1/350
- Гиперфокальное расстояние: inf m
- Диафрагма: 6,7
- Светочувствительность: 200
- Фокусное расстояние: 18,0 mm (35 mm equivalent: 18,0 mm)
- Полный EXIF
- Adobe
- ColorTransform: YCbCr
- Composite
- Aperture: 6,7
- CircleOfConfusion: 0,020 mm
- FOV: 90,0 deg
- FocalLength35efl: 18,0 mm (35 mm equivalent: 18,0 mm)
- HyperfocalDistance: inf m
- ScaleFactor35efl: 1,5
- ShutterSpeed: 1/350
- ExifIFD
- ApertureValue: 6,7
- ColorSpace: sRGB
- Contrast: Low
- CreateDate: 2012:01:25 15:15:44
- CustomRendered: Normal
- DateTimeOriginal: 2012:01:25 15:15:44
- ExifImageHeight: 2592
- ExifImageWidth: 3872
- ExposureCompensation: 0
- ExposureMode: Auto
- ExposureProgram: Aperture-priority AE
- ExposureTime: 1/350
- FNumber: 6,7
- Flash: Off, Did not fire
- FocalLength: 18,0 mm
- FocalLengthIn35mmFormat: 27 mm
- ISO: 200
- MeteringMode: Center-weighted average
- Saturation: Low
- SceneCaptureType: Standard
- SensingMethod: One-chip color area
- Sharpness: Normal
- ShutterSpeedValue: 1/350
- SubjectDistanceRange: Distant
- WhiteBalance: Manual
- ICC-header
- ICC-meas
- ICC-view
- IFD0
- Make: PENTAX Corporation
- Model: PENTAX K10D
- ModifyDate: 2012:01:25 23:18:10
- Orientation: Horizontal (normal)
- TimeZoneOffset: 4 4
- IFD1
- IPTC
- System
- XMP-aux
- Lens: smc PENTAX-DA 18-55mm F3.5-5.6 AL
- LensID: 4 252
- LensInfo: 18-55mm f/3.5-5.6
- XMP-crs
- AlreadyApplied: True
- BlueHue: 0
- BlueSaturation: 0
- Brightness: +50
- CameraProfile: ACR 3.7
- ChromaticAberrationB: -71
- ChromaticAberrationR: -43
- ColorNoiseReduction: 100
- Contrast: +25
- ConvertToGrayscale: False
- Exposure: 0.00
- FillLight: 0
- GreenHue: 0
- GreenSaturation: 0
- HasCrop: False
- HasSettings: True
- HighlightRecovery: 0
- HueAdjustmentAqua: 0
- HueAdjustmentBlue: 0
- HueAdjustmentGreen: 0
- HueAdjustmentMagenta: 0
- HueAdjustmentOrange: 0
- HueAdjustmentPurple: 0
- HueAdjustmentRed: 0
- HueAdjustmentYellow: 0
- LuminanceAdjustmentAqua: +91
- LuminanceAdjustmentBlue: -44
- LuminanceAdjustmentGreen: +41
- LuminanceAdjustmentMagenta: +92
- LuminanceAdjustmentOrange: +42
- LuminanceAdjustmentPurple: +47
- LuminanceAdjustmentRed: +40
- LuminanceAdjustmentYellow: -14
- LuminanceSmoothing: 100
- ParametricDarks: +3
- ParametricHighlightSplit: 75
- ParametricHighlights: -9
- ParametricLights: -2
- ParametricMidtoneSplit: 50
- ParametricShadowSplit: 25
- ParametricShadows: -2
- RawFileName: IMGP8333.DNG
- RedHue: 0
- RedSaturation: 0
- Saturation: +8
- SaturationAdjustmentAqua: 0
- SaturationAdjustmentBlue: +12
- SaturationAdjustmentGreen: 0
- SaturationAdjustmentMagenta: +40
- SaturationAdjustmentOrange: 0
- SaturationAdjustmentPurple: +47
- SaturationAdjustmentRed: 0
- SaturationAdjustmentYellow: 0
- ShadowTint: 0
- Shadows: 5
- Sharpness: 100
- SplitToningBalance: +2
- SplitToningHighlightHue: 0
- SplitToningHighlightSaturation: 0
- SplitToningShadowHue: 0
- SplitToningShadowSaturation: 0
- Temperature: 6200
- Tint: -24
- ToneCurve: 0, 0, 32, 22, 64, 56, 128, 128, 192, 196, 255, 255
- ToneCurveName: Medium Contrast
- Version: 4.0
- Vibrance: 0
- VignetteAmount: +67
- VignetteMidpoint: 100
- WhiteBalance: Custom
- XMP-dc
- XMP-exif
- DateTimeDigitized: 2012:01:25 15:15:44+04:00
- DateTimeOriginal: 2012:01:25 15:15:44+04:00
- FlashFired: False
- FlashFunction: False
- FlashMode: Off
- FlashRedEyeMode: False
- FlashReturn: No return detection
- XMP-tiff
- XMP-xmp
- CreateDate: 2012:01:25 23:18:10+04:00
- ModifyDate: 2012:01:25 23:18:10+04:00
- Rating: 0
- XMP-xmpMM