- Раздел: Портрет
- Дата съёмки: 14.04.2012 17:56
- Дата загрузки фото: 16.04.2012 19:35
- Оригинальная фотография: 3072 x 2048 (3,5 Мб)
- Технические характеристики:
- Фотоаппарат: Canon EOS 10D
- Выдержка: 1/320
- Диафрагма: 1,8
- Светочувствительность: 100
- Фокусное расстояние: 85,0 mm
- Экспокоррекция: +1/3
- Полный EXIF
- Adobe
- ColorTransform: YCbCr
- Composite
- Aperture: 1,8
- FocalLength35efl: 85,0 mm
- ShutterSpeed: 1/320
- ExifIFD
- ApertureValue: 1,8
- CreateDate: 2012:04:14 17:56:48
- DateTimeOriginal: 2012:04:14 17:56:48
- ExposureCompensation: +1/3
- ExposureProgram: Aperture-priority AE
- ExposureTime: 1/320
- FNumber: 1,8
- Flash: No Flash
- FocalLength: 85,0 mm
- ISO: 100
- MaxApertureValue: 1,8
- MeteringMode: Partial
- ShutterSpeedValue: 1/320
- ICC-header
- ICC-meas
- ICC-view
- IFD0
- Make: Canon
- Model: Canon EOS 10D
- ModifyDate: 2012:04:16 19:35:40
- IFD1
- System
- XMP-aux
- Firmware: 2.0.1
- Lens: 85.0 mm
- LensInfo: 85mm f/?
- SerialNumber: 1720511286
- XMP-crs
- AlreadyApplied: True
- BlueHue: 0
- BlueSaturation: 0
- Brightness: +50
- ChromaticAberrationB: 0
- ChromaticAberrationR: 0
- Clarity: 0
- ColorNoiseReduction: 25
- ColorNoiseReductionDetail: 50
- Contrast: -17
- ConvertToGrayscale: True
- Defringe: 0
- Exposure: +0.41
- FillLight: 28
- GrainAmount: 0
- GrayMixerAqua: -20
- GrayMixerBlue: +5
- GrayMixerGreen: -24
- GrayMixerMagenta: +6
- GrayMixerOrange: -13
- GrayMixerPurple: +13
- GrayMixerRed: -4
- GrayMixerYellow: -17
- GreenHue: 0
- GreenSaturation: 0
- HasCrop: False
- HasSettings: True
- HighlightRecovery: 0
- LensManualDistortionAmount: 0
- LensProfileEnable: 0
- LensProfileSetup: LensDefaults
- LuminanceSmoothing: 0
- ParametricDarks: -18
- ParametricHighlightSplit: 90
- ParametricHighlights: -31
- ParametricLights: +60
- ParametricMidtoneSplit: 52
- ParametricShadowSplit: 10
- ParametricShadows: +100
- PerspectiveHorizontal: 0
- PerspectiveRotate: 0.0
- PerspectiveScale: 100
- PerspectiveVertical: 0
- PostCropVignetteAmount: 0
- ProcessVersion: 5.7
- RedHue: 0
- RedSaturation: 0
- ShadowTint: 0
- Shadows: 45
- SharpenDetail: 25
- SharpenEdgeMasking: 0
- SharpenRadius: +1.0
- Sharpness: 25
- SplitToningBalance: 0
- SplitToningHighlightHue: 57
- SplitToningHighlightSaturation: 65
- SplitToningShadowHue: 42
- SplitToningShadowSaturation: 30
- Temperature: 8974
- Tint: +6
- ToneCurve: 0, 0, 32, 22, 64, 56, 128, 128, 192, 196, 255, 255
- ToneCurveName: Medium Contrast
- Version: 6.1
- VignetteAmount: 0
- WhiteBalance: Custom
- XMP-exif
- DateTimeDigitized: 2012:04:14 17:56:48+04:00
- DateTimeOriginal: 2012:04:14 17:56:48+04:00
- ExifImageHeight: 2048
- ExifImageWidth: 3072
- FlashFired: False
- XMP-tiff
- ImageHeight: 2048
- ImageWidth: 3072
- XMP-xmp
- CreateDate: 2012:04:14 17:56:48+04:00
- ModifyDate: 2012:04:16 19:35:40+04:00
- Просмотров: 2110
- Рейтинг: голосов еще нет
- Отзывов: 0