- Раздел: Хобби
- Дата съёмки: 26.07.2012 12:38
- Дата загрузки фото: 26.07.2012 15:32
- Оригинальная фотография: 1920 x 1275 (507 Кб)
- Технические характеристики:
- Фотоаппарат: Nikon D5000
- Выдержка: 1/80
- Гиперфокальное расстояние: inf m
- Диафрагма: 4,5
- Светочувствительность: 400
- Фокусное расстояние: 105,0 mm (35 mm equivalent: 105,0 mm)
- Полный EXIF
- Adobe
- ColorTransform: YCbCr
- Composite
- Aperture: 4,5
- CircleOfConfusion: 0,020 mm
- FOV: 19,0 deg
- FocalLength35efl: 105,0 mm (35 mm equivalent: 105,0 mm)
- HyperfocalDistance: inf m
- ScaleFactor35efl: 1,5
- ShutterSpeed: 1/80
- ExifIFD
- ApertureValue: 4,5
- CFAPattern: [Green,Blue][Red,Green]
- ColorSpace: Uncalibrated
- Contrast: Normal
- CreateDate: 2012:07:26 12:38:33
- CustomRendered: Normal
- DateTimeOriginal: 2012:07:26 12:38:33
- DigitalZoomRatio: 1
- ExifImageHeight: 1275
- ExifImageWidth: 1920
- ExposureCompensation: 0
- ExposureMode: Auto
- ExposureProgram: Not Defined
- ExposureTime: 1/80
- FNumber: 4,5
- Flash: Auto, Did not fire
- FocalLength: 105,0 mm
- FocalLengthIn35mmFormat: 157 mm
- GainControl: Low gain up
- ISO: 400
- LensInfo: 105mm f/2.8
- LensModel: 105.0 mm f/2.8
- LightSource: Unknown
- MaxApertureValue: 3,0
- MeteringMode: Multi-segment
- Saturation: Normal
- SceneCaptureType: Standard
- SceneType: Directly photographed
- SensingMethod: One-chip color area
- SerialNumber: 6052028
- Sharpness: Normal
- ShutterSpeedValue: 1/80
- SubjectDistance: 0,79 m
- SubjectDistanceRange: Unknown
- WhiteBalance: Auto
- ICC-header
- IFD0
- Make: NIKON CORPORATION
- Model: NIKON D5000
- ModifyDate: 2012:07:26 14:48:43
- Orientation: Horizontal (normal)
- IFD1
- IPTC
- DateCreated: 2012:07:26
- System
- XMP-aux
- ApproximateFocusDistance: 0,79
- ImageNumber: 15083
- Lens: 105.0 mm f/2.8
- LensID: 138
- XMP-crs
- AlreadyApplied: True
- AutoLateralCA: 0
- Blacks2012: 0
- BlueHue: 0
- BlueSaturation: 0
- Brightness: +55
- CameraProfile: Matrix
- Clarity: 0
- Clarity2012: 0
- ColorNoiseReduction: 25
- ColorNoiseReductionDetail: 50
- Contrast: +40
- Contrast2012: 0
- ConvertToGrayscale: False
- Defringe: 0
- Exposure: 0.00
- Exposure2012: 0.00
- FillLight: 0
- GrainAmount: 0
- GreenHue: 0
- GreenSaturation: 0
- HasCrop: False
- HasSettings: True
- HighlightRecovery: 61
- Highlights2012: 0
- HueAdjustmentAqua: 0
- HueAdjustmentBlue: 0
- HueAdjustmentGreen: 0
- HueAdjustmentMagenta: 0
- HueAdjustmentOrange: 0
- HueAdjustmentPurple: 0
- HueAdjustmentRed: 0
- HueAdjustmentYellow: 0
- LensManualDistortionAmount: 0
- LensProfileEnable: 0
- LensProfileSetup: LensDefaults
- LuminanceAdjustmentAqua: 0
- LuminanceAdjustmentBlue: 0
- LuminanceAdjustmentGreen: 0
- LuminanceAdjustmentMagenta: 0
- LuminanceAdjustmentOrange: 0
- LuminanceAdjustmentPurple: 0
- LuminanceAdjustmentRed: 0
- LuminanceAdjustmentYellow: 0
- LuminanceSmoothing: 0
- ParametricDarks: 0
- ParametricHighlightSplit: 75
- ParametricHighlights: 0
- ParametricLights: 0
- ParametricMidtoneSplit: 50
- ParametricShadowSplit: 25
- ParametricShadows: 0
- PerspectiveHorizontal: 0
- PerspectiveRotate: 0.0
- PerspectiveScale: 100
- PerspectiveVertical: 0
- PostCropVignetteAmount: 0
- ProcessVersion: 5.7
- RawFileName: DSC_2891.NEF
- RedHue: 0
- RedSaturation: 0
- Saturation: 0
- SaturationAdjustmentAqua: 0
- SaturationAdjustmentBlue: 0
- SaturationAdjustmentGreen: 0
- SaturationAdjustmentMagenta: 0
- SaturationAdjustmentOrange: 0
- SaturationAdjustmentPurple: 0
- SaturationAdjustmentRed: 0
- SaturationAdjustmentYellow: 0
- ShadowTint: 0
- Shadows: 7
- Shadows2012: 0
- SharpenDetail: 25
- SharpenEdgeMasking: 0
- SharpenRadius: +1.0
- Sharpness: 25
- SplitToningBalance: 0
- SplitToningHighlightHue: 0
- SplitToningHighlightSaturation: 0
- SplitToningShadowHue: 0
- SplitToningShadowSaturation: 0
- Temperature: 4200
- Tint: +28
- ToneCurve: 0, 0, 32, 22, 64, 56, 128, 128, 192, 196, 255, 255
- ToneCurveBlue: 0, 0, 255, 255
- ToneCurveGreen: 0, 0, 255, 255
- ToneCurveName: Medium Contrast
- ToneCurveName2012: Linear
- ToneCurvePV2012: 0, 0, 255, 255
- ToneCurvePV2012Blue: 0, 0, 255, 255
- ToneCurvePV2012Green: 0, 0, 255, 255
- ToneCurvePV2012Red: 0, 0, 255, 255
- ToneCurveRed: 0, 0, 255, 255
- Version: 6.7
- Vibrance: 0
- VignetteAmount: 0
- WhiteBalance: As Shot
- Whites2012: 0
- XMP-dc
- XMP-xmp
- CreateDate: 2012:07:26 12:38:33.00
- CreatorTool: Ver.1.00
- ModifyDate: 2012:07:26 14:48:43+04:00
- Rating: 0
- XMP-xmpMM
- Просмотров: 668
- Рейтинг: голосов еще нет
- Отзывов: 0