- Раздел: Портрет
- Дата съёмки: 03.10.2013 17:55
- Дата загрузки фото: 01.12.2013 17:49
- Оригинальная фотография: 4368 x 2457 (8,6 Мб)
- Технические характеристики:
- Фотоаппарат: Canon EOS 5D
- Выдержка: 1/40
- Гиперфокальное расстояние: inf m
- Диафрагма: 1,6
- Светочувствительность: 800
- Фокусное расстояние: 35,0 mm (35 mm equivalent: 35,0 mm)
- Экспокоррекция: +1/3
- Полный EXIF
- Adobe
- ColorTransform: YCbCr
- Composite
- Aperture: 1,6
- CircleOfConfusion: 0,029 mm
- FOV: 54,0 deg
- FocalLength35efl: 35,0 mm (35 mm equivalent: 35,0 mm)
- HyperfocalDistance: inf m
- LensID: Canon EF 35mm f/1.4L
- ScaleFactor35efl: 1,0
- ShutterSpeed: 1/40
- ExifIFD
- ApertureValue: 1,6
- CreateDate: 2013:10:03 17:55:20
- CustomRendered: Normal
- DateTimeOriginal: 2013:10:03 17:55:20
- ExposureCompensation: +1/3
- ExposureMode: Auto
- ExposureProgram: Program AE
- ExposureTime: 1/40
- FNumber: 1,6
- Flash: Off, Did not fire
- FocalLength: 35,0 mm
- ISO: 800
- LensInfo: 35mm f/?
- LensModel: EF35mm f/1.4L USM
- MaxApertureValue: 1,4
- MeteringMode: Unknown
- SceneCaptureType: Standard
- SerialNumber: 730507263
- ShutterSpeedValue: 1/40
- WhiteBalance: Auto
- ICC-header
- ICC-meas
- ICC-view
- IFD0
- Make: Canon
- Model: Canon EOS 5D
- ModifyDate: 2013:12:01 17:48:05
- IFD1
- IPTC
- DateCreated: 2013:10:03
- System
- XMP-aux
- Firmware: 1.1.1
- FlashCompensation: 0
- ImageNumber: 4
- Lens: EF35mm f/1.4L USM
- LensID: 180
- XMP-crs
- AlreadyApplied: True
- AutoLateralCA: 0
- Blacks2012: -25
- BlueHue: 0
- BlueSaturation: 0
- Clarity2012: 0
- ColorNoiseReduction: 25
- ColorNoiseReductionDetail: 50
- ColorTemperature: 4450
- Contrast2012: 0
- ConvertToGrayscale: False
- CropAngle: 0
- CropBottom: 1
- CropConstrainToWarp: 0
- CropHeight: 2457
- CropLeft: 0
- CropRight: 1
- CropTop: 0.15625
- CropUnit: pixels
- CropWidth: 4368
- DefringeGreenAmount: 0
- DefringeGreenHueHi: 60
- DefringeGreenHueLo: 40
- DefringePurpleAmount: 0
- DefringePurpleHueHi: 70
- DefringePurpleHueLo: 30
- Exposure2012: 0.00
- GrainAmount: 0
- GreenHue: 0
- GreenSaturation: 0
- HasCrop: True
- HasSettings: True
- Highlights2012: +39
- HueAdjustmentAqua: 0
- HueAdjustmentBlue: 0
- HueAdjustmentGreen: 0
- HueAdjustmentMagenta: 0
- HueAdjustmentOrange: 0
- HueAdjustmentPurple: 0
- HueAdjustmentRed: 0
- HueAdjustmentYellow: 0
- LensManualDistortionAmount: 0
- LensProfileEnable: 0
- LensProfileSetup: LensDefaults
- LuminanceAdjustmentAqua: 0
- LuminanceAdjustmentBlue: 0
- LuminanceAdjustmentGreen: 0
- LuminanceAdjustmentMagenta: 0
- LuminanceAdjustmentOrange: 0
- LuminanceAdjustmentPurple: 0
- LuminanceAdjustmentRed: 0
- LuminanceAdjustmentYellow: 0
- LuminanceSmoothing: 0
- ParametricDarks: 0
- ParametricHighlightSplit: 75
- ParametricHighlights: 0
- ParametricLights: +23
- ParametricMidtoneSplit: 50
- ParametricShadowSplit: 25
- ParametricShadows: -28
- PerspectiveHorizontal: 0
- PerspectiveRotate: 0.0
- PerspectiveScale: 100
- PerspectiveVertical: 0
- PostCropVignetteAmount: -34
- PostCropVignetteFeather: 69
- PostCropVignetteHighlightContrast: 0
- PostCropVignetteMidpoint: 45
- PostCropVignetteRoundness: +18
- PostCropVignetteStyle: 1
- ProcessVersion: 6.7
- RedHue: 0
- RedSaturation: 0
- Saturation: 0
- SaturationAdjustmentAqua: 0
- SaturationAdjustmentBlue: 0
- SaturationAdjustmentGreen: 0
- SaturationAdjustmentMagenta: 0
- SaturationAdjustmentOrange: 0
- SaturationAdjustmentPurple: 0
- SaturationAdjustmentRed: 0
- SaturationAdjustmentYellow: 0
- ShadowTint: 0
- Shadows2012: +36
- SharpenDetail: 25
- SharpenEdgeMasking: 0
- SharpenRadius: +1.0
- Sharpness: 25
- SplitToningBalance: 0
- SplitToningHighlightHue: 0
- SplitToningHighlightSaturation: 0
- SplitToningShadowHue: 0
- SplitToningShadowSaturation: 0
- Tint: +6
- ToneCurveName2012: Linear
- ToneCurvePV2012: 0, 0, 255, 255
- ToneCurvePV2012Blue: 0, 0, 255, 255
- ToneCurvePV2012Green: 0, 0, 255, 255
- ToneCurvePV2012Red: 0, 0, 255, 255
- Version: 7.2
- Vibrance: 0
- VignetteAmount: 0
- WhiteBalance: Custom
- Whites2012: 0
- XMP-dc
- XMP-xmp
- ModifyDate: 2013:12:01 17:48:05+04:00
- XMP-xmpMM
- Просмотров: 1378
- Рейтинг: голосов еще нет
- Отзывов: 0