- Раздел: Другое, разное
- Дата съёмки: 29.11.2009 16:00
- Дата загрузки фото: 26.12.2009 09:50
- Оригинальная фотография: 750 x 500 (227 Кб)
- Технические характеристики:
- Фотоаппарат: Canon EOS 450D
- Выдержка: 1/15
- Гиперфокальное расстояние: 112,00 m
- Диафрагма: 2,8
- Светочувствительность: 1600
- Фокусное расстояние: 32,0 mm (35 mm equivalent: 294,4 mm)
- Полный EXIF
- Adobe
- ColorTransform: YCbCr
- Composite
- Aperture: 2,8
- CircleOfConfusion: 0,003 mm
- FOV: 6,0 deg
- FocalLength35efl: 32,0 mm (35 mm equivalent: 294,4 mm)
- HyperfocalDistance: 112,00 m
- ScaleFactor35efl: 9,2
- ShutterSpeed: 1/15
- ExifIFD
- ApertureValue: 2,8
- ColorSpace: sRGB
- CreateDate: 2009:11:29 16:00:36
- CustomRendered: Normal
- DateTimeOriginal: 2009:11:29 16:00:36
- ExifImageHeight: 500
- ExifImageWidth: 750
- ExposureCompensation: 0
- ExposureMode: Auto
- ExposureProgram: Aperture-priority AE
- ExposureTime: 1/15
- FNumber: 2,8
- Flash: Off
- FocalLength: 32,0 mm
- ISO: 1600
- MaxApertureValue: 2,8
- MeteringMode: Multi-segment
- SceneCaptureType: Standard
- ShutterSpeedValue: 1/15
- WhiteBalance: Manual
- ICC-header
- ICC-meas
- ICC-view
- IFD0
- Artist: HiV
- Copyright: Ivan (HiV) Tsyrkunovich
- Make: Canon
- Model: Canon EOS 450D
- ModifyDate: 2009:12:26 03:11:43
- Orientation: Horizontal (normal)
- IFD1
- IPTC
- By-line: HiV
- City: grodno
- CopyrightNotice: Ivan (HiV) Tsyrkunovich
- Country-PrimaryLocationName: belarus
- XMP-aux
- Firmware: 1.0.9
- FlashCompensation: 0
- ImageNumber: 0
- Lens: 17-50mm
- LensID: 161
- LensInfo: 17/1 50/1 0/0 0/0
- OwnerName: Ivan HiV Tsyrkunovich
- SerialNumber: 980397874
- XMP-crs
- AlreadyApplied: True
- BlueHue: 0
- BlueSaturation: 0
- Brightness: +50
- CameraProfile: Camera Standard dcpTool Untwist
- ChromaticAberrationB: 0
- ChromaticAberrationR: 0
- Clarity: +33
- ColorNoiseReduction: 39
- ColorNoiseReductionDetail: 50
- Contrast: +45
- ConvertToGrayscale: False
- CropAngle: 0
- CropBottom: 0.95892
- CropHeight: 2554
- CropLeft: 0.08216
- CropRight: 0.978874
- CropTop: 0.062206
- CropUnit: 0
- CropWidth: 3831
- Defringe: 1
- Exposure: 0.00
- FillLight: 32
- GrainAmount: 0
- GreenHue: 0
- GreenSaturation: 0
- HasCrop: True
- HasSettings: True
- HighlightRecovery: 38
- HueAdjustmentAqua: 0
- HueAdjustmentBlue: 0
- HueAdjustmentGreen: 0
- HueAdjustmentMagenta: +75
- HueAdjustmentOrange: -20
- HueAdjustmentPurple: 0
- HueAdjustmentRed: +10
- HueAdjustmentYellow: -40
- LuminanceAdjustmentAqua: 0
- LuminanceAdjustmentBlue: 0
- LuminanceAdjustmentGreen: -30
- LuminanceAdjustmentMagenta: 0
- LuminanceAdjustmentOrange: 0
- LuminanceAdjustmentPurple: 0
- LuminanceAdjustmentRed: -20
- LuminanceAdjustmentYellow: 0
- NoiseReductionContrast: 0
- ParametricDarks: -1
- ParametricHighlightSplit: 75
- ParametricHighlights: +3
- ParametricLights: -24
- ParametricMidtoneSplit: 50
- ParametricShadowSplit: 25
- ParametricShadows: -10
- PostCropVignetteAmount: 0
- RedHue: 0
- RedSaturation: 0
- RenderVersion: 5.7
- Saturation: -1
- SaturationAdjustmentAqua: 0
- SaturationAdjustmentBlue: 0
- SaturationAdjustmentGreen: 0
- SaturationAdjustmentMagenta: 0
- SaturationAdjustmentOrange: -10
- SaturationAdjustmentPurple: 0
- SaturationAdjustmentRed: +10
- SaturationAdjustmentYellow: 0
- ShadowTint: +10
- Shadows: 7
- SharpenDetail: 0
- SharpenEdgeMasking: 25
- SharpenRadius: +0.5
- Sharpness: 88
- SplitToningBalance: 0
- SplitToningHighlightHue: 0
- SplitToningHighlightSaturation: 0
- SplitToningShadowHue: 0
- SplitToningShadowSaturation: 0
- Temperature: 2900
- Tint: +23
- ToneCurve: 0, 0, 255, 255
- ToneCurveName: Linear
- Version: 6.0
- Vibrance: +13
- VignetteAmount: 0
- WhiteBalance: Auto
- XMP-dc
- Creator: HiV
- Format: image/jpeg
- Rights: Ivan (HiV) Tsyrkunovich
- XMP-exif
- DateTimeDigitized: 2009:11:29 16:00:36.03+02:00
- DateTimeOriginal: 2009:11:29 16:00:36.03+02:00
- FlashFired: False
- FlashFunction: False
- FlashMode: Off
- FlashRedEyeMode: False
- FlashReturn: No return detection
- XMP-iptcCore
- CreatorContactInfoCiAdrCity: grodno
- CreatorContactInfoCiAdrCtry: belarus
- CreatorContactInfoCiUrlWork: http://hiv-iv.livejournal.com/
- XMP-tiff
- ImageHeight: 2554
- ImageWidth: 3831
- XMP-xmp
- CreateDate: 2009:11:29 16:00:36.03+02:00
- ModifyDate: 2009:12:26 03:11:43+02:00
- XMP-xmpMM
- XMP-xmpRights
- Marked: True
- WebStatement: http://hiv-iv.livejournal.com/