- Раздел: Другое, разное
- Дата съёмки: 06.12.2010 18:57
- Дата загрузки фото: 11.12.2010 18:59
- Оригинальная фотография: 900 x 600 (388 Кб)
- Технические характеристики:
- Фотоаппарат: Canon EOS 50D
- Выдержка: 1/60
- Гиперфокальное расстояние: inf m
- Диафрагма: 1,8
- Светочувствительность: 800
- Фокусное расстояние: 24,0 mm (35 mm equivalent: 192,0 mm)
- Полный EXIF
- Adobe
- ColorTransform: YCbCr
- Composite
- Aperture: 1,8
- CircleOfConfusion: 0,004 mm
- FOV: 10,0 deg
- FocalLength35efl: 24,0 mm (35 mm equivalent: 192,0 mm)
- HyperfocalDistance: inf m
- ScaleFactor35efl: 8,4
- ShutterSpeed: 1/60
- ExifIFD
- ApertureValue: 1,8
- ColorSpace: sRGB
- CreateDate: 2010:12:06 18:57:13
- CustomRendered: Normal
- DateTimeOriginal: 2010:12:06 18:57:13
- ExifImageHeight: 600
- ExifImageWidth: 900
- ExposureCompensation: 0
- ExposureMode: Auto
- ExposureProgram: Aperture-priority AE
- ExposureTime: 1/60
- FNumber: 1,8
- Flash: Off, Did not fire
- FocalLength: 24,0 mm
- ISO: 800
- LensInfo: 24mm f/?
- LensModel: 24mm
- MaxApertureValue: 1,8
- MeteringMode: Spot
- OwnerName: Ivan Tsyrkunovich
- SceneCaptureType: Standard
- SensitivityType: Unknown
- SerialNumber: 2260713305
- ShutterSpeedValue: 1/60
- WhiteBalance: Auto
- ICC-header
- ICC-meas
- ICC-view
- IFD0
- Artist: http://hiv-iv.livejournal.com
- BitsPerSample: 8 8 8
- Copyright: Ivan (HiV) Tsyrkunovich
- ImageHeight: 3168
- ImageWidth: 4752
- Make: Canon
- Model: Canon EOS 50D
- ModifyDate: 2010:12:11 17:58:58
- Orientation: Horizontal (normal)
- PhotometricInterpretation: RGB
- SamplesPerPixel: 3
- IFD1
- IPTC
- By-line: http://hiv-iv.livejournal.com
- CopyrightNotice: Ivan (HiV) Tsyrkunovich
- DateCreated: 2010:12:06
- System
- XMP-aux
- Firmware: 1.0.7
- FlashCompensation: 0
- ImageNumber: 0
- Lens: 24mm
- LensID: 169
- XMP-crs
- AlreadyApplied: True
- BlueHue: 0
- BlueSaturation: 0
- Brightness: +50
- CameraProfile: Camera Standard
- ChromaticAberrationB: 0
- ChromaticAberrationR: 0
- Clarity: 0
- ColorNoiseReduction: 25
- ColorNoiseReductionDetail: 50
- Contrast: +25
- ConvertToGrayscale: False
- Defringe: 0
- Exposure: +0.68
- FillLight: 36
- GrainAmount: 0
- GreenHue: 0
- GreenSaturation: 0
- HasCrop: False
- HasSettings: True
- HighlightRecovery: 0
- HueAdjustmentAqua: 0
- HueAdjustmentBlue: 0
- HueAdjustmentGreen: 0
- HueAdjustmentMagenta: 0
- HueAdjustmentOrange: 0
- HueAdjustmentPurple: 0
- HueAdjustmentRed: 0
- HueAdjustmentYellow: 0
- LensManualDistortionAmount: 0
- LensProfileEnable: 0
- LensProfileSetup: LensDefaults
- LuminanceAdjustmentAqua: 0
- LuminanceAdjustmentBlue: 0
- LuminanceAdjustmentGreen: 0
- LuminanceAdjustmentMagenta: 0
- LuminanceAdjustmentOrange: 0
- LuminanceAdjustmentPurple: 0
- LuminanceAdjustmentRed: 0
- LuminanceAdjustmentYellow: 0
- LuminanceNoiseReductionContrast: 0
- LuminanceNoiseReductionDetail: 50
- LuminanceSmoothing: 41
- ParametricDarks: 0
- ParametricHighlightSplit: 75
- ParametricHighlights: 0
- ParametricLights: 0
- ParametricMidtoneSplit: 50
- ParametricShadowSplit: 25
- ParametricShadows: 0
- PerspectiveHorizontal: 0
- PerspectiveRotate: 0.0
- PerspectiveScale: 100
- PerspectiveVertical: 0
- PostCropVignetteAmount: 0
- ProcessVersion: 5.7
- RedHue: 0
- RedSaturation: 0
- Saturation: 0
- SaturationAdjustmentAqua: 0
- SaturationAdjustmentBlue: 0
- SaturationAdjustmentGreen: 0
- SaturationAdjustmentMagenta: 0
- SaturationAdjustmentOrange: 0
- SaturationAdjustmentPurple: 0
- SaturationAdjustmentRed: 0
- SaturationAdjustmentYellow: 0
- ShadowTint: 0
- Shadows: 5
- SharpenDetail: 25
- SharpenEdgeMasking: 24
- SharpenRadius: +1.0
- Sharpness: 68
- SplitToningBalance: 0
- SplitToningHighlightHue: 0
- SplitToningHighlightSaturation: 0
- SplitToningShadowHue: 0
- SplitToningShadowSaturation: 0
- Temperature: 2700
- Tint: +7
- ToneCurve: 0, 0, 32, 22, 64, 56, 128, 128, 192, 196, 255, 255
- ToneCurveName: Medium Contrast
- Version: 6.3
- Vibrance: 0
- VignetteAmount: 0
- WhiteBalance: Custom
- XMP-dc
- Creator: http://hiv-iv.livejournal.com
- Format: image/jpeg
- Rights: Ivan (HiV) Tsyrkunovich
- XMP-xmp
- CreateDate: 2010:12:06 18:57:13.24+02:00
- ModifyDate: 2010:12:11 17:58:58+02:00
- XMP-xmpMM
- Просмотров: 652
- Рейтинг: голосов еще нет
- Отзывов: отключены