- Раздел: Другое, разное
- Дата съёмки: 28.11.2009 13:18
- Дата загрузки фото: 28.11.2009 15:53
- Оригинальная фотография: 500 x 750 (243 Кб)
- Технические характеристики:
- Фотоаппарат: Canon EOS 450D
- Выдержка: 1/400
- Гиперфокальное расстояние: 273,67 m
- Диафрагма: 2,8
- Светочувствительность: 200
- Фокусное расстояние: 50,0 mm (35 mm equivalent: 460,5 mm)
- Полный EXIF
- Adobe
- ColorTransform: YCbCr
- Composite
- Aperture: 2,8
- CircleOfConfusion: 0,003 mm
- FOV: 4,0 deg
- FocalLength35efl: 50,0 mm (35 mm equivalent: 460,5 mm)
- HyperfocalDistance: 273,67 m
- ScaleFactor35efl: 9,2
- ShutterSpeed: 1/400
- ExifIFD
- ApertureValue: 2,8
- ColorSpace: sRGB
- CreateDate: 2009:11:28 13:18:00
- CustomRendered: Normal
- DateTimeOriginal: 2009:11:28 13:18:00
- ExifImageHeight: 750
- ExifImageWidth: 500
- ExposureCompensation: 0
- ExposureMode: Auto
- ExposureProgram: Aperture-priority AE
- ExposureTime: 1/400
- FNumber: 2,8
- Flash: Off
- FocalLength: 50,0 mm
- ISO: 200
- MaxApertureValue: 2,8
- MeteringMode: Multi-segment
- SceneCaptureType: Standard
- ShutterSpeedValue: 1/400
- WhiteBalance: Auto
- ICC-header
- ICC-meas
- ICC-view
- IFD0
- Artist: HiV
- Copyright: Ivan (HiV) Tsyrkunovich
- Make: Canon
- Model: Canon EOS 450D
- ModifyDate: 2009:11:28 14:08:19
- Orientation: Horizontal (normal)
- IFD1
- IPTC
- By-line: HiV
- City: grodno
- CopyrightNotice: Ivan (HiV) Tsyrkunovich
- Country-PrimaryLocationName: belarus
- XMP-aux
- Firmware: 1.0.9
- FlashCompensation: 0
- ImageNumber: 0
- Lens: 17-50mm
- LensID: 161
- LensInfo: 17/1 50/1 0/0 0/0
- OwnerName: Ivan HiV Tsyrkunovich
- SerialNumber: 980397874
- XMP-crs
- AlreadyApplied: True
- BlueHue: 0
- BlueSaturation: 0
- Brightness: +76
- CameraProfile: ACR 2.4
- ChromaticAberrationB: 0
- ChromaticAberrationR: 0
- Clarity: +24
- ColorNoiseReduction: 25
- ColorNoiseReductionDetail: 50
- Contrast: +19
- ConvertToGrayscale: True
- CropAngle: 2.81342
- CropBottom: 0.760566
- CropHeight: 1435
- CropLeft: 0.319567
- CropRight: 0.805905
- CropTop: 0.220512
- CropUnit: 0
- CropWidth: 2151
- Defringe: 0
- Exposure: +0.32
- FillLight: 28
- GrainAmount: 0
- GrayMixerAqua: -38
- GrayMixerBlue: -30
- GrayMixerGreen: -21
- GrayMixerMagenta: +5
- GrayMixerOrange: +2
- GrayMixerPurple: +6
- GrayMixerRed: 0
- GrayMixerYellow: 0
- GreenHue: 0
- GreenSaturation: 0
- HasCrop: True
- HasSettings: True
- HighlightRecovery: 25
- NoiseReductionContrast: 0
- ParametricDarks: +3
- ParametricHighlightSplit: 75
- ParametricHighlights: -8
- ParametricLights: +8
- ParametricMidtoneSplit: 30
- ParametricShadowSplit: 10
- ParametricShadows: +21
- PostCropVignetteAmount: 0
- RedHue: 0
- RedSaturation: 0
- RenderVersion: 5.7
- ShadowTint: 0
- Shadows: 22
- SharpenDetail: 20
- SharpenEdgeMasking: 36
- SharpenRadius: +1.2
- Sharpness: 76
- SplitToningBalance: +9
- SplitToningHighlightHue: 0
- SplitToningHighlightSaturation: 0
- SplitToningShadowHue: 46
- SplitToningShadowSaturation: 12
- Temperature: 4350
- Tint: +12
- ToneCurve: 0, 0, 32, 16, 64, 50, 128, 128, 192, 202, 255, 255
- ToneCurveName: Strong Contrast
- Version: 6.0
- VignetteAmount: -100
- VignetteMidpoint: 11
- WhiteBalance: As Shot
- XMP-dc
- Creator: HiV
- Format: image/jpeg
- Rights: Ivan (HiV) Tsyrkunovich
- XMP-exif
- DateTimeDigitized: 2009:11:28 13:18:00.03+02:00
- DateTimeOriginal: 2009:11:28 13:18:00.03+02:00
- FlashFired: False
- FlashFunction: False
- FlashMode: Off
- FlashRedEyeMode: False
- FlashReturn: No return detection
- XMP-iptcCore
- CreatorContactInfoCiAdrCity: grodno
- CreatorContactInfoCiAdrCtry: belarus
- CreatorContactInfoCiUrlWork: http://hiv-iv.livejournal.com/
- XMP-tiff
- ImageHeight: 2151
- ImageWidth: 1435
- XMP-xmp
- CreateDate: 2009:11:28 13:18:00.03+02:00
- ModifyDate: 2009:11:28 14:08:19+02:00
- Rating: 1
- XMP-xmpMM
- XMP-xmpRights
- Marked: True
- WebStatement: http://hiv-iv.livejournal.com/
- Просмотров: 654
- Рейтинг: голосов еще нет
- Отзывов: отключены