- Раздел: Другое, разное
- Дата съёмки: 27.08.2009 18:54
- Дата загрузки фото: 27.08.2009 20:01
- Оригинальная фотография: 720 x 480 (198 Кб)
- Технические характеристики:
- Фотоаппарат: Canon EOS 450D
- Выдержка: 1/500
- Гиперфокальное расстояние: 284,82 m
- Диафрагма: 2,8
- Светочувствительность: 200
- Фокусное расстояние: 50,0 mm (35 mm equivalent: 479,2 mm)
- Полный EXIF
- Adobe
- ColorTransform: YCbCr
- Composite
- Aperture: 2,8
- CircleOfConfusion: 0,003 mm
- FOV: 4,0 deg
- FocalLength35efl: 50,0 mm (35 mm equivalent: 479,2 mm)
- HyperfocalDistance: 284,82 m
- ScaleFactor35efl: 9,6
- ShutterSpeed: 1/500
- ExifIFD
- ApertureValue: 2,8
- ColorSpace: sRGB
- CreateDate: 2009:08:07 14:20:24
- CustomRendered: Normal
- DateTimeOriginal: 2009:08:07 14:20:24
- ExifImageHeight: 480
- ExifImageWidth: 720
- ExposureCompensation: 0
- ExposureMode: Auto
- ExposureProgram: Aperture-priority AE
- ExposureTime: 1/500
- FNumber: 2,8
- Flash: Off
- FocalLength: 50,0 mm
- ISO: 200
- MaxApertureValue: 1,8
- MeteringMode: Multi-segment
- SceneCaptureType: Standard
- ShutterSpeedValue: 1/500
- WhiteBalance: Auto
- ICC-header
- ICC-meas
- ICC-view
- IFD0
- Make: Canon
- Model: Canon EOS 450D
- ModifyDate: 2009:08:27 18:54:45
- Orientation: Horizontal (normal)
- IFD1
- IPTC
- XMP-aux
- Firmware: 1.0.9
- FlashCompensation: 0
- ImageNumber: 0
- Lens: EF50mm f/1.8 II
- LensInfo: 50/1 50/1 0/0 0/0
- SerialNumber: 980397874
- XMP-crs
- AlreadyApplied: True
- BlueHue: 0
- BlueSaturation: 0
- Brightness: +54
- CameraProfile: ACR 4.4
- ChromaticAberrationB: 0
- ChromaticAberrationR: 0
- Clarity: +100
- ColorNoiseReduction: 0
- Contrast: +89
- ConvertToGrayscale: True
- CropAngle: -0.64288
- CropBottom: 0.78952
- CropHeight: 2249
- CropLeft: 0.373204
- CropRight: 0.730008
- CropTop: 0.005906
- CropUnit: 0
- CropWidth: 1499
- Defringe: 0
- Exposure: +0.76
- FillLight: 0
- GrayMixerAqua: +98
- GrayMixerBlue: +95
- GrayMixerGreen: -62
- GrayMixerMagenta: +7
- GrayMixerOrange: -26
- GrayMixerPurple: -100
- GrayMixerRed: -5
- GrayMixerYellow: +7
- GreenHue: 0
- GreenSaturation: 0
- HasCrop: True
- HasSettings: True
- HighlightRecovery: 99
- LuminanceSmoothing: 100
- ParametricDarks: -36
- ParametricHighlightSplit: 75
- ParametricHighlights: +10
- ParametricLights: +24
- ParametricMidtoneSplit: 50
- ParametricShadowSplit: 25
- ParametricShadows: +19
- PostCropVignetteAmount: 0
- RedHue: 0
- RedSaturation: 0
- ShadowTint: 0
- Shadows: 2
- SharpenDetail: 25
- SharpenEdgeMasking: 18
- SharpenRadius: +0.9
- Sharpness: 150
- SplitToningBalance: 0
- SplitToningHighlightHue: 215
- SplitToningHighlightSaturation: 0
- SplitToningShadowHue: 216
- SplitToningShadowSaturation: 0
- Temperature: 6100
- Tint: 0
- ToneCurve: 0, 0, 255, 255
- ToneCurveName: Linear
- Version: 5.3
- VignetteAmount: -100
- VignetteMidpoint: 6
- XMP-dc
- XMP-exif
- DateTimeDigitized: 2009:08:07 14:20:24.03+03:00
- DateTimeOriginal: 2009:08:07 14:20:24.03+03:00
- FlashFired: False
- FlashFunction: False
- FlashMode: Off
- FlashRedEyeMode: False
- FlashReturn: No return detection
- XMP-tiff
- ImageHeight: 1499
- ImageWidth: 2249
- XMP-xmp
- CreateDate: 2009:08:27 18:54:45+03:00
- ModifyDate: 2009:08:27 18:54:45+03:00
- XMP-xmpMM
- DerivedFrom: