- Раздел: Другое, разное
- Дата съёмки: 11.06.2009 13:36
- Дата загрузки фото: 11.06.2009 14:36
- Оригинальная фотография: 480 x 720 (188 Кб)
- Технические характеристики:
- Фотоаппарат: Canon EOS 450D
- Выдержка: 1/500
- Гиперфокальное расстояние: 285,07 m
- Диафрагма: 2,8
- Светочувствительность: 100
- Фокусное расстояние: 50,0 mm (35 mm equivalent: 479,7 mm)
- Полный EXIF
- Adobe
- ColorTransform: YCbCr
- Composite
- Aperture: 2,8
- CircleOfConfusion: 0,003 mm
- FOV: 4,0 deg
- FocalLength35efl: 50,0 mm (35 mm equivalent: 479,7 mm)
- HyperfocalDistance: 285,07 m
- ScaleFactor35efl: 9,6
- ShutterSpeed: 1/500
- ExifIFD
- ApertureValue: 2,8
- ColorSpace: sRGB
- CreateDate: 2009:06:06 12:22:00
- CustomRendered: Normal
- DateTimeOriginal: 2009:06:06 12:22:00
- ExifImageHeight: 720
- ExifImageWidth: 480
- ExposureCompensation: 0
- ExposureMode: Auto
- ExposureProgram: Aperture-priority AE
- ExposureTime: 1/500
- FNumber: 2,8
- Flash: Off
- FocalLength: 50,0 mm
- ISO: 100
- MaxApertureValue: 1,8
- MeteringMode: Multi-segment
- SceneCaptureType: Standard
- ShutterSpeedValue: 1/500
- WhiteBalance: Auto
- ICC-header
- ICC-meas
- ICC-view
- IFD0
- Make: Canon
- Model: Canon EOS 450D
- ModifyDate: 2009:06:11 13:36:00
- Orientation: Horizontal (normal)
- IFD1
- IPTC
- XMP-aux
- Firmware: 1.0.9
- FlashCompensation: 0
- ImageNumber: 0
- Lens: EF50mm f/1.8 II
- LensInfo: 50/1 50/1 0/0 0/0
- SerialNumber: 980397874
- XMP-crs
- AlreadyApplied: True
- BlueHue: 0
- BlueSaturation: 0
- Brightness: +43
- CameraProfile: ACR 2.4
- ChromaticAberrationB: 0
- ChromaticAberrationR: 0
- Clarity: +100
- ColorNoiseReduction: 25
- Contrast: +89
- ConvertToGrayscale: True
- CropAngle: 8.04514
- CropBottom: 0.891598
- CropHeight: 1721
- CropLeft: 0.245185
- CropRight: 0.787172
- CropTop: 0.166364
- CropUnit: 0
- CropWidth: 2581
- Defringe: 0
- Exposure: +0.67
- FillLight: 20
- GrayMixerAqua: -71
- GrayMixerBlue: +10
- GrayMixerGreen: +40
- GrayMixerMagenta: +24
- GrayMixerOrange: -7
- GrayMixerPurple: -67
- GrayMixerRed: -55
- GrayMixerYellow: -19
- GreenHue: 0
- GreenSaturation: 0
- HasCrop: True
- HasSettings: True
- HighlightRecovery: 100
- LuminanceSmoothing: 0
- ParametricDarks: -26
- ParametricHighlightSplit: 75
- ParametricHighlights: +57
- ParametricLights: +21
- ParametricMidtoneSplit: 50
- ParametricShadowSplit: 25
- ParametricShadows: +17
- PostCropVignetteAmount: -55
- PostCropVignetteFeather: 39
- PostCropVignetteMidpoint: 62
- PostCropVignetteRoundness: +100
- RedHue: 0
- RedSaturation: 0
- ShadowTint: 0
- Shadows: 12
- SharpenDetail: 88
- SharpenEdgeMasking: 13
- SharpenRadius: +1.2
- Sharpness: 116
- SplitToningBalance: 0
- SplitToningHighlightHue: 215
- SplitToningHighlightSaturation: 0
- SplitToningShadowHue: 216
- SplitToningShadowSaturation: 0
- Temperature: 5300
- Tint: 0
- ToneCurve: 0, 0, 255, 255
- ToneCurveName: Linear
- Version: 5.3
- VignetteAmount: -100
- VignetteMidpoint: 0
- XMP-dc
- XMP-exif
- DateTimeDigitized: 2009:06:06 12:22:00.50+03:00
- DateTimeOriginal: 2009:06:06 12:22:00.50+03:00
- FlashFired: False
- FlashFunction: False
- FlashMode: Off
- FlashRedEyeMode: False
- FlashReturn: No return detection
- XMP-tiff
- ImageHeight: 2581
- ImageWidth: 1721
- XMP-xmp
- CreateDate: 2009:06:11 13:36:00+03:00
- ModifyDate: 2009:06:11 13:36:00+03:00
- XMP-xmpMM
- DerivedFrom: