- Раздел: Другое, разное
- Дата съёмки: 19.03.2009 08:42
- Дата загрузки фото: 19.03.2009 12:43
- Оригинальная фотография: 454 x 720 (185 Кб)
- Технические характеристики:
- Фотоаппарат: Canon EOS 450D
- Выдержка: 1/125
- Гиперфокальное расстояние: 289,82 m
- Диафрагма: 2,8
- Светочувствительность: 100
- Фокусное расстояние: 50,0 mm (35 mm equivalent: 487,7 mm)
- Полный EXIF
- Adobe
- ColorTransform: YCbCr
- Composite
- Aperture: 2,8
- CircleOfConfusion: 0,003 mm
- FOV: 4,0 deg
- FocalLength35efl: 50,0 mm (35 mm equivalent: 487,7 mm)
- HyperfocalDistance: 289,82 m
- ScaleFactor35efl: 9,8
- ShutterSpeed: 1/125
- ExifIFD
- ApertureValue: 2,8
- ColorSpace: sRGB
- CreateDate: 2009:03:13 13:06:28
- CustomRendered: Normal
- DateTimeOriginal: 2009:03:13 13:06:28
- ExifImageHeight: 720
- ExifImageWidth: 454
- ExposureCompensation: 0
- ExposureMode: Auto
- ExposureProgram: Aperture-priority AE
- ExposureTime: 1/125
- FNumber: 2,8
- Flash: Off
- FocalLength: 50,0 mm
- ISO: 100
- MaxApertureValue: 1,8
- MeteringMode: Multi-segment
- SceneCaptureType: Standard
- ShutterSpeedValue: 1/125
- WhiteBalance: Auto
- ICC-header
- ICC-meas
- ICC-view
- IFD0
- Artist: Ivan (HiV) Tsyrkunovich
- Make: Canon
- Model: Canon EOS 450D
- ModifyDate: 2009:03:19 08:42:05
- Orientation: Horizontal (normal)
- IFD1
- IPTC
- By-line: Ivan (HiV) Tsyrkunovich
- XMP-aux
- Firmware: 1.0.9
- FlashCompensation: 0
- ImageNumber: 0
- Lens: EF50mm f/1.8 II
- LensInfo: 50/1 50/1 0/0 0/0
- SerialNumber: 980397874
- XMP-crs
- AlreadyApplied: True
- BlueHue: -69
- BlueSaturation: +12
- Brightness: +64
- CameraProfile: ACR 2.4
- ChromaticAberrationB: 0
- ChromaticAberrationR: 0
- Clarity: +20
- ColorNoiseReduction: 25
- Contrast: +54
- ConvertToGrayscale: False
- CropAngle: 0
- CropBottom: 1
- CropHeight: 2151
- CropLeft: 0.201439
- CropRight: 1
- CropTop: 0.244604
- CropUnit: 0
- CropWidth: 3411
- Defringe: 2
- Exposure: 0.00
- FillLight: 0
- GreenHue: -69
- GreenSaturation: +90
- HasCrop: True
- HasSettings: True
- HighlightRecovery: 10
- HueAdjustmentAqua: 0
- HueAdjustmentBlue: 0
- HueAdjustmentGreen: -1
- HueAdjustmentMagenta: +17
- HueAdjustmentOrange: +15
- HueAdjustmentPurple: 0
- HueAdjustmentRed: +33
- HueAdjustmentYellow: -2
- LuminanceAdjustmentAqua: 0
- LuminanceAdjustmentBlue: 0
- LuminanceAdjustmentGreen: 0
- LuminanceAdjustmentMagenta: 0
- LuminanceAdjustmentOrange: 0
- LuminanceAdjustmentPurple: 0
- LuminanceAdjustmentRed: 0
- LuminanceAdjustmentYellow: +38
- LuminanceSmoothing: 0
- ParametricDarks: 0
- ParametricHighlightSplit: 75
- ParametricHighlights: 0
- ParametricLights: -2
- ParametricMidtoneSplit: 50
- ParametricShadowSplit: 25
- ParametricShadows: 0
- PostCropVignetteAmount: 0
- RedHue: +14
- RedSaturation: +10
- Saturation: -88
- SaturationAdjustmentAqua: 0
- SaturationAdjustmentBlue: 0
- SaturationAdjustmentGreen: 0
- SaturationAdjustmentMagenta: 0
- SaturationAdjustmentOrange: 0
- SaturationAdjustmentPurple: 0
- SaturationAdjustmentRed: 0
- SaturationAdjustmentYellow: -10
- ShadowTint: -52
- Shadows: 5
- SharpenDetail: 25
- SharpenEdgeMasking: 0
- SharpenRadius: +1.0
- Sharpness: 25
- SplitToningBalance: +14
- SplitToningHighlightHue: 34
- SplitToningHighlightSaturation: 6
- SplitToningShadowHue: 30
- SplitToningShadowSaturation: 15
- Temperature: 7400
- Tint: -35
- ToneCurve: 0, 0, 255, 255
- ToneCurveName: Linear
- Version: 5.3
- Vibrance: +81
- VignetteAmount: -100
- VignetteMidpoint: 42
- WhiteBalance: Custom
- XMP-dc
- Creator: Ivan (HiV) Tsyrkunovich
- Format: image/jpeg
- XMP-exif
- DateTimeDigitized: 2009:03:13 13:06:28.03+02:00
- DateTimeOriginal: 2009:03:13 13:06:28.03+02:00
- FlashFired: False
- FlashFunction: False
- FlashMode: Off
- FlashRedEyeMode: False
- FlashReturn: No return detection
- XMP-iptcCore
- CreatorContactInfoCiAdrCity: Grodno
- CreatorContactInfoCiAdrCtry: Belarus
- CreatorContactInfoCiTelWork: +375298800753
- CreatorContactInfoCiUrlWork: http://hiv.photoclub.by
- XMP-tiff
- ImageHeight: 3411
- ImageWidth: 2151
- XMP-xmp
- CreateDate: 2009:03:19 08:42:05+02:00
- ModifyDate: 2009:03:19 08:42:05+02:00
- XMP-xmpMM