- Раздел: Другое, разное
- Дата съёмки: 30.04.2009 14:39
- Дата загрузки фото: 11.06.2009 14:59
- Оригинальная фотография: 480 x 720 (196 Кб)
- Технические характеристики:
- Фотоаппарат: Canon EOS 450D
- Выдержка: 1/320
- Гиперфокальное расстояние: 1163,77 m
- Диафрагма: 5,0
- Светочувствительность: 100
- Фокусное расстояние: 135,0 mm (35 mm equivalent: 1295,1 mm)
- Полный EXIF
- Adobe
- ColorTransform: YCbCr
- Composite
- Aperture: 5,0
- CircleOfConfusion: 0,003 mm
- FOV: 1,0 deg
- FocalLength35efl: 135,0 mm (35 mm equivalent: 1295,1 mm)
- HyperfocalDistance: 1163,77 m
- ScaleFactor35efl: 9,6
- ShutterSpeed: 1/320
- ExifIFD
- ApertureValue: 5,0
- ColorSpace: sRGB
- CreateDate: 2009:04:30 14:39:51
- CustomRendered: Normal
- DateTimeOriginal: 2009:04:30 14:39:51
- ExifImageHeight: 720
- ExifImageWidth: 480
- ExposureCompensation: 0
- ExposureMode: Auto
- ExposureProgram: Aperture-priority AE
- ExposureTime: 1/320
- FNumber: 5,0
- Flash: Off
- FocalLength: 135,0 mm
- ISO: 100
- MaxApertureValue: 5,2
- MeteringMode: Multi-segment
- SceneCaptureType: Standard
- ShutterSpeedValue: 1/320
- WhiteBalance: Auto
- ICC-header
- ICC-meas
- ICC-view
- IFD0
- Make: Canon
- Model: Canon EOS 450D
- ModifyDate: 2009:06:11 14:01:21
- Orientation: Horizontal (normal)
- IFD1
- IPTC
- XMP-aux
- Firmware: 1.0.9
- FlashCompensation: 0
- ImageNumber: 0
- Lens: EF-S55-250mm f/4-5.6 IS
- LensInfo: 55/1 250/1 0/0 0/0
- SerialNumber: 980397874
- XMP-crs
- AlreadyApplied: True
- BlueHue: 0
- BlueSaturation: 0
- Brightness: +43
- CameraProfile: ACR 4.4
- ChromaticAberrationB: 0
- ChromaticAberrationR: 0
- Clarity: +65
- ColorNoiseReduction: 25
- Contrast: +89
- ConvertToGrayscale: True
- Defringe: 0
- Exposure: +0.67
- FillLight: 0
- GrayMixerAqua: -19
- GrayMixerBlue: +11
- GrayMixerGreen: -27
- GrayMixerMagenta: +7
- GrayMixerOrange: -19
- GrayMixerPurple: +18
- GrayMixerRed: -29
- GrayMixerYellow: +10
- GreenHue: 0
- GreenSaturation: 0
- HasCrop: False
- HasSettings: True
- HighlightRecovery: 85
- LuminanceSmoothing: 0
- ParametricDarks: -43
- ParametricHighlightSplit: 75
- ParametricHighlights: 0
- ParametricLights: +21
- ParametricMidtoneSplit: 50
- ParametricShadowSplit: 25
- ParametricShadows: +40
- PostCropVignetteAmount: 0
- RedHue: 0
- RedSaturation: 0
- ShadowTint: 0
- Shadows: 2
- SharpenDetail: 100
- SharpenEdgeMasking: 31
- SharpenRadius: +1.0
- Sharpness: 100
- SplitToningBalance: 0
- SplitToningHighlightHue: 215
- SplitToningHighlightSaturation: 0
- SplitToningShadowHue: 216
- SplitToningShadowSaturation: 0
- Temperature: 4850
- Tint: 0
- ToneCurve: 0, 0, 255, 255
- ToneCurveName: Linear
- Version: 5.3
- VignetteAmount: -100
- VignetteMidpoint: 6
- XMP-dc
- XMP-exif
- DateTimeDigitized: 2009:04:30 14:39:51.03+03:00
- DateTimeOriginal: 2009:04:30 14:39:51.03+03:00
- FlashFired: False
- FlashFunction: False
- FlashMode: Off
- FlashRedEyeMode: False
- FlashReturn: No return detection
- XMP-tiff
- ImageHeight: 4272
- ImageWidth: 2848
- XMP-xmp
- CreateDate: 2009:04:30 14:39:51.03+03:00
- ModifyDate: 2009:06:11 14:01:21+03:00
- XMP-xmpMM